BEGIN:VCALENDAR
VERSION:2.0
PRODID:-//Geauga News - ECPv6.15.20//NONSGML v1.0//EN
CALSCALE:GREGORIAN
METHOD:PUBLISH
X-ORIGINAL-URL:https://geauganews.com
X-WR-CALDESC:Events for Geauga News
REFRESH-INTERVAL;VALUE=DURATION:PT1H
X-Robots-Tag:noindex
X-PUBLISHED-TTL:PT1H
BEGIN:VTIMEZONE
TZID:America/New_York
BEGIN:DAYLIGHT
TZOFFSETFROM:-0500
TZOFFSETTO:-0400
TZNAME:EDT
DTSTART:20250309T070000
END:DAYLIGHT
BEGIN:STANDARD
TZOFFSETFROM:-0400
TZOFFSETTO:-0500
TZNAME:EST
DTSTART:20251102T060000
END:STANDARD
BEGIN:DAYLIGHT
TZOFFSETFROM:-0500
TZOFFSETTO:-0400
TZNAME:EDT
DTSTART:20260308T070000
END:DAYLIGHT
BEGIN:STANDARD
TZOFFSETFROM:-0400
TZOFFSETTO:-0500
TZNAME:EST
DTSTART:20261101T060000
END:STANDARD
BEGIN:DAYLIGHT
TZOFFSETFROM:-0500
TZOFFSETTO:-0400
TZNAME:EDT
DTSTART:20270314T070000
END:DAYLIGHT
BEGIN:STANDARD
TZOFFSETFROM:-0400
TZOFFSETTO:-0500
TZNAME:EST
DTSTART:20271107T060000
END:STANDARD
END:VTIMEZONE
BEGIN:VEVENT
DTSTART;TZID=America/New_York:20260124T110000
DTEND;TZID=America/New_York:20260124T140000
DTSTAMP:20260422T203123
CREATED:20260120T193518Z
LAST-MODIFIED:20260120T193518Z
UID:10002673-1769252400-1769263200@geauganews.com
SUMMARY:GEAUGA PARK DISTRICT JOB FAIR
DESCRIPTION:If you’ve ever wished you could spend your workday outdoors\, helping others enjoy Nature\, or building hands-on skills that last a lifetime\, Geauga Park District invites you to check out its upcoming Job Fair on Saturday\, January 24\, from 11 AM to 2 PM at The West Woods Nature Center. \n  \nThis friendly drop-in event is a chance for seasonal job seekers to learn how they can join the Geauga Park District team and meet staff from a variety of departments that need seasonal help. Whether you’re a student looking for summer work\, someone exploring a career change\, or simply looking to supplement your income\, this job fair may be able to help you find your fit. \n  \nGeauga Park District’s seasonal positions typically span multiple areas\, including park operations\, maintenance\, natural resource management\, education and visitor services. \n  \n“Working for the Park District is more than just a job. It’s a chance to be part of something bigger\,” said Christine Cycyk\, human resources manager. “Our seasonal employees help maintain parks\, assist visitors and support programs that encourage people of all ages to get outdoors and connect with Nature.” \n  \nJob fair attendees will be able to learn about current seasonal and part-time openings\, meet staff they’d be working with and talk directly with them about day-to-day responsibilities\, find out what skills are helpful to bring (and which ones you’ll learn on the job)\, and either apply onsite or get tips on the application and hiring process. \n  \nThose who cannot attend can also still explore opportunities and apply online at www.geaugaparkdistrict.org under About GPD\, then Careers. Additional positions for this summer will also be posted as they become available. \n  \nFor more on Geauga Park District offerings\, please call 440-286-9516 between 10 a.m. and 4 p.m. or visit Geauga Park District online via www.geaugaparkdistrict.org\, Facebook\, X\, Instagram or YouTube. \n\n 
URL:https://geauganews.com/local-event/geauga-park-district-job-fair/
LOCATION:The West Woods\, 9465 Kinsman Road (Route 87)\, Russell Township\, OH\, 44072\, United States
ORGANIZER;CN="Geauga Park District":MAILTO:info@gpd.com
END:VEVENT
END:VCALENDAR