BEGIN:VCALENDAR
VERSION:2.0
PRODID:-//Geauga News - ECPv6.15.20//NONSGML v1.0//EN
CALSCALE:GREGORIAN
METHOD:PUBLISH
X-ORIGINAL-URL:https://geauganews.com
X-WR-CALDESC:Events for Geauga News
REFRESH-INTERVAL;VALUE=DURATION:PT1H
X-Robots-Tag:noindex
X-PUBLISHED-TTL:PT1H
BEGIN:VTIMEZONE
TZID:America/New_York
BEGIN:DAYLIGHT
TZOFFSETFROM:-0500
TZOFFSETTO:-0400
TZNAME:EDT
DTSTART:20240310T070000
END:DAYLIGHT
BEGIN:STANDARD
TZOFFSETFROM:-0400
TZOFFSETTO:-0500
TZNAME:EST
DTSTART:20241103T060000
END:STANDARD
BEGIN:DAYLIGHT
TZOFFSETFROM:-0500
TZOFFSETTO:-0400
TZNAME:EDT
DTSTART:20250309T070000
END:DAYLIGHT
BEGIN:STANDARD
TZOFFSETFROM:-0400
TZOFFSETTO:-0500
TZNAME:EST
DTSTART:20251102T060000
END:STANDARD
BEGIN:DAYLIGHT
TZOFFSETFROM:-0500
TZOFFSETTO:-0400
TZNAME:EDT
DTSTART:20260308T070000
END:DAYLIGHT
BEGIN:STANDARD
TZOFFSETFROM:-0400
TZOFFSETTO:-0500
TZNAME:EST
DTSTART:20261101T060000
END:STANDARD
END:VTIMEZONE
BEGIN:VEVENT
DTSTART;TZID=America/New_York:20250111T083000
DTEND;TZID=America/New_York:20250111T163000
DTSTAMP:20260425T125754
CREATED:20250114T234613Z
LAST-MODIFIED:20250114T234613Z
UID:10002127-1736584200-1736613000@geauganews.com
SUMMARY:Backyard Maple Syrup and Maple Confections workshop
DESCRIPTION:Have you ever wanted to make maple syrup? Have you ever made maple candy or maple cream? Learn hands-on from the experts!\nJoin us for a day of in person learning about the sweet craft of making maple syrup and delightful maple confections. \nRegistration Deadline: December 18th\, 2024\nRegister now: https://www.mpneoh.com/workshop2025
URL:https://geauganews.com/local-event/backyard-maple-syrup-and-maple-confections-workshop/
LOCATION:Sugar Valley Maple Farm\, Chipmunk Lane 15755\, Middlefield\, Ohio\, 44062\, United States
CATEGORIES:Special: Maple Sugaring
ATTACH;FMTTYPE=image/png:https://geauganews.com/wp-content/uploads/2024/12/bucket-candy.png
ORGANIZER;CN="Maple Producers of NE Ohio":MAILTO:matthias.a.lee@gmail.com
GEO:41.440689;-81.097278
X-APPLE-STRUCTURED-LOCATION;VALUE=URI;X-ADDRESS=Sugar Valley Maple Farm Chipmunk Lane 15755 Middlefield Ohio 44062 United States;X-APPLE-RADIUS=500;X-TITLE=Chipmunk Lane 15755:geo:-81.097278,41.440689
END:VEVENT
END:VCALENDAR