BEGIN:VCALENDAR
VERSION:2.0
PRODID:-//Geauga News - ECPv6.15.20//NONSGML v1.0//EN
CALSCALE:GREGORIAN
METHOD:PUBLISH
X-ORIGINAL-URL:https://geauganews.com
X-WR-CALDESC:Events for Geauga News
REFRESH-INTERVAL;VALUE=DURATION:PT1H
X-Robots-Tag:noindex
X-PUBLISHED-TTL:PT1H
BEGIN:VTIMEZONE
TZID:America/New_York
BEGIN:DAYLIGHT
TZOFFSETFROM:-0500
TZOFFSETTO:-0400
TZNAME:EDT
DTSTART:20130310T070000
END:DAYLIGHT
BEGIN:STANDARD
TZOFFSETFROM:-0400
TZOFFSETTO:-0500
TZNAME:EST
DTSTART:20131103T060000
END:STANDARD
BEGIN:DAYLIGHT
TZOFFSETFROM:-0500
TZOFFSETTO:-0400
TZNAME:EDT
DTSTART:20140309T070000
END:DAYLIGHT
BEGIN:STANDARD
TZOFFSETFROM:-0400
TZOFFSETTO:-0500
TZNAME:EST
DTSTART:20141102T060000
END:STANDARD
BEGIN:DAYLIGHT
TZOFFSETFROM:-0500
TZOFFSETTO:-0400
TZNAME:EDT
DTSTART:20150308T070000
END:DAYLIGHT
BEGIN:STANDARD
TZOFFSETFROM:-0400
TZOFFSETTO:-0500
TZNAME:EST
DTSTART:20151101T060000
END:STANDARD
END:VTIMEZONE
BEGIN:VEVENT
DTSTART;TZID=America/New_York:20141011T100000
DTEND;TZID=America/New_York:20141011T150000
DTSTAMP:20260422T171142
CREATED:20141003T184957Z
LAST-MODIFIED:20141003T184957Z
UID:10000549-1413021600-1413039600@geauganews.com
SUMMARY:Friends of WomenSafe Tickled Pink Arts & Craft Show
DESCRIPTION:Fall is in the air and that means that the holiday season can’t be far behind! Get a jump on your holiday gift shopping at the Friends of WomenSafe Tickled Pink Arts & Craft Show. For the low admission price of $1.00 (children under 12 free) on Saturday\, October 11\, 2014\, shoppers can choose from a large variety of merchandise including one-of-a-kind jewelry creations\, clothing\, candy\, purses\, cosmetics\, specialty soaps\, all-natural skin care products\, candles and much\, much more. You’ll have the chance to win great items at the Chinese auction or a fabulous vacation from the Cruise Raffle! \nShopping hours are from 10:00 a.m. to 3:00 p.m. at the Kent State University Geauga Campus\, 14111 Claridon-Troy Road in Burton. \nAlthough space is limited\, there is still room available for vendors. Call Gail at #440-567-8213 for more information. \nProceeds from this event go to support the important work of WomenSafe which has been serving families throughout Northeast Ohio for over 30 years. Friends of WomenSafe\, a 501(c)3 non-profit corporation with the sole mission of generating unrestricted funds for WomenSafe\, is proud to host this exciting sale. \nFind out more about WomenSafe and the activities hosted by the Friends of WomenSafe by clicking HERE.
URL:https://geauganews.com/local-event/friends-of-womensafe-tickled-pink-arts-craft-show/
LOCATION:Kent State Geauga Campus\, 14111 Claridon Troy Rd\, Burton\, 44021\, United States
END:VEVENT
END:VCALENDAR