BEGIN:VCALENDAR
VERSION:2.0
PRODID:-//Geauga News - ECPv6.15.20//NONSGML v1.0//EN
CALSCALE:GREGORIAN
METHOD:PUBLISH
X-ORIGINAL-URL:https://geauganews.com
X-WR-CALDESC:Events for Geauga News
REFRESH-INTERVAL;VALUE=DURATION:PT1H
X-Robots-Tag:noindex
X-PUBLISHED-TTL:PT1H
BEGIN:VTIMEZONE
TZID:America/New_York
BEGIN:DAYLIGHT
TZOFFSETFROM:-0500
TZOFFSETTO:-0400
TZNAME:EDT
DTSTART:20240310T070000
END:DAYLIGHT
BEGIN:STANDARD
TZOFFSETFROM:-0400
TZOFFSETTO:-0500
TZNAME:EST
DTSTART:20241103T060000
END:STANDARD
BEGIN:DAYLIGHT
TZOFFSETFROM:-0500
TZOFFSETTO:-0400
TZNAME:EDT
DTSTART:20250309T070000
END:DAYLIGHT
BEGIN:STANDARD
TZOFFSETFROM:-0400
TZOFFSETTO:-0500
TZNAME:EST
DTSTART:20251102T060000
END:STANDARD
BEGIN:DAYLIGHT
TZOFFSETFROM:-0500
TZOFFSETTO:-0400
TZNAME:EDT
DTSTART:20260308T070000
END:DAYLIGHT
BEGIN:STANDARD
TZOFFSETFROM:-0400
TZOFFSETTO:-0500
TZNAME:EST
DTSTART:20261101T060000
END:STANDARD
END:VTIMEZONE
BEGIN:VEVENT
DTSTART;TZID=America/New_York:20251214T110000
DTEND;TZID=America/New_York:20251214T140000
DTSTAMP:20260425T100301
CREATED:20251213T164920Z
LAST-MODIFIED:20251214T154901Z
UID:10002665-1765710000-1765720800@geauganews.com
SUMMARY:Tall Oaks Kirtland Santa's Brunch
DESCRIPTION:Get ready to jingle all the way to Tall Oaks Kirtland Santa’s Brunch\, where delicious brunch  and holiday cheer await!
URL:https://geauganews.com/local-event/tall-oaks-kirtland-santas-brunch/
LOCATION:9199 Chillicothe Rd\, 9199 Chillicothe Road\, Kirtland\, OH\, 44094\, United States
ATTACH;FMTTYPE=image/jpeg:https://geauganews.com/wp-content/uploads/2025/12/47b979830b611faf49634f2e68b64645.jpg
GEO:41.6213886;-81.3562678
X-APPLE-STRUCTURED-LOCATION;VALUE=URI;X-ADDRESS=9199 Chillicothe Rd 9199 Chillicothe Road Kirtland OH 44094 United States;X-APPLE-RADIUS=500;X-TITLE=9199 Chillicothe Road:geo:-81.3562678,41.6213886
END:VEVENT
BEGIN:VEVENT
DTSTART;TZID=America/New_York:20251214T110000
DTEND;TZID=America/New_York:20251214T140000
DTSTAMP:20260425T100301
CREATED:20251213T164922Z
LAST-MODIFIED:20251214T154901Z
UID:10002667-1765710000-1765720800@geauganews.com
SUMMARY:Tall Oaks Sheffield Santa's Brunch
DESCRIPTION:Get ready to jingle all the way to Tall Oaks Sheffield Santa’s Brunch\, where delicious brunch  and holiday cheer await!
URL:https://geauganews.com/local-event/tall-oaks-sheffield-santas-brunch/
LOCATION:1451 Lake Breeze Rd\, 1451 Lake Breeze Road\, Sheffield\, OH\, 44054\, United States
ATTACH;FMTTYPE=image/jpeg:https://geauganews.com/wp-content/uploads/2025/12/94db6e123f2cb536e0e901f5a8c69455.jpg
GEO:41.4715428;-82.1125383
X-APPLE-STRUCTURED-LOCATION;VALUE=URI;X-ADDRESS=1451 Lake Breeze Rd 1451 Lake Breeze Road Sheffield OH 44054 United States;X-APPLE-RADIUS=500;X-TITLE=1451 Lake Breeze Road:geo:-82.1125383,41.4715428
END:VEVENT
END:VCALENDAR