BEGIN:VCALENDAR
VERSION:2.0
PRODID:-//Geauga News - ECPv6.15.20//NONSGML v1.0//EN
CALSCALE:GREGORIAN
METHOD:PUBLISH
X-ORIGINAL-URL:https://geauganews.com
X-WR-CALDESC:Events for Geauga News
REFRESH-INTERVAL;VALUE=DURATION:PT1H
X-Robots-Tag:noindex
X-PUBLISHED-TTL:PT1H
BEGIN:VTIMEZONE
TZID:America/New_York
BEGIN:DAYLIGHT
TZOFFSETFROM:-0500
TZOFFSETTO:-0400
TZNAME:EDT
DTSTART:20250309T070000
END:DAYLIGHT
BEGIN:STANDARD
TZOFFSETFROM:-0400
TZOFFSETTO:-0500
TZNAME:EST
DTSTART:20251102T060000
END:STANDARD
BEGIN:DAYLIGHT
TZOFFSETFROM:-0500
TZOFFSETTO:-0400
TZNAME:EDT
DTSTART:20260308T070000
END:DAYLIGHT
BEGIN:STANDARD
TZOFFSETFROM:-0400
TZOFFSETTO:-0500
TZNAME:EST
DTSTART:20261101T060000
END:STANDARD
BEGIN:DAYLIGHT
TZOFFSETFROM:-0500
TZOFFSETTO:-0400
TZNAME:EDT
DTSTART:20270314T070000
END:DAYLIGHT
BEGIN:STANDARD
TZOFFSETFROM:-0400
TZOFFSETTO:-0500
TZNAME:EST
DTSTART:20271107T060000
END:STANDARD
END:VTIMEZONE
BEGIN:VEVENT
DTSTART;TZID=America/New_York:20260508T090000
DTEND;TZID=America/New_York:20260509T160000
DTSTAMP:20260421T181945
CREATED:20260417T000449Z
LAST-MODIFIED:20260417T000449Z
UID:10002681-1778230800-1778342400@geauganews.com
SUMMARY:Open House - Plant Sale - Barn & Antique Sale
DESCRIPTION:Stop by the nursery May 8th & 9th for our Open House featuring Cacti & Succulent Demonstrations\, Pollinator & Native Plant Selections and our Barn & Antique Sale! We will have lots to see and experience so make sure to mark your calendar! \nWe have thousands of plants including perennials\, flowering shrubs\, berry bushes\, native plants\, hostas\, evergreens\, trees\, cacti\, succulents and grasses! \nWe have an extensive cacti and succulent collection including large Jade and Agave plants! We will be featuring a cacti and succulent demonstrations throughout the day.\nWe carry native plants that attract our local pollinators as well as birds and butterflies! We will have a hand picked selection on display for easy shopping! \nDon’t care about plants? We will also be having our Barn & Antique Sale these dates! Shop from hand selected antiques\, collectibles\, furniture and a variety of other interesting or gently used items! See less
URL:https://geauganews.com/local-event/open-house-plant-sale-barn-antique-sale/
LOCATION:13040 Chillicothe Road\, 13040 Chillicothe Road\, Chesterland\, 44026
ATTACH;FMTTYPE=image/png:https://geauganews.com/wp-content/uploads/2026/04/2026FacebookEventBanner-1.png
ORGANIZER;CN="Landscape Creations Nursery":MAILTO:info@landscapecreationsnursery.com
GEO:41.5136328;-81.340672
X-APPLE-STRUCTURED-LOCATION;VALUE=URI;X-ADDRESS=13040 Chillicothe Road 13040 Chillicothe Road Chesterland 44026;X-APPLE-RADIUS=500;X-TITLE=13040 Chillicothe Road:geo:-81.340672,41.5136328
END:VEVENT
BEGIN:VEVENT
DTSTART;TZID=America/New_York:20260510T110000
DTEND;TZID=America/New_York:20260510T140000
DTSTAMP:20260421T181945
CREATED:20260410T050356Z
LAST-MODIFIED:20260421T060353Z
UID:10002679-1778410800-1778421600@geauganews.com
SUMMARY:Tall Oaks Kirtland Mother's Day Brunch
DESCRIPTION:Tall Oaks Event Complex welcomes you for a beautiful\, delicious & unlimited brunch buffet on Mother’s Day!\n\n\nDelicious & Unlimited Brunch Buffet will be Accompanied by: \n\nChef-Manned Stations\nBuffet Stations\nKids Buffet\nDessert Display\nBYOB\nComplimentary Tea & Coffee Bar + Non-Alcoholic Beverages\nState-of-the-Art Themed Photo Booth with Props and Instant Digital Download\nBeautiful Indoor Amenities & Outdoor Fire Features\nLong-Stemmed Rose for Each Mother\n\n \nTerms & Conditions: \nTables will be assigned\, seating up to 10. Please try to purchase tickets with your group to ensure seating together. If less than 10 tickets are purchased together\, you may be seated with another party. \n \nTickets must be purchased at least 48 hours before the event. No tickets will be sold at the door. Tickets are Non-Refundable. \n \nNo firearms\, fighting or foul language permitted at Tall Oaks
URL:https://geauganews.com/local-event/tall-oaks-kirtland-mothers-day-brunch/
LOCATION:Tall Oaks Event Complex\, 9199 Chillicothe Road\, Kirtland\, OH\, 44094\, United States
ATTACH;FMTTYPE=image/jpeg:https://geauganews.com/wp-content/uploads/2026/04/768c832046500abb892a4170f8a5f102.jpg
GEO:41.621392;-81.3562263
X-APPLE-STRUCTURED-LOCATION;VALUE=URI;X-ADDRESS=Tall Oaks Event Complex 9199 Chillicothe Road Kirtland OH 44094 United States;X-APPLE-RADIUS=500;X-TITLE=9199 Chillicothe Road:geo:-81.3562263,41.621392
END:VEVENT
BEGIN:VEVENT
DTSTART;TZID=America/New_York:20260510T110000
DTEND;TZID=America/New_York:20260510T140000
DTSTAMP:20260421T181945
CREATED:20260410T050357Z
LAST-MODIFIED:20260421T060354Z
UID:10002680-1778410800-1778421600@geauganews.com
SUMMARY:Tall Oaks Sheffield Mother's Day Brunch
DESCRIPTION:Tall Oaks Event Complex welcomes you for a beautiful\, delicious & unlimited brunch buffet on Mother’s Day!\n\n\nDelicious & Unlimited Brunch Buffet will be Accompanied by: \n\nChef-Manned Stations\nBuffet Stations\nKids Buffet\nDessert Display\nBYOB\nComplimentary Tea & Coffee Bar + Non-Alcoholic Beverages\nState-of-the-Art Themed Photo Booth with Props and Instant Digital Download\nBeautiful Indoor Amenities & Outdoor Fire Features\nLong-Stemmed Rose for Each Mother\n\n \nTerms & Conditions: \nTables will be assigned\, seating up to 10. Please try to purchase tickets with your group to ensure seating together. If less than 10 tickets are purchased together\, you may be seated with another party. \n \nTickets must be purchased at least 48 hours before the event. No tickets will be sold at the door. Tickets are Non-Refundable. \n \nNo firearms\, fighting or foul language permitted at Tall Oaks
URL:https://geauganews.com/local-event/tall-oaks-sheffield-mothers-day-brunch/
LOCATION:Tall Oaks West\, 1451 Lake Breeze Road\, Sheffield\, OH\, 44054\, United States
ATTACH;FMTTYPE=image/jpeg:https://geauganews.com/wp-content/uploads/2026/04/e01dfae820b3a01ef8fb5bc360e2691d.jpg
GEO:41.4715428;-82.1125383
X-APPLE-STRUCTURED-LOCATION;VALUE=URI;X-ADDRESS=Tall Oaks West 1451 Lake Breeze Road Sheffield OH 44054 United States;X-APPLE-RADIUS=500;X-TITLE=1451 Lake Breeze Road:geo:-82.1125383,41.4715428
END:VEVENT
END:VCALENDAR