BEGIN:VCALENDAR
VERSION:2.0
PRODID:-//Geauga News - ECPv6.15.20//NONSGML v1.0//EN
CALSCALE:GREGORIAN
METHOD:PUBLISH
X-WR-CALNAME:Geauga News
X-ORIGINAL-URL:https://geauganews.com
X-WR-CALDESC:Events for Geauga News
REFRESH-INTERVAL;VALUE=DURATION:PT1H
X-Robots-Tag:noindex
X-PUBLISHED-TTL:PT1H
BEGIN:VTIMEZONE
TZID:America/New_York
BEGIN:DAYLIGHT
TZOFFSETFROM:-0500
TZOFFSETTO:-0400
TZNAME:EDT
DTSTART:20120311T070000
END:DAYLIGHT
BEGIN:STANDARD
TZOFFSETFROM:-0400
TZOFFSETTO:-0500
TZNAME:EST
DTSTART:20121104T060000
END:STANDARD
BEGIN:DAYLIGHT
TZOFFSETFROM:-0500
TZOFFSETTO:-0400
TZNAME:EDT
DTSTART:20130310T070000
END:DAYLIGHT
BEGIN:STANDARD
TZOFFSETFROM:-0400
TZOFFSETTO:-0500
TZNAME:EST
DTSTART:20131103T060000
END:STANDARD
BEGIN:DAYLIGHT
TZOFFSETFROM:-0500
TZOFFSETTO:-0400
TZNAME:EDT
DTSTART:20140309T070000
END:DAYLIGHT
BEGIN:STANDARD
TZOFFSETFROM:-0400
TZOFFSETTO:-0500
TZNAME:EST
DTSTART:20141102T060000
END:STANDARD
END:VTIMEZONE
BEGIN:VEVENT
DTSTART;VALUE=DATE:20130816
DTEND;VALUE=DATE:20130819
DTSTAMP:20260422T060532
CREATED:20130725T131137Z
LAST-MODIFIED:20130725T131137Z
UID:10000091-1376611200-1376870399@geauganews.com
SUMMARY:19th Annual Antique Tractor Show
DESCRIPTION:This year’s show is featuring Ferguson tractors and equipment. The Ferguson Enthusiasts of North America (FENA) will be holding the Ferguson Expo 2013 in conjunction with the show. Members from across North America and as far away as Ireland are expected to attend\, many exhibiting their prized tractors. \nFood is available on the grounds with breakfast being served each morning. Make sure you stop by the Club’s food trailer for a bowl of their famous bean soup. This is the soup recipe that was served at the Ashtabula Antique Engine show during the July 4th weekend. \nClick here for more event information.
URL:https://geauganews.com/local-event/19th-annual-antique-tractor-show/
LOCATION:Antique Tractor Club Grounds\, 1653 Ridge Road\, Vienna\, OH\, United States
END:VEVENT
END:VCALENDAR