BEGIN:VCALENDAR
VERSION:2.0
PRODID:-//Geauga News - ECPv6.15.20//NONSGML v1.0//EN
CALSCALE:GREGORIAN
METHOD:PUBLISH
X-WR-CALNAME:Geauga News
X-ORIGINAL-URL:https://geauganews.com
X-WR-CALDESC:Events for Geauga News
REFRESH-INTERVAL;VALUE=DURATION:PT1H
X-Robots-Tag:noindex
X-PUBLISHED-TTL:PT1H
BEGIN:VTIMEZONE
TZID:America/New_York
BEGIN:DAYLIGHT
TZOFFSETFROM:-0500
TZOFFSETTO:-0400
TZNAME:EDT
DTSTART:20130310T070000
END:DAYLIGHT
BEGIN:STANDARD
TZOFFSETFROM:-0400
TZOFFSETTO:-0500
TZNAME:EST
DTSTART:20131103T060000
END:STANDARD
BEGIN:DAYLIGHT
TZOFFSETFROM:-0500
TZOFFSETTO:-0400
TZNAME:EDT
DTSTART:20140309T070000
END:DAYLIGHT
BEGIN:STANDARD
TZOFFSETFROM:-0400
TZOFFSETTO:-0500
TZNAME:EST
DTSTART:20141102T060000
END:STANDARD
BEGIN:DAYLIGHT
TZOFFSETFROM:-0500
TZOFFSETTO:-0400
TZNAME:EDT
DTSTART:20150308T070000
END:DAYLIGHT
BEGIN:STANDARD
TZOFFSETFROM:-0400
TZOFFSETTO:-0500
TZNAME:EST
DTSTART:20151101T060000
END:STANDARD
END:VTIMEZONE
BEGIN:VEVENT
DTSTART;TZID=America/New_York:20140222T093000
DTEND;TZID=America/New_York:20140222T170000
DTSTAMP:20260421T152825
CREATED:20140120T142005Z
LAST-MODIFIED:20140120T142005Z
UID:10000308-1393061400-1393088400@geauganews.com
SUMMARY:Friends Chess Tournament - Adults
DESCRIPTION:The Friends will hold their annual Chess Tournaments on all Saturdays in February at the Library. \nWeek 1: February 1st: grades K – 5\, from 9:30 am to 1:00 pm \nWeek 2: February 8th: grades 6 – 8\, from 9:30 am to 1:00 pm \nWeek 3: February 15th: grades 9 – 12\, from 9:30 am to 5:00 pm \nWeek 4: February 22th: adults\, from 9:30 am to 5:00 pm. \nEnter through the back door of the library and please be ready at 9:30 am so the tournaments can start promptly. \nThis tournament is Swiss-type\, providing each player with four games. Three certificates will be awarded in each division. Prior tournament competition is not necessary. Players should bring their own standard chess sets and a snack or lunch and beverage. Players are expected to complete all four of their games. Players must register in advance. There is no entrance fee required. \nFor registration and information call 440.834.4466.
URL:https://geauganews.com/local-event/friends-chess-tournament-adults/
LOCATION:Burton  Public Library\, Burton 
END:VEVENT
BEGIN:VEVENT
DTSTART;TZID=America/New_York:20140215T093000
DTEND;TZID=America/New_York:20140215T170000
DTSTAMP:20260421T152825
CREATED:20140120T141741Z
LAST-MODIFIED:20140120T141741Z
UID:10000307-1392456600-1392483600@geauganews.com
SUMMARY:Friends Chess Tournament - Grades 9-12
DESCRIPTION:The Friends will hold their annual Chess Tournaments on all Saturdays in February at the Library. \nWeek 1: February 1st: grades K – 5\, from 9:30 am to 1:00 pm \nWeek 2: February 8th: grades 6 – 8\, from 9:30 am to 1:00 pm \nWeek 3: February 15th: grades 9 – 12\, from 9:30 am to 5:00 pm \nWeek 4: February 22th: adults\, from 9:30 am to 5:00 pm. \nEnter through the back door of the library and please be ready at 9:30 am so the tournaments can start promptly. \nThis tournament is Swiss-type\, providing each player with four games. Three certificates will be awarded in each division. Prior tournament competition is not necessary. Players should bring their own standard chess sets and a snack or lunch and beverage. Players are expected to complete all four of their games. Players must register in advance. There is no entrance fee required. \nFor registration and information call 440.834.4466.
URL:https://geauganews.com/local-event/friends-chess-tournament-grades-9-12/
LOCATION:Burton  Public Library\, Burton 
END:VEVENT
BEGIN:VEVENT
DTSTART;TZID=America/New_York:20140208T093000
DTEND;TZID=America/New_York:20140208T130000
DTSTAMP:20260421T152825
CREATED:20140120T141514Z
LAST-MODIFIED:20140120T141514Z
UID:10000306-1391851800-1391864400@geauganews.com
SUMMARY:Friends Chess Tournaments - Grades 6-8
DESCRIPTION:The Friends will hold their annual Chess Tournaments on all Saturdays in February at the Library. \nWeek 1: February 1st: grades K – 5\, from 9:30 am to 1:00 pm \nWeek 2: February 8th: grades 6 – 8\, from 9:30 am to 1:00 pm \nWeek 3: February 15th: grades 9 – 12\, from 9:30 am to 5:00 pm \nWeek 4: February 22th: adults\, from 9:30 am to 5:00 pm. \nEnter through the back door of the library and please be ready at 9:30 am so the tournaments can start promptly. \nThis tournament is Swiss-type\, providing each player with four games. Three certificates will be awarded in each division. Prior tournament competition is not necessary. Players should bring their own standard chess sets and a snack or lunch and beverage. Players are expected to complete all four of their games. Players must register in advance. There is no entrance fee required. \nFor registration and information call 440.834.4466.
URL:https://geauganews.com/local-event/friends-chess-tournaments-grades-6-8/
LOCATION:Burton  Public Library\, Burton 
END:VEVENT
END:VCALENDAR