BEGIN:VCALENDAR
VERSION:2.0
PRODID:-//Geauga News - ECPv6.15.20//NONSGML v1.0//EN
CALSCALE:GREGORIAN
METHOD:PUBLISH
X-ORIGINAL-URL:https://geauganews.com
X-WR-CALDESC:Events for Geauga News
REFRESH-INTERVAL;VALUE=DURATION:PT1H
X-Robots-Tag:noindex
X-PUBLISHED-TTL:PT1H
BEGIN:VTIMEZONE
TZID:America/New_York
BEGIN:DAYLIGHT
TZOFFSETFROM:-0500
TZOFFSETTO:-0400
TZNAME:EDT
DTSTART:20120311T070000
END:DAYLIGHT
BEGIN:STANDARD
TZOFFSETFROM:-0400
TZOFFSETTO:-0500
TZNAME:EST
DTSTART:20121104T060000
END:STANDARD
BEGIN:DAYLIGHT
TZOFFSETFROM:-0500
TZOFFSETTO:-0400
TZNAME:EDT
DTSTART:20130310T070000
END:DAYLIGHT
BEGIN:STANDARD
TZOFFSETFROM:-0400
TZOFFSETTO:-0500
TZNAME:EST
DTSTART:20131103T060000
END:STANDARD
BEGIN:DAYLIGHT
TZOFFSETFROM:-0500
TZOFFSETTO:-0400
TZNAME:EDT
DTSTART:20140309T070000
END:DAYLIGHT
BEGIN:STANDARD
TZOFFSETFROM:-0400
TZOFFSETTO:-0500
TZNAME:EST
DTSTART:20141102T060000
END:STANDARD
BEGIN:DAYLIGHT
TZOFFSETFROM:-0500
TZOFFSETTO:-0400
TZNAME:EDT
DTSTART:20150308T070000
END:DAYLIGHT
BEGIN:STANDARD
TZOFFSETFROM:-0400
TZOFFSETTO:-0500
TZNAME:EST
DTSTART:20151101T060000
END:STANDARD
END:VTIMEZONE
BEGIN:VEVENT
DTSTART;TZID=America/New_York:20140412T100000
DTEND;TZID=America/New_York:20140412T130000
DTSTAMP:20260420T194816
CREATED:20131022T151032Z
LAST-MODIFIED:20131022T151032Z
UID:10000213-1397296800-1397307600@geauganews.com
SUMMARY:“Acrylic Floral Painting” - MC Studio
DESCRIPTION:Learn how to paint flowers step by step. We will paint an 11×14 painting. Get your frame ready because you will want to hang up this painting. \nBring a lunch. Great for all levels ages 8 & up. \n$35.00/workshop. $5.00 material fee (for non clay workshops). Clay/firing fee $15.00 (for clay workshops only). \nVisit the website \nmisscarsgarden@me.com
URL:https://geauganews.com/local-event/acrylic-floral-painting-mc-studio/
LOCATION:MC Studio\, 14595 Baird St. (behind the library)\, Burton \, OH\, 44021\, United States
ORGANIZER;CN="Carlene Exline":MAILTO:misscarsgarden@me.com
END:VEVENT
BEGIN:VEVENT
DTSTART;TZID=America/New_York:20140308T100000
DTEND;TZID=America/New_York:20140308T130000
DTSTAMP:20260420T194816
CREATED:20131022T150808Z
LAST-MODIFIED:20131022T150808Z
UID:10000212-1394272800-1394283600@geauganews.com
SUMMARY:“Rainbow Color Wheel” - MC Studio
DESCRIPTION:Study color like you never have before. Learn what works and what doesn’t when mixing and blending colors. Create a keepsake color wheel that you can use as a reference when you are creating with color. \nBring a lunch. Great for all levels ages 8 & up. \n$35.00/workshop. $5.00 material fee (for non clay workshops). Clay/firing fee $15.00 (for clay workshops only). \nVisit the website \nmisscarsgarden@me.com
URL:https://geauganews.com/local-event/rainbow-color-wheel-mc-studio/
ORGANIZER;CN="Carlene Exline":MAILTO:misscarsgarden@me.com
END:VEVENT
BEGIN:VEVENT
DTSTART;TZID=America/New_York:20140208T100000
DTEND;TZID=America/New_York:20140208T130000
DTSTAMP:20260420T194816
CREATED:20131022T150543Z
LAST-MODIFIED:20131022T150543Z
UID:10000211-1391853600-1391864400@geauganews.com
SUMMARY:“Valentine Glass Painting” - MC Studio
DESCRIPTION:Create a beautiful painting on a glass vase using enamel glass paints. A great Valentine gift. \nBring a lunch. Great for all levels ages 8 & up. \n$35.00/workshop. $5.00 material fee (for non clay workshops). Clay/firing fee $15.00 (for clay workshops only). \nVisit the website \nmisscarsgarden@me.com
URL:https://geauganews.com/local-event/valentine-glass-painting-mc-studio/
ORGANIZER;CN="Carlene Exline":MAILTO:misscarsgarden@me.com
END:VEVENT
BEGIN:VEVENT
DTSTART;TZID=America/New_York:20140111T100000
DTEND;TZID=America/New_York:20140111T130000
DTSTAMP:20260420T194816
CREATED:20131022T150326Z
LAST-MODIFIED:20131022T150326Z
UID:10000210-1389434400-1389445200@geauganews.com
SUMMARY:“Winterscape with Oils” - MC Studio
DESCRIPTION:Learn basic oil techniques to paint a winter landscape. You will leave with a really good understanding of oils to jump start your painting passion. \nBring a lunch. Great for all levels ages 8 & up. \n$35.00/workshop. $5.00 material fee (for non clay workshops). Clay/firing fee $15.00 (for clay workshops only). \nVisit the website \nmisscarsgarden@me.com
URL:https://geauganews.com/local-event/winterscape-with-oils-mc-studio/
ORGANIZER;CN="Carlene Exline":MAILTO:misscarsgarden@me.com
END:VEVENT
BEGIN:VEVENT
DTSTART;TZID=America/New_York:20131214T100000
DTEND;TZID=America/New_York:20131214T130000
DTSTAMP:20260420T194816
CREATED:20131022T150044Z
LAST-MODIFIED:20131022T150044Z
UID:10000209-1387015200-1387026000@geauganews.com
SUMMARY:“Family Ornament Workshop”- MC Studio
DESCRIPTION:Create a variety of ornaments with your family. Make memories that will last a life time. \n$35/family of two $10/ additional family members \nBring a lunch. Great for all levels ages 8 & up. \nVisit the website \nmisscarsgarden@me.com
URL:https://geauganews.com/local-event/family-ornament-workshop-mc-studio/
ORGANIZER;CN="Carlene Exline":MAILTO:misscarsgarden@me.com
END:VEVENT
BEGIN:VEVENT
DTSTART;TZID=America/New_York:20131109T100000
DTEND;TZID=America/New_York:20131109T130000
DTSTAMP:20260420T194816
CREATED:20131022T145704Z
LAST-MODIFIED:20131022T150031Z
UID:10000208-1383991200-1384002000@geauganews.com
SUMMARY:“Thanksgiving Centerpiece” - MC Studio
DESCRIPTION:Make a centerpiece out of everyday objects. You will keep all of your holiday guests guessing what it is made out of:) \nBring a lunch. Great for all levels ages 8 & up. \n$35.00/workshop. $5.00 material fee (for non clay workshops). Clay/firing fee $15.00 (for clay workshops only). \nVisit the website \nmisscarsgarden@me.com \n 
URL:https://geauganews.com/local-event/thanksgiving-centerpiece-mc-studio/
LOCATION:MC Art Studio\, 1208 Bell Rd.\, Chagrin Falls\, OH\, 44022\, United States
ORGANIZER;CN="Carlene Exline":MAILTO:misscarsgarden@me.com
END:VEVENT
END:VCALENDAR