BEGIN:VCALENDAR
VERSION:2.0
PRODID:-//Geauga News - ECPv6.15.20//NONSGML v1.0//EN
CALSCALE:GREGORIAN
METHOD:PUBLISH
X-ORIGINAL-URL:https://geauganews.com
X-WR-CALDESC:Events for Geauga News
REFRESH-INTERVAL;VALUE=DURATION:PT1H
X-Robots-Tag:noindex
X-PUBLISHED-TTL:PT1H
BEGIN:VTIMEZONE
TZID:America/New_York
BEGIN:DAYLIGHT
TZOFFSETFROM:-0500
TZOFFSETTO:-0400
TZNAME:EDT
DTSTART:20120311T070000
END:DAYLIGHT
BEGIN:STANDARD
TZOFFSETFROM:-0400
TZOFFSETTO:-0500
TZNAME:EST
DTSTART:20121104T060000
END:STANDARD
BEGIN:DAYLIGHT
TZOFFSETFROM:-0500
TZOFFSETTO:-0400
TZNAME:EDT
DTSTART:20130310T070000
END:DAYLIGHT
BEGIN:STANDARD
TZOFFSETFROM:-0400
TZOFFSETTO:-0500
TZNAME:EST
DTSTART:20131103T060000
END:STANDARD
BEGIN:DAYLIGHT
TZOFFSETFROM:-0500
TZOFFSETTO:-0400
TZNAME:EDT
DTSTART:20140309T070000
END:DAYLIGHT
BEGIN:STANDARD
TZOFFSETFROM:-0400
TZOFFSETTO:-0500
TZNAME:EST
DTSTART:20141102T060000
END:STANDARD
END:VTIMEZONE
BEGIN:VEVENT
DTSTART;TZID=America/New_York:20130810T110000
DTEND;TZID=America/New_York:20130810T160000
DTSTAMP:20260422T103927
CREATED:20130805T185640Z
LAST-MODIFIED:20130805T185640Z
UID:10000097-1376132400-1376150400@geauganews.com
SUMMARY:Chardon Kids Fest
DESCRIPTION:The Chardon Square Association is pleased to announce the return of Chardon Kids Fest. The Chardon Kids Fest is held each year to offer kids of all ages a safe day of fun games and activities. \nThe fourth annual Chardon Kids Fest will take place on Saturday\, August 10\, from 11:00 a.m. to 4:00 p.m. on the Historic Chardon Square. The games and activities include tug-of-war\, dunk tank\, pizza eating contest\, cupcake decorating\, and many more! The best part about this festival is that it is FREE for the kids! \nClick here for more event information.
URL:https://geauganews.com/local-event/chardon-kids-fest/
LOCATION:Chardon Square\, 100 Short Ct St\,\, Chardon\, OH\, 44024\, United States
END:VEVENT
END:VCALENDAR