BEGIN:VCALENDAR
VERSION:2.0
PRODID:-//Geauga News - ECPv6.15.20//NONSGML v1.0//EN
CALSCALE:GREGORIAN
METHOD:PUBLISH
X-WR-CALNAME:Geauga News
X-ORIGINAL-URL:https://geauganews.com
X-WR-CALDESC:Events for Geauga News
REFRESH-INTERVAL;VALUE=DURATION:PT1H
X-Robots-Tag:noindex
X-PUBLISHED-TTL:PT1H
BEGIN:VTIMEZONE
TZID:America/New_York
BEGIN:DAYLIGHT
TZOFFSETFROM:-0500
TZOFFSETTO:-0400
TZNAME:EDT
DTSTART:20120311T070000
END:DAYLIGHT
BEGIN:STANDARD
TZOFFSETFROM:-0400
TZOFFSETTO:-0500
TZNAME:EST
DTSTART:20121104T060000
END:STANDARD
BEGIN:DAYLIGHT
TZOFFSETFROM:-0500
TZOFFSETTO:-0400
TZNAME:EDT
DTSTART:20130310T070000
END:DAYLIGHT
BEGIN:STANDARD
TZOFFSETFROM:-0400
TZOFFSETTO:-0500
TZNAME:EST
DTSTART:20131103T060000
END:STANDARD
BEGIN:DAYLIGHT
TZOFFSETFROM:-0500
TZOFFSETTO:-0400
TZNAME:EDT
DTSTART:20140309T070000
END:DAYLIGHT
BEGIN:STANDARD
TZOFFSETFROM:-0400
TZOFFSETTO:-0500
TZNAME:EST
DTSTART:20141102T060000
END:STANDARD
END:VTIMEZONE
BEGIN:VEVENT
DTSTART;TZID=America/New_York:20131207T200000
DTEND;TZID=America/New_York:20131207T230000
DTSTAMP:20260420T154434
CREATED:20131113T211953Z
LAST-MODIFIED:20131113T211953Z
UID:10000248-1386446400-1386457200@geauganews.com
SUMMARY:Just Jazz at Danny Boy's
DESCRIPTION:
URL:https://geauganews.com/local-event/just-jazz-at-danny-boys/
LOCATION:Danny Boys Chesterland\, 8389 Mayfield Road\, Chesterland
END:VEVENT
BEGIN:VEVENT
DTSTART;TZID=America/New_York:20131130T200000
DTEND;TZID=America/New_York:20131130T230000
DTSTAMP:20260420T154434
CREATED:20131113T211746Z
LAST-MODIFIED:20131113T211746Z
UID:10000247-1385841600-1385852400@geauganews.com
SUMMARY:Steve Jochum at Danny Boys
DESCRIPTION:
URL:https://geauganews.com/local-event/steve-jochum-at-danny-boys-2/
LOCATION:Danny Boys Chesterland\, 8389 Mayfield Road\, Chesterland
END:VEVENT
BEGIN:VEVENT
DTSTART;TZID=America/New_York:20131127T210000
DTEND;TZID=America/New_York:20131128T000000
DTSTAMP:20260420T154434
CREATED:20131113T211517Z
LAST-MODIFIED:20131113T211517Z
UID:10000246-1385586000-1385596800@geauganews.com
SUMMARY:Day Before Thanksgiving Bash
DESCRIPTION:
URL:https://geauganews.com/local-event/day-before-thanksgiving-bash/
LOCATION:Danny Boys Chesterland\, 8389 Mayfield Road\, Chesterland
END:VEVENT
END:VCALENDAR