BEGIN:VCALENDAR
VERSION:2.0
PRODID:-//Geauga News - ECPv6.15.20//NONSGML v1.0//EN
CALSCALE:GREGORIAN
METHOD:PUBLISH
X-ORIGINAL-URL:https://geauganews.com
X-WR-CALDESC:Events for Geauga News
REFRESH-INTERVAL;VALUE=DURATION:PT1H
X-Robots-Tag:noindex
X-PUBLISHED-TTL:PT1H
BEGIN:VTIMEZONE
TZID:UTC
BEGIN:STANDARD
TZOFFSETFROM:+0000
TZOFFSETTO:+0000
TZNAME:UTC
DTSTART:20120101T000000
END:STANDARD
END:VTIMEZONE
BEGIN:VEVENT
DTSTART;TZID=UTC:20131221T113000
DTEND;TZID=UTC:20131221T143000
DTSTAMP:20260421T002738
CREATED:20131216T183245Z
LAST-MODIFIED:20131216T183245Z
UID:10000262-1387625400-1387636200@geauganews.com
SUMMARY:Come Have Brunch with Santa
DESCRIPTION:
URL:https://geauganews.com/local-event/come-have-brunch-with-santa/
LOCATION:Danny Boys Chesterland\, 8389 Mayfield Road\, Chesterland
END:VEVENT
END:VCALENDAR