BEGIN:VCALENDAR
VERSION:2.0
PRODID:-//Geauga News - ECPv6.15.20//NONSGML v1.0//EN
CALSCALE:GREGORIAN
METHOD:PUBLISH
X-WR-CALNAME:Geauga News
X-ORIGINAL-URL:https://geauganews.com
X-WR-CALDESC:Events for Geauga News
REFRESH-INTERVAL;VALUE=DURATION:PT1H
X-Robots-Tag:noindex
X-PUBLISHED-TTL:PT1H
BEGIN:VTIMEZONE
TZID:America/New_York
BEGIN:DAYLIGHT
TZOFFSETFROM:-0500
TZOFFSETTO:-0400
TZNAME:EDT
DTSTART:20120311T070000
END:DAYLIGHT
BEGIN:STANDARD
TZOFFSETFROM:-0400
TZOFFSETTO:-0500
TZNAME:EST
DTSTART:20121104T060000
END:STANDARD
BEGIN:DAYLIGHT
TZOFFSETFROM:-0500
TZOFFSETTO:-0400
TZNAME:EDT
DTSTART:20130310T070000
END:DAYLIGHT
BEGIN:STANDARD
TZOFFSETFROM:-0400
TZOFFSETTO:-0500
TZNAME:EST
DTSTART:20131103T060000
END:STANDARD
BEGIN:DAYLIGHT
TZOFFSETFROM:-0500
TZOFFSETTO:-0400
TZNAME:EDT
DTSTART:20140309T070000
END:DAYLIGHT
BEGIN:STANDARD
TZOFFSETFROM:-0400
TZOFFSETTO:-0500
TZNAME:EST
DTSTART:20141102T060000
END:STANDARD
END:VTIMEZONE
BEGIN:VEVENT
DTSTART;TZID=America/New_York:20131011T160000
DTEND;TZID=America/New_York:20131011T200000
DTSTAMP:20260422T191051
CREATED:20130918T154721Z
LAST-MODIFIED:20130918T154721Z
UID:10000142-1381507200-1381521600@geauganews.com
SUMMARY:DDC Clinic Amish Benefit Auction
DESCRIPTION:Bring the entire family out for an evening of fun and food at the Annual Amish Auction on Friday\, October 11\, 2013 beginning at 4 p.m. The event is held at the Middlefield Market Pavilion\, 15848 Nauvoo Road in Middlefield (44062). \nBeing auctioned off again this year are two-car 24 x 24 garages built to your specifications on your site\, horses\, quilts\, furniture\, crafts\, flowers and vegetables. \nBurgers and fries\, pie and ice cream are some of the delicious food items available to eat. \nProceeds will benefit DDC Clinic ~ Center for Special Needs Children on Route 528 in Middlefield\, a primary care and research facility for special needs children with rare genetic disorders. “The development of this clinic is so vital\, not only for children in our immediate region who suffer from treatable disorders\, but for future generations of children all over the world\,” Gordon Safran stated. Gordon is the owner of The Red Maple Inn\, located in Burton\, and a Director of DDC Clinic. \nDDC Clinic has diagnosed over seventy rare metabolic and genetic diseases since its inception in 2002\, and the patient diagnosis rating has increased from 22 percent to 71 percent. \nFor more information\, contact DDC Clinic at 440-632-1668 or visit the website.
URL:https://geauganews.com/local-event/ddc-clinic-amish-benefit-auction/
LOCATION:Middlefield Market\, 15848 Nauvoo Rd\, Middlefield
END:VEVENT
END:VCALENDAR