BEGIN:VCALENDAR
VERSION:2.0
PRODID:-//Geauga News - ECPv6.15.20//NONSGML v1.0//EN
CALSCALE:GREGORIAN
METHOD:PUBLISH
X-WR-CALNAME:Geauga News
X-ORIGINAL-URL:https://geauganews.com
X-WR-CALDESC:Events for Geauga News
REFRESH-INTERVAL;VALUE=DURATION:PT1H
X-Robots-Tag:noindex
X-PUBLISHED-TTL:PT1H
BEGIN:VTIMEZONE
TZID:America/New_York
BEGIN:DAYLIGHT
TZOFFSETFROM:-0500
TZOFFSETTO:-0400
TZNAME:EDT
DTSTART:20200308T070000
END:DAYLIGHT
BEGIN:STANDARD
TZOFFSETFROM:-0400
TZOFFSETTO:-0500
TZNAME:EST
DTSTART:20201101T060000
END:STANDARD
BEGIN:DAYLIGHT
TZOFFSETFROM:-0500
TZOFFSETTO:-0400
TZNAME:EDT
DTSTART:20210314T070000
END:DAYLIGHT
BEGIN:STANDARD
TZOFFSETFROM:-0400
TZOFFSETTO:-0500
TZNAME:EST
DTSTART:20211107T060000
END:STANDARD
BEGIN:DAYLIGHT
TZOFFSETFROM:-0500
TZOFFSETTO:-0400
TZNAME:EDT
DTSTART:20220313T070000
END:DAYLIGHT
BEGIN:STANDARD
TZOFFSETFROM:-0400
TZOFFSETTO:-0500
TZNAME:EST
DTSTART:20221106T060000
END:STANDARD
BEGIN:DAYLIGHT
TZOFFSETFROM:-0500
TZOFFSETTO:-0400
TZNAME:EDT
DTSTART:20230312T070000
END:DAYLIGHT
BEGIN:STANDARD
TZOFFSETFROM:-0400
TZOFFSETTO:-0500
TZNAME:EST
DTSTART:20231105T060000
END:STANDARD
BEGIN:DAYLIGHT
TZOFFSETFROM:-0500
TZOFFSETTO:-0400
TZNAME:EDT
DTSTART:20240310T070000
END:DAYLIGHT
BEGIN:STANDARD
TZOFFSETFROM:-0400
TZOFFSETTO:-0500
TZNAME:EST
DTSTART:20241103T060000
END:STANDARD
END:VTIMEZONE
BEGIN:VEVENT
DTSTART;TZID=America/New_York:20230102T120000
DTEND;TZID=America/New_York:20230102T130000
DTSTAMP:20260421T061708
CREATED:20221222T201222Z
LAST-MODIFIED:20221222T201224Z
UID:10001805-1672660800-1672664400@geauganews.com
SUMMARY:New Years' Feels Like OM Snuggle Session (NO YOGA)
DESCRIPTION:Come and spend some time snuggling goats of all ages and sizes on the Farm!  It will be a Goat-tastic time!\n\n\nCome out to the farm and awaken your inner “kid!” \nWant some animal hugs? Not a fan of the whole Goat yoga craze but still love animals?  This is an educational and therapeutic opportunity on the farm!  \nWe will be introducing the goats  where they can be cuddled\, fed treats\, and maybe even a bottle!  Kids of all ages love our Snuggle Sessions.  Learn about the animals purpose on the farm and interact with our friendly group! Sit and cuddle the animals with no expectation! \nThis year\, Snuggle Sessions aren’t completely private but there are spots for 10-20 people in each group.  You will be in a smaller group and we will have separate stations set up so that groups can be separated as needed for social distancing purposes.   \nIN COMPLIANCE WITH OHIO MANDATORY GUIDELINES: \n-PARTICIPANTS DISPLAYING COVID SYMPTOMS WILL BE DECLINED TO ENTER \n-NO OTHER VISITORS WILL BE ALLOWED ON THE PROPERTY OTHER THAN PROGRAM PARTICIPANTS \nAdmission is $25 per person\, unless you have a child under 2 in your arms!  We will also do a full farm tour and visit the newest members of the farm\, our alpacas and fainting goats! \n \nVisit www.feelslikehomefarm.com or call Alissa (440) 724-5121 for more details!
URL:https://geauganews.com/local-event/new-years-feels-like-om-snuggle-session-no-yoga/
LOCATION:Feels Like Home Farm\, 10875 Sperry Road\, Kirtland\, OH\, 44094\, United States
ATTACH;FMTTYPE=image/jpeg:https://geauganews.com/wp-content/uploads/2022/12/228c565d4b7d64ea7621ce4de5694ead.jpg
GEO:41.5746071;-81.312907
X-APPLE-STRUCTURED-LOCATION;VALUE=URI;X-ADDRESS=Feels Like Home Farm 10875 Sperry Road Kirtland OH 44094 United States;X-APPLE-RADIUS=500;X-TITLE=10875 Sperry Road:geo:-81.312907,41.5746071
END:VEVENT
BEGIN:VEVENT
DTSTART;TZID=America/New_York:20221230T180000
DTEND;TZID=America/New_York:20221230T193000
DTSTAMP:20260421T061708
CREATED:20221222T201143Z
LAST-MODIFIED:20221222T201145Z
UID:10001804-1672423200-1672428600@geauganews.com
SUMMARY:New Years' Eve Eve Feels Like OM Goat Yoga
DESCRIPTION:Come out to the farm to meet the Feels Like OM yoga goats for some relaxing yoga and a goat-tastic day!\n\n\nJoin our New Years’ Eve Eve goat yoga class to celebrate the New Year with the goats!   This is a Friday evening class and the Farm is enchanting at night with all the twinkle lights!   It will be a very special class!  We will be in the driveway to park everyone safely.   \n \nWhy Feels Like OM Goat Yoga? \n#1. Creating Authentic Connection ~ in today’s world\, many people are looking at getting back to basics.  The age of texting and online communication can make people feel disconnected.  Taking your workout from the gym or yoga studio out into nature and adding an animal can capture the simplicity of nature.  Connect with nature\, connect with yourself\, connect with animals. \n#2. AAA: Animal- Assisted Activities \nTherapeutic mental and physical benefits ~ Many people come to yoga not just for a workout\, but to relax and decompress.  Surrounding yourself with animals can lower rates of depression\, anxiety\, high blood pressure\, and loneliness.  Bonding with animals has been shown to release mood elevating hormones.  It decreases stress and provides a happy escape.    \n#3.  Goats are HILARIOUS! \n Goats are curious and also have no understanding of personal space!  They are likely to sit on your mat\, walk across your legs\, hop on your back and maybe even nibble your toes.  Our friendly and playful baby yoga goats will be a delight during this special event!  This is truly as fun as it sounds and you will leave feeling light and happy! \n For more information or pictures of our goats\, check out our website  http://feelslikehomefarm.com/meet-the-goats.html.  \nFeels Like Om Goat Yoga is for everyone and we welcome all fitness levels.  Our cold weather classes are back!  We will be offering smaller yoga classes throughout the cold weather.  Class will be inside in the main barn!   \nIN COMPLIANCE WITH OHIO GUIDELINES: \n-PARTICIPANTS DISPLAYING COVID SYMPTOMS WILL BE DECLINED TO ENTER \n-WE RECOMMEND USE OF HAND SANITIZER UPON ENTERING AND EXITING \n-NO OTHER VISITORS WILL BE ALLOWED ON THE PROPERTY OTHER THAN YOGA PARTICIPANTS \nRefund Policy:   Based on Ohio State Law for events\, we are required to issue a refund within 3 days of the ticket purchase.   After that\, the ticket is non-refundable\, however\, we will try to work with you on getting a refund.  If there is a waiting list for the class we will try to switch your ticket over to another yogi.   \n10 mats will be available\, but you will want at least one LARGE TOWEL to lay down on your mat\, with a possible extra towel in case of “accidents”.  Wear appropriate clothing for a barn and the weather.  You will get dirty and may be nibbled or jumped on by a goat!  Please wear long hair in a ponytail unless you want a haircut!   \nWe will send out an email the week before your class with details about directions and reminders of what to bring as well as a weather update. Please be on the lookout for this. Check your SPAM if you haven’t received it by Thursday before your class. There is NO NEED to print your ticket. \nFor more information about this or any of our programs\,  or to be added to our email list\, please call Alissa at 440-724-5121 or email feelslikehome22@yahoo.com. \n \nwww.feelslikehomefarm.com
URL:https://geauganews.com/local-event/new-years-eve-eve-feels-like-om-goat-yoga/
LOCATION:Feels Like Home Farm\, 10875 Sperry Road\, Kirtland\, OH\, 44094\, United States
ATTACH;FMTTYPE=image/jpeg:https://geauganews.com/wp-content/uploads/2022/12/4852e09cacb26c357d431b3fbcf4d642.jpg
GEO:41.5746071;-81.312907
X-APPLE-STRUCTURED-LOCATION;VALUE=URI;X-ADDRESS=Feels Like Home Farm 10875 Sperry Road Kirtland OH 44094 United States;X-APPLE-RADIUS=500;X-TITLE=10875 Sperry Road:geo:-81.312907,41.5746071
END:VEVENT
BEGIN:VEVENT
DTSTART;TZID=America/New_York:20221127T133000
DTEND;TZID=America/New_York:20221127T153000
DTSTAMP:20260421T061708
CREATED:20221119T223203Z
LAST-MODIFIED:20221120T074350Z
UID:10001771-1669555800-1669563000@geauganews.com
SUMMARY:Santa Visits the Goats!
DESCRIPTION:Join us for a Christmas playdate on the farm…. we will play and interact with Santa and all the animals.\n\n\nJoin us for this special Holiday Family event! Forget the reindeer\, Santa’s best companions on this day will be the goats! This event will take place in our Yoga Barn and space will be limited so sign up now! \nThis event will start at 1:30 on the DOT\, as Santa will arrive at 2pm to spend 1 hour with the kids. \nWe will also have other activities available: \n– Do a child friendly Christmas craft \n– Read a book about a Christmas goat \n– The goats will come out to play! \n-Take a tour of the Farm with Santa\, weather permitting \n-Take pictures with Santa and the goats \n-The Feels Like OM Farm Market will be open for purchases \nStaff will be at the event to help you take pictures with Santa and the Goats! Hay bales will line the barn so that adults and children will have spots to sit down! \nPrice is $20 per child\, all ages. Parents are free! \nHappy Holidays!
URL:https://geauganews.com/local-event/santa-visits-the-goats-2/
LOCATION:Feels Like Home Farm\, 10875 Sperry Road\, Kirtland\, OH\, 44094\, United States
ATTACH;FMTTYPE=image/png:https://geauganews.com/wp-content/uploads/2022/11/Santa-Visits-the-Goats.png
GEO:41.5746071;-81.312907
X-APPLE-STRUCTURED-LOCATION;VALUE=URI;X-ADDRESS=Feels Like Home Farm 10875 Sperry Road Kirtland OH 44094 United States;X-APPLE-RADIUS=500;X-TITLE=10875 Sperry Road:geo:-81.312907,41.5746071
END:VEVENT
BEGIN:VEVENT
DTSTART;TZID=America/New_York:20221022T110000
DTEND;TZID=America/New_York:20221022T120000
DTSTAMP:20260421T061708
CREATED:20220909T205250Z
LAST-MODIFIED:20220909T205254Z
UID:10001702-1666436400-1666440000@geauganews.com
SUMMARY:Feels Like OM Snuggle Session (NO YOGA)
DESCRIPTION:Come and spend some time snuggling goats of all ages and sizes on the Farm!  It will be a Goat-tastic time!\n\n\nCome out to the farm and awaken your inner “kid!” \nWant some animal hugs? Not a fan of the whole Goat yoga craze but still love animals?  This is an educational and therapeutic opportunity on the farm!  \nWe will be introducing the goats  where they can be cuddled\, fed treats\, and maybe even a bottle!  Kids of all ages love our Snuggle Sessions.  Learn about the animals purpose on the farm and interact with our friendly group! Sit and cuddle the animals with no expectation! \nThis year\, Snuggle Sessions aren’t completely private but there are spots for 10-20 people in each group.  You will be in a smaller group and we will have separate stations set up so that groups can be separated as needed for social distancing purposes.   \nIN COMPLIANCE WITH OHIO MANDATORY GUIDELINES: \n-PARTICIPANTS DISPLAYING COVID SYMPTOMS WILL BE DECLINED TO ENTER \n-NO OTHER VISITORS WILL BE ALLOWED ON THE PROPERTY OTHER THAN PROGRAM PARTICIPANTS \nAdmission is $25 per person\, unless you have a child under 2 in your arms!  We will also do a full farm tour and visit the newest members of the farm\, our alpacas\, fainting goats and pigs! \n \nVisit www.feelslikehomefarm.com or call Alissa (440) 724-5121 for more details!
URL:https://geauganews.com/local-event/feels-like-om-snuggle-session-no-yoga-2/
LOCATION:Feels Like Home Farm\, 10875 Sperry Road\, Kirtland\, OH\, 44094\, United States
ATTACH;FMTTYPE=image/jpeg:https://geauganews.com/wp-content/uploads/2022/09/ad5d22738871599a8103da2e3a069a33.jpg
GEO:41.5746071;-81.312907
X-APPLE-STRUCTURED-LOCATION;VALUE=URI;X-ADDRESS=Feels Like Home Farm 10875 Sperry Road Kirtland OH 44094 United States;X-APPLE-RADIUS=500;X-TITLE=10875 Sperry Road:geo:-81.312907,41.5746071
END:VEVENT
BEGIN:VEVENT
DTSTART;TZID=America/New_York:20220521T140000
DTEND;TZID=America/New_York:20220521T150000
DTSTAMP:20260421T061708
CREATED:20220420T025930Z
LAST-MODIFIED:20220420T025932Z
UID:10001607-1653141600-1653145200@geauganews.com
SUMMARY:Feels Like OM Baby Goat Yoga
DESCRIPTION:FIRST GOAT YOGA OF 2022!!!!! We are so excited to share our baby goats with you!\n\n\nWhy Feels Like OM Goat Yoga? \n#1. Creating Authentic Connection ~ in today’s world\, many people are looking at getting back to basics.  The age of texting and online communication can make people feel disconnected.  Taking your workout from the gym or yoga studio out into nature and adding an animal can capture the simplicity of nature.  Connect with nature\, connect with yourself\, connect with animals. \n#2. AAA: Animal- Assisted Activities \nTherapeutic mental and physical benefits ~ Many people come to yoga not just for a workout\, but to relax and decompress.  Surrounding yourself with animals can lower rates of depression\, anxiety\, high blood pressure\, and loneliness.  Bonding with animals has been shown to release mood elevating hormones.  It decreases stress and provides a happy escape.    \n#3.  Goats are HILARIOUS! \n Goats are curious and also have no understanding of personal space!  They are likely to sit on your mat\, walk across your legs\, hop on your back and maybe even nibble your toes.  Our friendly and playful baby yoga goats will be a delight during this special event!  This is truly as fun as it sounds and you will leave feeling light and happy! \n For more information or pictures of our goats\, check out our website  http://feelslikehomefarm.com/meet-the-goats.html.  \nFeels Like Om Goat Yoga is for everyone and we welcome all fitness levels. You will be walked over\, nibbled on and possibly jumped on by adorable baby goats… please dress accordingly! Please wear long hair in a ponytail unless you want a haircut!A limited amount of mats will be available\, but you will want at least one LARGE TOWEL to lay down on your mat\, with a possible extra towel in case of “goat accidents”.   \nRefund Policy:   Based on Ohio State Law for events\, we are required to issue a refund within 3 days of the ticket purchase.   After that\, the ticket is non-refundable\, however\, we will try to work with you on getting a refund.  If there is a waiting list for the class we will try to switch your ticket over to another yogi.   \nWe will send out an email the week before your class with details about directions and reminders of what to bring as well as a weather update. Please be on the lookout for this. Check your SPAM if you haven’t received it by Thursday before your class. There is NO NEED to print your ticket. \nIN COMPLIANCE WITH OHIO MANDATORY GUIDELINES: \n-PARTICIPANTS DISPLAYING COVID SYMPTOMS WILL BE DECLINED TO ENTER \n-ALL CLASSES WILL BE OUTSIDE \n-MASKS ARE OPTIONAL \n-MATS WILL BE PLACED BEFORE CLASS 6 FEET APART \n-AS ALWAYS\, MATS WILL BE DISINFECTED AFTER EACH USE \n-TOURS WILL BE SPLIT IN HALF @ 10 PPL EACH GROUP \n-NO OTHER VISITORS WILL BE ALLOWED ON THE PROPERTY OTHER THAN YOGA PARTICIPANTS \nFor more information about this or any of our programs\,  or to be added to our email list\, please call Alissa at (440)724-5121 or email feelslikehome22@yahoo.com. \n \nwww.feelslikehomefarm.com
URL:https://geauganews.com/local-event/feels-like-om-baby-goat-yoga/
LOCATION:Feels Like Home Farm\, 10875 Sperry Road\, Kirtland\, OH\, 44094\, United States
ATTACH;FMTTYPE=image/jpeg:https://geauganews.com/wp-content/uploads/2022/04/1e12e8d46b80c14d7b6ecb518ff16a47-1.jpg
GEO:41.5746071;-81.312907
X-APPLE-STRUCTURED-LOCATION;VALUE=URI;X-ADDRESS=Feels Like Home Farm 10875 Sperry Road Kirtland OH 44094 United States;X-APPLE-RADIUS=500;X-TITLE=10875 Sperry Road:geo:-81.312907,41.5746071
END:VEVENT
BEGIN:VEVENT
DTSTART;TZID=America/New_York:20220213T120000
DTEND;TZID=America/New_York:20220213T130000
DTSTAMP:20260421T061708
CREATED:20220125T000144Z
LAST-MODIFIED:20220125T000144Z
UID:10001548-1644753600-1644757200@geauganews.com
SUMMARY:Valentine's Day Feels Like OM Snuggle Session (NO YOGA)
DESCRIPTION:Come and spend some time snuggling goats and pigs of all ages and sizes on the Farm!  It will be a Goat-tastic time!\n\n\nCome out to the farm and awaken your inner “kid!” \nWant some animal hugs? Not a fan of the whole Goat yoga craze but still love animals?  This is an educational and therapeutic opportunity on the farm!  \nWe will be introducing the goats and piglets where they can be cuddled\, fed treats\, and maybe even a bottle!  Kids of all ages love our Snuggle Sessions.  Learn about the animals purpose on the farm and interact with our friendly group! Sit and cuddle the animals with no expectation! \nThis year\, Snuggle Sessions aren’t completely private but there are spots for 10-20 people in each group.  You will be in a smaller group and we will have separate stations set up so that groups can be separated as needed for social distancing purposes.   \nIN COMPLIANCE WITH OHIO MANDATORY GUIDELINES: \n-PARTICIPANTS DISPLAYING COVID SYMPTOMS WILL BE DECLINED TO ENTER \n-MANDATORY USE OF TEMP MONITORING AND HAND SANITIZER UPON ENTERING AND EXITING \n-MASKING MANDATORY ! \n-NO OTHER VISITORS WILL BE ALLOWED ON THE PROPERTY OTHER THAN PROGRAM PARTICIPANTS \nAdmission is $25 per person\, unless you have a child under 2 in your arms!  We will also do a full farm tour and visit the newest members of the farm\, our alpacas\, fainting goats and pigs! \n \nVisit www.feelslikehomefarm.com or call Alissa (440) 724-5121 for more details!
URL:https://geauganews.com/local-event/valentines-day-feels-like-om-snuggle-session-no-yoga/
LOCATION:Feels Like Home Farm\, 10875 Sperry Road\, Kirtland\, OH\, 44094\, United States
ATTACH;FMTTYPE=image/jpeg:https://geauganews.com/wp-content/uploads/2022/01/2f3126718d9330a65818a29d1965a623.jpg
GEO:41.5746071;-81.312907
X-APPLE-STRUCTURED-LOCATION;VALUE=URI;X-ADDRESS=Feels Like Home Farm 10875 Sperry Road Kirtland OH 44094 United States;X-APPLE-RADIUS=500;X-TITLE=10875 Sperry Road:geo:-81.312907,41.5746071
END:VEVENT
BEGIN:VEVENT
DTSTART;TZID=America/New_York:20211107T120000
DTEND;TZID=America/New_York:20211107T130000
DTSTAMP:20260421T061708
CREATED:20211103T233803Z
LAST-MODIFIED:20211103T233804Z
UID:10001431-1636286400-1636290000@geauganews.com
SUMMARY:Feels Like OM Snuggle Session (NO YOGA)
DESCRIPTION:Come and spend some time snuggling goats and pigs of all ages and sizes on the Farm!  It will be a Goat-tastic time!\n\n\nCome out to the farm and awaken your inner “kid!” \nWant some animal hugs? Not a fan of the whole Goat yoga craze but still love animals?  This is an educational and therapeutic opportunity on the farm!  \nWe will be introducing the goats and piglets where they can be cuddled\, fed treats\, and maybe even a bottle!  Kids of all ages love our Snuggle Sessions.  Learn about the animals purpose on the farm and interact with our friendly group! Sit and cuddle the animals with no expectation! \nThis year\, Snuggle Sessions aren’t completely private but there are spots for 10-20 people in each group.  You will be in a smaller group and we will have separate stations set up so that groups can be separated as needed for social distancing purposes.   \nIN COMPLIANCE WITH OHIO MANDATORY GUIDELINES: \n-PARTICIPANTS DISPLAYING COVID SYMPTOMS WILL BE DECLINED TO ENTER \n-MANDATORY USE OF TEMP MONITORING AND HAND SANITIZER UPON ENTERING AND EXITING \n-MASKING NOT MANDATORY BUT ENCOURAGED \n-NO OTHER VISITORS WILL BE ALLOWED ON THE PROPERTY OTHER THAN PROGRAM PARTICIPANTS \nAdmission is $25 per person\, unless you have a child under 2 in your arms!  We will also do a full farm tour and visit the newest members of the farm\, our alpacas\, fainting goats and pigs! \n \nVisit www.feelslikehomefarm.com or call Alissa (440) 724-5121 for more details!
URL:https://geauganews.com/local-event/feels-like-om-snuggle-session-no-yoga/
LOCATION:Feels Like Home Farm\, 10875 Sperry Road\, Kirtland\, OH\, 44094\, United States
ATTACH;FMTTYPE=image/jpeg:https://geauganews.com/wp-content/uploads/2021/11/7b5701b3fead290fa380205cc74241db.jpg
GEO:41.5746071;-81.312907
X-APPLE-STRUCTURED-LOCATION;VALUE=URI;X-ADDRESS=Feels Like Home Farm 10875 Sperry Road Kirtland OH 44094 United States;X-APPLE-RADIUS=500;X-TITLE=10875 Sperry Road:geo:-81.312907,41.5746071
END:VEVENT
END:VCALENDAR