BEGIN:VCALENDAR
VERSION:2.0
PRODID:-//Geauga News - ECPv6.15.20//NONSGML v1.0//EN
CALSCALE:GREGORIAN
METHOD:PUBLISH
X-ORIGINAL-URL:https://geauganews.com
X-WR-CALDESC:Events for Geauga News
REFRESH-INTERVAL;VALUE=DURATION:PT1H
X-Robots-Tag:noindex
X-PUBLISHED-TTL:PT1H
BEGIN:VTIMEZONE
TZID:America/New_York
BEGIN:DAYLIGHT
TZOFFSETFROM:-0500
TZOFFSETTO:-0400
TZNAME:EDT
DTSTART:20120311T070000
END:DAYLIGHT
BEGIN:STANDARD
TZOFFSETFROM:-0400
TZOFFSETTO:-0500
TZNAME:EST
DTSTART:20121104T060000
END:STANDARD
BEGIN:DAYLIGHT
TZOFFSETFROM:-0500
TZOFFSETTO:-0400
TZNAME:EDT
DTSTART:20130310T070000
END:DAYLIGHT
BEGIN:STANDARD
TZOFFSETFROM:-0400
TZOFFSETTO:-0500
TZNAME:EST
DTSTART:20131103T060000
END:STANDARD
BEGIN:DAYLIGHT
TZOFFSETFROM:-0500
TZOFFSETTO:-0400
TZNAME:EDT
DTSTART:20140309T070000
END:DAYLIGHT
BEGIN:STANDARD
TZOFFSETFROM:-0400
TZOFFSETTO:-0500
TZNAME:EST
DTSTART:20141102T060000
END:STANDARD
END:VTIMEZONE
BEGIN:VEVENT
DTSTART;TZID=America/New_York:20131208T120000
DTEND;TZID=America/New_York:20131208T160000
DTSTAMP:20260421T003414
CREATED:20131125T191955Z
LAST-MODIFIED:20131125T191955Z
UID:10000260-1386504000-1386518400@geauganews.com
SUMMARY:Christmas in Century Village Museum in Burton
DESCRIPTION:You are invited to experience an old-fashion 1840′s Christmas in our Hitchcock House. This free event(donations are welcome) presented by the Geauga County Historical Society is on November 30 from 11 a.m. to 4 p.m.\, December 1 from 12:00 p.m. to 4 p.m.\, December 7 from 11 a.m. to 4 p.m.\, and December 8 from 12:00 p.m. to 4 p.m. \nView an old fashion Christmas tree with home-made ornaments. Come see a family friendly puppet theatre where little ones can stage original plays. \nThe outside of the village is decorated for the season. There will be a sleigh available for photo opportunities. \nSo come to Century Village Museum and experience the sights\, sounds\, scents\, and flavors of the season. For more information on this free event\, call 440-834-1492.
URL:https://geauganews.com/local-event/christmas-in-century-village-museum-in-burton-4/
LOCATION:Century Village\, Burton
END:VEVENT
BEGIN:VEVENT
DTSTART;TZID=America/New_York:20131207T110000
DTEND;TZID=America/New_York:20131207T160000
DTSTAMP:20260421T003414
CREATED:20131125T191741Z
LAST-MODIFIED:20131125T191741Z
UID:10000259-1386414000-1386432000@geauganews.com
SUMMARY:Christmas in Century Village Museum in Burton
DESCRIPTION:You are invited to experience an old-fashion 1840′s Christmas in our Hitchcock House. This free event(donations are welcome) presented by the Geauga County Historical Society is on November 30 from 11 a.m. to 4 p.m.\, December 1 from 12:00 p.m. to 4 p.m.\, December 7 from 11 a.m. to 4 p.m.\, and December 8 from 12:00 p.m. to 4 p.m. \nView an old fashion Christmas tree with home-made ornaments. Come see a family friendly puppet theatre where little ones can stage original plays. \nThe outside of the village is decorated for the season. There will be a sleigh available for photo opportunities. \nSo come to Century Village Museum and experience the sights\, sounds\, scents\, and flavors of the season. For more information on this free event\, call 440-834-1492.
URL:https://geauganews.com/local-event/christmas-in-century-village-museum-in-burton-3/
LOCATION:Century Village\, Burton
END:VEVENT
BEGIN:VEVENT
DTSTART;TZID=America/New_York:20131201T120000
DTEND;TZID=America/New_York:20131201T160000
DTSTAMP:20260421T003414
CREATED:20131125T191323Z
LAST-MODIFIED:20131125T191323Z
UID:10000258-1385899200-1385913600@geauganews.com
SUMMARY:Christmas in Century Village Museum in Burton
DESCRIPTION:You are invited to experience an old-fashion 1840′s Christmas in our Hitchcock House. This free event(donations are welcome) presented by the Geauga County Historical Society is on November 30 from 11 a.m. to 4 p.m.\, December 1 from 12:00 p.m. to 4 p.m.\, December 7 from 11 a.m. to 4 p.m.\, and December 8 from 12:00 p.m. to 4 p.m. \nView an old fashion Christmas tree with home-made ornaments. Come see a family friendly puppet theatre where little ones can stage original plays. \nThe outside of the village is decorated for the season. There will be a sleigh available for photo opportunities. \nSo come to Century Village Museum and experience the sights\, sounds\, scents\, and flavors of the season. For more information on this free event\, call 440-834-1492.
URL:https://geauganews.com/local-event/christmas-in-century-village-museum-in-burton-2/
LOCATION:Century Village\, Burton
END:VEVENT
BEGIN:VEVENT
DTSTART;TZID=America/New_York:20131130T110000
DTEND;TZID=America/New_York:20131130T160000
DTSTAMP:20260421T003414
CREATED:20131125T191116Z
LAST-MODIFIED:20131125T191116Z
UID:10000257-1385809200-1385827200@geauganews.com
SUMMARY:Christmas in Century Village Museum in Burton
DESCRIPTION:You are invited to experience an old-fashion 1840′s Christmas in our Hitchcock House. This free event(donations are welcome) presented by the Geauga County Historical Society is on November 30 from 11 a.m. to 4 p.m.\, December 1 from 12:00 p.m. to 4 p.m.\, December 7 from 11 a.m. to 4 p.m.\, and December 8 from 12:00 p.m. to 4 p.m. \nView an old fashion Christmas tree with home-made ornaments. Come see a family friendly puppet theatre where little ones can stage original plays. \nThe outside of the village is decorated for the season. There will be a sleigh available for photo opportunities. \nSo come to Century Village Museum and experience the sights\, sounds\, scents\, and flavors of the season. For more information on this free event\, call 440-834-1492.
URL:https://geauganews.com/local-event/christmas-in-century-village-museum-in-burton/
LOCATION:Century Village\, Burton
END:VEVENT
END:VCALENDAR