BEGIN:VCALENDAR
VERSION:2.0
PRODID:-//Geauga News - ECPv6.15.20//NONSGML v1.0//EN
CALSCALE:GREGORIAN
METHOD:PUBLISH
X-WR-CALNAME:Geauga News
X-ORIGINAL-URL:https://geauganews.com
X-WR-CALDESC:Events for Geauga News
REFRESH-INTERVAL;VALUE=DURATION:PT1H
X-Robots-Tag:noindex
X-PUBLISHED-TTL:PT1H
BEGIN:VTIMEZONE
TZID:America/New_York
BEGIN:DAYLIGHT
TZOFFSETFROM:-0500
TZOFFSETTO:-0400
TZNAME:EDT
DTSTART:20120311T070000
END:DAYLIGHT
BEGIN:STANDARD
TZOFFSETFROM:-0400
TZOFFSETTO:-0500
TZNAME:EST
DTSTART:20121104T060000
END:STANDARD
BEGIN:DAYLIGHT
TZOFFSETFROM:-0500
TZOFFSETTO:-0400
TZNAME:EDT
DTSTART:20130310T070000
END:DAYLIGHT
BEGIN:STANDARD
TZOFFSETFROM:-0400
TZOFFSETTO:-0500
TZNAME:EST
DTSTART:20131103T060000
END:STANDARD
BEGIN:DAYLIGHT
TZOFFSETFROM:-0500
TZOFFSETTO:-0400
TZNAME:EDT
DTSTART:20140309T070000
END:DAYLIGHT
BEGIN:STANDARD
TZOFFSETFROM:-0400
TZOFFSETTO:-0500
TZNAME:EST
DTSTART:20141102T060000
END:STANDARD
END:VTIMEZONE
BEGIN:VEVENT
DTSTART;TZID=America/New_York:20130817T120000
DTEND;TZID=America/New_York:20130817T200000
DTSTAMP:20260421T201427
CREATED:20130807T161207Z
LAST-MODIFIED:20130807T162116Z
UID:10000100-1376740800-1376769600@geauganews.com
SUMMARY:Raccoon County Music Festival
DESCRIPTION:The Raccoon County Music Festival\, which runs from noon to 8 p.m. in downtown Burton\, will feature performances on two stages\, a fiddle contest\, square dancing\, spontaneous jamming and workshops for children (blues guitar and songwriting) and adults (clogging\, bluegrass banjo and old-time banjo). There will be food for sale at the festival\, but event-goers are also permitted to bring their own meals as well as chairs and blankets. \nClick here for event information.
URL:https://geauganews.com/local-event/raccoon-county-music-festival/
LOCATION:Century Village\, 14653 East Park Street\, Burton
END:VEVENT
END:VCALENDAR