BEGIN:VCALENDAR
VERSION:2.0
PRODID:-//Geauga News - ECPv6.15.20//NONSGML v1.0//EN
CALSCALE:GREGORIAN
METHOD:PUBLISH
X-WR-CALNAME:Geauga News
X-ORIGINAL-URL:https://geauganews.com
X-WR-CALDESC:Events for Geauga News
REFRESH-INTERVAL;VALUE=DURATION:PT1H
X-Robots-Tag:noindex
X-PUBLISHED-TTL:PT1H
BEGIN:VTIMEZONE
TZID:America/New_York
BEGIN:DAYLIGHT
TZOFFSETFROM:-0500
TZOFFSETTO:-0400
TZNAME:EDT
DTSTART:20120311T070000
END:DAYLIGHT
BEGIN:STANDARD
TZOFFSETFROM:-0400
TZOFFSETTO:-0500
TZNAME:EST
DTSTART:20121104T060000
END:STANDARD
BEGIN:DAYLIGHT
TZOFFSETFROM:-0500
TZOFFSETTO:-0400
TZNAME:EDT
DTSTART:20130310T070000
END:DAYLIGHT
BEGIN:STANDARD
TZOFFSETFROM:-0400
TZOFFSETTO:-0500
TZNAME:EST
DTSTART:20131103T060000
END:STANDARD
BEGIN:DAYLIGHT
TZOFFSETFROM:-0500
TZOFFSETTO:-0400
TZNAME:EDT
DTSTART:20140309T070000
END:DAYLIGHT
BEGIN:STANDARD
TZOFFSETFROM:-0400
TZOFFSETTO:-0500
TZNAME:EST
DTSTART:20141102T060000
END:STANDARD
BEGIN:DAYLIGHT
TZOFFSETFROM:-0500
TZOFFSETTO:-0400
TZNAME:EDT
DTSTART:20150308T070000
END:DAYLIGHT
BEGIN:STANDARD
TZOFFSETFROM:-0400
TZOFFSETTO:-0500
TZNAME:EST
DTSTART:20151101T060000
END:STANDARD
BEGIN:DAYLIGHT
TZOFFSETFROM:-0500
TZOFFSETTO:-0400
TZNAME:EDT
DTSTART:20160313T070000
END:DAYLIGHT
BEGIN:STANDARD
TZOFFSETFROM:-0400
TZOFFSETTO:-0500
TZNAME:EST
DTSTART:20161106T060000
END:STANDARD
BEGIN:DAYLIGHT
TZOFFSETFROM:-0500
TZOFFSETTO:-0400
TZNAME:EDT
DTSTART:20170312T070000
END:DAYLIGHT
BEGIN:STANDARD
TZOFFSETFROM:-0400
TZOFFSETTO:-0500
TZNAME:EST
DTSTART:20171105T060000
END:STANDARD
BEGIN:DAYLIGHT
TZOFFSETFROM:-0500
TZOFFSETTO:-0400
TZNAME:EDT
DTSTART:20180311T070000
END:DAYLIGHT
BEGIN:STANDARD
TZOFFSETFROM:-0400
TZOFFSETTO:-0500
TZNAME:EST
DTSTART:20181104T060000
END:STANDARD
BEGIN:DAYLIGHT
TZOFFSETFROM:-0500
TZOFFSETTO:-0400
TZNAME:EDT
DTSTART:20190310T070000
END:DAYLIGHT
BEGIN:STANDARD
TZOFFSETFROM:-0400
TZOFFSETTO:-0500
TZNAME:EST
DTSTART:20191103T060000
END:STANDARD
BEGIN:DAYLIGHT
TZOFFSETFROM:-0500
TZOFFSETTO:-0400
TZNAME:EDT
DTSTART:20200308T070000
END:DAYLIGHT
BEGIN:STANDARD
TZOFFSETFROM:-0400
TZOFFSETTO:-0500
TZNAME:EST
DTSTART:20201101T060000
END:STANDARD
BEGIN:DAYLIGHT
TZOFFSETFROM:-0500
TZOFFSETTO:-0400
TZNAME:EDT
DTSTART:20210314T070000
END:DAYLIGHT
BEGIN:STANDARD
TZOFFSETFROM:-0400
TZOFFSETTO:-0500
TZNAME:EST
DTSTART:20211107T060000
END:STANDARD
END:VTIMEZONE
BEGIN:VEVENT
DTSTART;TZID=America/New_York:20200306T073000
DTEND;TZID=America/New_York:20200306T090000
DTSTAMP:20260421T181926
CREATED:20200226T044340Z
LAST-MODIFIED:20200226T044931Z
UID:10000890-1583479800-1583485200@geauganews.com
SUMMARY:Geauga Economic Leadership - Breakfast Series
DESCRIPTION:Kent State University at Geauga\n14111 Claridon Troy Road in Burton \nAll are welcome to attend this free event. \nPlease register HERE\nor by contacting 440-564-1060.  \nGeauga Economic Leadership (G.E.L.) Breakfasts are co-sponsored by Geauga Growth Partnership and Kent State University at Geauga. They are held the first Friday of each month. The breakfast is a dynamic opportunity to bring business and industry leaders together with our community to network\, learn\, and collaborate.                    ____________________________________________________________ \nSave the Date – April GEL Breakfast\nApril 3rd – David Croft\, Attorney with Meyers Roman\nBlockchain Does (or Will) Affect your Business \n\n\n\n\n\n\n\n\n\n\nGeauga Growth Partnership is your economic development business resource for networking\, collaboration\, advocacy and training.  Our mission is to enhance the economic climate in Geauga County by attracting new business\, supporting existing businesses\, and preparing the workforce of the future. \nFor information contact info@geaugagrowth.com or call 440-564-1060. \n\n\n\n\n\n 
URL:https://geauganews.com/local-event/geauga-economic-leadership-breakfast-series/
LOCATION:Kent State Geauga Campus\, 14111 Claridon Troy Rd\, Burton\, 44021\, United States
ATTACH;FMTTYPE=image/png:https://geauganews.com/wp-content/uploads/2020/02/Geauga_Economic_Leadership_Header.png
ORGANIZER;CN="Geauga Economic Leadership":MAILTO:info@geaugagrowth.com
END:VEVENT
BEGIN:VEVENT
DTSTART;TZID=America/New_York:20140502T073000
DTEND;TZID=America/New_York:20140502T090000
DTSTAMP:20260421T181926
CREATED:20130814T204437Z
LAST-MODIFIED:20130814T204437Z
UID:10000113-1399015800-1399021200@geauganews.com
SUMMARY:Geauga Economic Leadership (GEL) Meeting
DESCRIPTION:Geauga Economic Leadership (GEL) is a series of breakfast meetings hosted by Kent State University Geauga Campus to foster a heightened awareness of business\, industry\, and public services present in Geauga County and to facilitate networking among the members of those sectors. Anyone working or living in Geauga County will benefit from learning more about the County’s employers and services. \nClick here to view this year’s schedule. \n 
URL:https://geauganews.com/local-event/geauga-economic-leadership-gel-meeting-9/
LOCATION:Kent State Geauga Campus\, 14111 Claridon Troy Rd\, Burton\, 44021
ORGANIZER;CN="Geauga Economic Leadership":MAILTO:info@geaugagrowth.com
END:VEVENT
BEGIN:VEVENT
DTSTART;TZID=America/New_York:20140404T073000
DTEND;TZID=America/New_York:20140404T090000
DTSTAMP:20260421T181926
CREATED:20130814T204207Z
LAST-MODIFIED:20130814T204207Z
UID:10000112-1396596600-1396602000@geauganews.com
SUMMARY:Geauga Economic Leadership (GEL) Meeting
DESCRIPTION:Geauga Economic Leadership (GEL) is a series of breakfast meetings hosted by Kent State University Geauga Campus to foster a heightened awareness of business\, industry\, and public services present in Geauga County and to facilitate networking among the members of those sectors. Anyone working or living in Geauga County will benefit from learning more about the County’s employers and services. \nClick here to view this year’s schedule. \n 
URL:https://geauganews.com/local-event/geauga-economic-leadership-gel-meeting-8/
LOCATION:Kent State Geauga Campus\, 14111 Claridon Troy Rd\, Burton\, 44021
ORGANIZER;CN="Geauga Economic Leadership":MAILTO:info@geaugagrowth.com
END:VEVENT
BEGIN:VEVENT
DTSTART;TZID=America/New_York:20140307T073000
DTEND;TZID=America/New_York:20140307T090000
DTSTAMP:20260421T181926
CREATED:20130814T203943Z
LAST-MODIFIED:20130814T203943Z
UID:10000111-1394177400-1394182800@geauganews.com
SUMMARY:Geauga Economic Leadership (GEL) Meeting
DESCRIPTION:Geauga Economic Leadership (GEL) is a series of breakfast meetings hosted by Kent State University Geauga Campus to foster a heightened awareness of business\, industry\, and public services present in Geauga County and to facilitate networking among the members of those sectors. Anyone working or living in Geauga County will benefit from learning more about the County’s employers and services. \nClick here to view this year’s schedule. \n 
URL:https://geauganews.com/local-event/geauga-economic-leadership-gel-meeting-7/
LOCATION:Kent State Geauga Campus\, 14111 Claridon Troy Rd\, Burton\, 44021
ORGANIZER;CN="Geauga Economic Leadership":MAILTO:info@geaugagrowth.com
END:VEVENT
BEGIN:VEVENT
DTSTART;TZID=America/New_York:20140207T073000
DTEND;TZID=America/New_York:20140207T090000
DTSTAMP:20260421T181926
CREATED:20130814T203724Z
LAST-MODIFIED:20130814T203724Z
UID:10000110-1391758200-1391763600@geauganews.com
SUMMARY:Geauga Economic Leadership (GEL) Meeting
DESCRIPTION:Geauga Economic Leadership (GEL) is a series of breakfast meetings hosted by Kent State University Geauga Campus to foster a heightened awareness of business\, industry\, and public services present in Geauga County and to facilitate networking among the members of those sectors. Anyone working or living in Geauga County will benefit from learning more about the County’s employers and services. \nClick here to view this year’s schedule. \n 
URL:https://geauganews.com/local-event/geauga-economic-leadership-gel-meeting-6/
LOCATION:Kent State Geauga Campus\, 14111 Claridon Troy Rd\, Burton\, 44021
ORGANIZER;CN="Geauga Economic Leadership":MAILTO:info@geaugagrowth.com
END:VEVENT
BEGIN:VEVENT
DTSTART;TZID=America/New_York:20140103T073000
DTEND;TZID=America/New_York:20140103T090000
DTSTAMP:20260421T181926
CREATED:20130814T203453Z
LAST-MODIFIED:20130814T203453Z
UID:10000109-1388734200-1388739600@geauganews.com
SUMMARY:Geauga Economic Leadership (GEL) Meeting
DESCRIPTION:Geauga Economic Leadership (GEL) is a series of breakfast meetings hosted by Kent State University Geauga Campus to foster a heightened awareness of business\, industry\, and public services present in Geauga County and to facilitate networking among the members of those sectors. Anyone working or living in Geauga County will benefit from learning more about the County’s employers and services. \nClick here to view this year’s schedule. \n 
URL:https://geauganews.com/local-event/geauga-economic-leadership-gel-meeting-5/
LOCATION:Kent State Geauga Campus\, 14111 Claridon Troy Rd\, Burton\, 44021
ORGANIZER;CN="Geauga Economic Leadership":MAILTO:info@geaugagrowth.com
END:VEVENT
BEGIN:VEVENT
DTSTART;TZID=America/New_York:20131206T073000
DTEND;TZID=America/New_York:20131206T080000
DTSTAMP:20260421T181926
CREATED:20130814T203121Z
LAST-MODIFIED:20130814T203121Z
UID:10000108-1386315000-1386316800@geauganews.com
SUMMARY:Geauga Economic Leadership (GEL) Meeting
DESCRIPTION:Geauga Economic Leadership (GEL) is a series of breakfast meetings hosted by Kent State University Geauga Campus to foster a heightened awareness of business\, industry\, and public services present in Geauga County and to facilitate networking among the members of those sectors. Anyone working or living in Geauga County will benefit from learning more about the County’s employers and services. \nClick here to view this year’s schedule. \n 
URL:https://geauganews.com/local-event/geauga-economic-leadership-gel-meeting-4/
LOCATION:Kent State Geauga Campus\, 14111 Claridon Troy Rd\, Burton\, 44021
ORGANIZER;CN="Geauga Economic Leadership":MAILTO:info@geaugagrowth.com
END:VEVENT
BEGIN:VEVENT
DTSTART;TZID=America/New_York:20131101T073000
DTEND;TZID=America/New_York:20131101T090000
DTSTAMP:20260421T181926
CREATED:20130814T202804Z
LAST-MODIFIED:20130814T202804Z
UID:10000107-1383291000-1383296400@geauganews.com
SUMMARY:Geauga Economic Leadership (GEL) Meeting
DESCRIPTION:Geauga Economic Leadership (GEL) is a series of breakfast meetings hosted by Kent State University Geauga Campus to foster a heightened awareness of business\, industry\, and public services present in Geauga County and to facilitate networking among the members of those sectors. Anyone working or living in Geauga County will benefit from learning more about the County’s employers and services. \nClick here to view this year’s schedule. \n 
URL:https://geauganews.com/local-event/geauga-economic-leadership-gel-meeting-3/
LOCATION:Kent State Geauga Campus\, 14111 Claridon Troy Rd\, Burton\, 44021
ORGANIZER;CN="Geauga Economic Leadership":MAILTO:info@geaugagrowth.com
END:VEVENT
BEGIN:VEVENT
DTSTART;TZID=America/New_York:20131004T073000
DTEND;TZID=America/New_York:20131004T090000
DTSTAMP:20260421T181926
CREATED:20130814T202526Z
LAST-MODIFIED:20130814T204228Z
UID:10000106-1380871800-1380877200@geauganews.com
SUMMARY:Geauga Economic Leadership (GEL) Meeting
DESCRIPTION:Geauga Economic Leadership (GEL) is a series of breakfast meetings hosted by Kent State University Geauga Campus to foster a heightened awareness of business\, industry\, and public services present in Geauga County and to facilitate networking among the members of those sectors. Anyone working or living in Geauga County will benefit from learning more about the County’s employers and services. \nClick here to view this year’s schedule. \n 
URL:https://geauganews.com/local-event/geauga-economic-leadership-gel-meeting-2/
LOCATION:Kent State Geauga Campus\, 14111 Claridon Troy Rd\, Burton\, 44021
ORGANIZER;CN="Geauga Economic Leadership":MAILTO:info@geaugagrowth.com
END:VEVENT
BEGIN:VEVENT
DTSTART;TZID=America/New_York:20130906T073000
DTEND;TZID=America/New_York:20130906T090000
DTSTAMP:20260421T181926
CREATED:20130814T202043Z
LAST-MODIFIED:20130814T202359Z
UID:10000105-1378452600-1378458000@geauganews.com
SUMMARY:Geauga Economic Leadership (GEL) Meeting
DESCRIPTION:Geauga Economic Leadership (GEL) is a series of breakfast meetings hosted by Kent State University Geauga Campus to foster a heightened awareness of business\, industry\, and public services present in Geauga County and to facilitate networking among the members of those sectors. Anyone working or living in Geauga County will benefit from learning more about the County’s employers and services. \nClick here to view this year’s schedule. \n 
URL:https://geauganews.com/local-event/geauga-economic-leadership-gel-meeting/
LOCATION:Kent State Geauga Campus\, 14111 Claridon Troy Rd\, Burton\, 44021\, United States
ORGANIZER;CN="Geauga Economic Leadership":MAILTO:info@geaugagrowth.com
END:VEVENT
END:VCALENDAR