BEGIN:VCALENDAR
VERSION:2.0
PRODID:-//Geauga News - ECPv6.15.20//NONSGML v1.0//EN
CALSCALE:GREGORIAN
METHOD:PUBLISH
X-ORIGINAL-URL:https://geauganews.com
X-WR-CALDESC:Events for Geauga News
REFRESH-INTERVAL;VALUE=DURATION:PT1H
X-Robots-Tag:noindex
X-PUBLISHED-TTL:PT1H
BEGIN:VTIMEZONE
TZID:America/New_York
BEGIN:DAYLIGHT
TZOFFSETFROM:-0500
TZOFFSETTO:-0400
TZNAME:EDT
DTSTART:20120311T070000
END:DAYLIGHT
BEGIN:STANDARD
TZOFFSETFROM:-0400
TZOFFSETTO:-0500
TZNAME:EST
DTSTART:20121104T060000
END:STANDARD
BEGIN:DAYLIGHT
TZOFFSETFROM:-0500
TZOFFSETTO:-0400
TZNAME:EDT
DTSTART:20130310T070000
END:DAYLIGHT
BEGIN:STANDARD
TZOFFSETFROM:-0400
TZOFFSETTO:-0500
TZNAME:EST
DTSTART:20131103T060000
END:STANDARD
BEGIN:DAYLIGHT
TZOFFSETFROM:-0500
TZOFFSETTO:-0400
TZNAME:EDT
DTSTART:20140309T070000
END:DAYLIGHT
BEGIN:STANDARD
TZOFFSETFROM:-0400
TZOFFSETTO:-0500
TZNAME:EST
DTSTART:20141102T060000
END:STANDARD
END:VTIMEZONE
BEGIN:VEVENT
DTSTART;TZID=America/New_York:20130719T090000
DTEND;TZID=America/New_York:20130720T160000
DTSTAMP:20260421T182226
CREATED:20130710T221951Z
LAST-MODIFIED:20130712T195631Z
UID:10000066-1374224400-1374336000@geauganews.com
SUMMARY:ReStore Anniversary Sale
DESCRIPTION:The ReStore will be celebrating their 3rd Anniversary on  July 19-20\,2013. If you would like to give them an anniversary gift\, you can make a donation or volunteer your time. Click here to get more information about donations and volunteering. But they want to celebrate by giving you a gift – 30% off everything in the store!!! How great is that? \nClick here for more event information and sale hours.
URL:https://geauganews.com/local-event/restore-anniversary-sale/
LOCATION:Geauga Habitat for Humanity ReStore\, 12810 Kinsman Rd\, Newbury\, OH\, 44065\, United States
END:VEVENT
END:VCALENDAR