BEGIN:VCALENDAR
VERSION:2.0
PRODID:-//Geauga News - ECPv6.15.20//NONSGML v1.0//EN
CALSCALE:GREGORIAN
METHOD:PUBLISH
X-ORIGINAL-URL:https://geauganews.com
X-WR-CALDESC:Events for Geauga News
REFRESH-INTERVAL;VALUE=DURATION:PT1H
X-Robots-Tag:noindex
X-PUBLISHED-TTL:PT1H
BEGIN:VTIMEZONE
TZID:UTC
BEGIN:STANDARD
TZOFFSETFROM:+0000
TZOFFSETTO:+0000
TZNAME:UTC
DTSTART:20120101T000000
END:STANDARD
END:VTIMEZONE
BEGIN:VTIMEZONE
TZID:America/New_York
BEGIN:DAYLIGHT
TZOFFSETFROM:-0500
TZOFFSETTO:-0400
TZNAME:EDT
DTSTART:20120311T070000
END:DAYLIGHT
BEGIN:STANDARD
TZOFFSETFROM:-0400
TZOFFSETTO:-0500
TZNAME:EST
DTSTART:20121104T060000
END:STANDARD
BEGIN:DAYLIGHT
TZOFFSETFROM:-0500
TZOFFSETTO:-0400
TZNAME:EDT
DTSTART:20130310T070000
END:DAYLIGHT
BEGIN:STANDARD
TZOFFSETFROM:-0400
TZOFFSETTO:-0500
TZNAME:EST
DTSTART:20131103T060000
END:STANDARD
BEGIN:DAYLIGHT
TZOFFSETFROM:-0500
TZOFFSETTO:-0400
TZNAME:EDT
DTSTART:20140309T070000
END:DAYLIGHT
BEGIN:STANDARD
TZOFFSETFROM:-0400
TZOFFSETTO:-0500
TZNAME:EST
DTSTART:20141102T060000
END:STANDARD
END:VTIMEZONE
BEGIN:VEVENT
DTSTART;TZID=UTC:20131208T140000
DTEND;TZID=UTC:20131208T160000
DTSTAMP:20260421T134348
CREATED:20131108T170236Z
LAST-MODIFIED:20131108T170236Z
UID:10000236-1386511200-1386518400@geauganews.com
SUMMARY:Miracle on 34th Street
DESCRIPTION:The holiday season main stage production\, sponsored by Chardon Smile Center\, is the heart-warming classic Miracle on 34th Street directed by Patty Osredkar and produced in association with Dramatic Publishing Co of Woodstock\, Illinois. Running three weekends\, beginning December 6 through the 22\, Miracle on 34th Street is based on the 20th Century Fox Motion picture and adapted by Mountain Community Theater from the novel by Valentine Davies. \nFor more information on productions and classes\, to register \,or purchase tickets\, visit the website or call the Box Office at 440-286-2255. Box Office hours through December are Wednesday\, Thursday\, and Friday 4 pm-7 pm and Saturday. Special group ticket rates are available through the Box Office.
URL:https://geauganews.com/local-event/miracle-on-34th-street-3/
LOCATION:Geauga Theater\, 101 Water St\, Chardon\, 44024
END:VEVENT
BEGIN:VEVENT
DTSTART;TZID=UTC:20131207T200000
DTEND;TZID=UTC:20131207T220000
DTSTAMP:20260421T134348
CREATED:20131108T170224Z
LAST-MODIFIED:20131108T170224Z
UID:10000235-1386446400-1386453600@geauganews.com
SUMMARY:Miracle on 34th Street
DESCRIPTION:The holiday season main stage production\, sponsored by Chardon Smile Center\, is the heart-warming classic Miracle on 34th Street directed by Patty Osredkar and produced in association with Dramatic Publishing Co of Woodstock\, Illinois. Running three weekends\, beginning December 6 through the 22\, Miracle on 34th Street is based on the 20th Century Fox Motion picture and adapted by Mountain Community Theater from the novel by Valentine Davies. \nFor more information on productions and classes\, to register \,or purchase tickets\, visit the website or call the Box Office at 440-286-2255. Box Office hours through December are Wednesday\, Thursday\, and Friday 4 pm-7 pm and Saturday. Special group ticket rates are available through the Box Office.
URL:https://geauganews.com/local-event/miracle-on-34th-street-2/
LOCATION:Geauga Theater\, 101 Water St\, Chardon\, 44024
END:VEVENT
BEGIN:VEVENT
DTSTART;TZID=America/New_York:20131207T100000
DTEND;TZID=America/New_York:20131207T113000
DTSTAMP:20260421T134348
CREATED:20131108T162054Z
LAST-MODIFIED:20131108T162645Z
UID:10000228-1386410400-1386415800@geauganews.com
SUMMARY:The second annual clay ornament workshop
DESCRIPTION:Join us as we make holiday ornaments out of clay! In age appropriate groups\, students will learn coil\, slab\, and pinch-pot techniques to form their own unique ornament which they will construct and glaze. A great keepsake or gift. \nInstructor: Katie Arnold \nPrice: $25 \nFor more information on productions and classes\, to register \,or purchase tickets\, visit the website or call the Box Office at 440-286-2255. Box Office hours through December are Wednesday\, Thursday\, and Friday 4 pm-7 pm and Saturday. Special group ticket rates are available through the Box Office.
URL:https://geauganews.com/local-event/the-second-annual-clay-ornament-workshop-2/
LOCATION:Geauga Theater Arts Center\, 106 Water Street\, Chardon\, 44024
END:VEVENT
BEGIN:VEVENT
DTSTART;TZID=UTC:20131206T200000
DTEND;TZID=UTC:20131206T220000
DTSTAMP:20260421T134348
CREATED:20131108T170212Z
LAST-MODIFIED:20131108T170212Z
UID:10000234-1386360000-1386367200@geauganews.com
SUMMARY:Miracle on 34th Street
DESCRIPTION:The holiday season main stage production\, sponsored by Chardon Smile Center\, is the heart-warming classic Miracle on 34th Street directed by Patty Osredkar and produced in association with Dramatic Publishing Co of Woodstock\, Illinois. Running three weekends\, beginning December 6 through the 22\, Miracle on 34th Street is based on the 20th Century Fox Motion picture and adapted by Mountain Community Theater from the novel by Valentine Davies. \nFor more information on productions and classes\, to register \,or purchase tickets\, visit the website or call the Box Office at 440-286-2255. Box Office hours through December are Wednesday\, Thursday\, and Friday 4 pm-7 pm and Saturday. Special group ticket rates are available through the Box Office.
URL:https://geauganews.com/local-event/miracle-on-34th-street/
LOCATION:Geauga Theater\, 101 Water St\, Chardon\, 44024
END:VEVENT
BEGIN:VEVENT
DTSTART;TZID=America/New_York:20131103T140000
DTEND;TZID=America/New_York:20131103T160000
DTSTAMP:20260421T134348
CREATED:20131010T071846Z
LAST-MODIFIED:20131010T071846Z
UID:10000199-1383487200-1383494400@geauganews.com
SUMMARY:The Haunting of Hill House
DESCRIPTION:Anyone looking for unique seasonal entertainment need look no further than the Geauga Theater in Chardon. The Haunting of Hill House\, a psychological thriller which will open on October 18\, promises to provide audience members with a new experience from Geauga Lyric Theater. By utilizing light and sound design and unique twists of the script\, suspense will be heightened in director D. Roger Dixon’s chilling production. \nDuring the run of the show patrons can enjoy not only a night of haunting theater\, but a special art show in the lobby featuring eerie art and photography by area artists and students. The audiences of The Haunting of Hill House will have the unique opportunity to vote on their favorites in youth and adult divisions with the winners announced November 5. \nThe Haunting of Hill House\, sponsored by H & R Block and written by F. Andrew Leslie adapted from the novel by Shirley Jackson\, will run October 18 through November 3. Friday and Saturday evening performances are at 8 p.m.; Sunday performances are at 2 p.m.. Tickets are $15.00 for adults\, $13.00 for seniors and students. Season passes are still available and can save patrons approximately 20% off the regular ticket price. \nThe historic Geauga Theater is located on beautiful Chardon Square at 101 Water Street\, Chardon\, Ohio. For information or to purchase tickets visit the website\, or call the box office at 440-286-2255.
URL:https://geauganews.com/local-event/the-haunting-of-hill-house-9/
LOCATION:Geauga Theater\, 101 Water St\, Chardon\, OH\, 44024\, United States
END:VEVENT
BEGIN:VEVENT
DTSTART;TZID=America/New_York:20131102T200000
DTEND;TZID=America/New_York:20131102T220000
DTSTAMP:20260421T134348
CREATED:20131010T071612Z
LAST-MODIFIED:20131010T071612Z
UID:10000198-1383422400-1383429600@geauganews.com
SUMMARY:The Haunting of Hill House
DESCRIPTION:Anyone looking for unique seasonal entertainment need look no further than the Geauga Theater in Chardon. The Haunting of Hill House\, a psychological thriller which will open on October 18\, promises to provide audience members with a new experience from Geauga Lyric Theater. By utilizing light and sound design and unique twists of the script\, suspense will be heightened in director D. Roger Dixon’s chilling production. \nDuring the run of the show patrons can enjoy not only a night of haunting theater\, but a special art show in the lobby featuring eerie art and photography by area artists and students. The audiences of The Haunting of Hill House will have the unique opportunity to vote on their favorites in youth and adult divisions with the winners announced November 5. \nThe Haunting of Hill House\, sponsored by H & R Block and written by F. Andrew Leslie adapted from the novel by Shirley Jackson\, will run October 18 through November 3. Friday and Saturday evening performances are at 8 p.m.; Sunday performances are at 2 p.m.. Tickets are $15.00 for adults\, $13.00 for seniors and students. Season passes are still available and can save patrons approximately 20% off the regular ticket price. \nThe historic Geauga Theater is located on beautiful Chardon Square at 101 Water Street\, Chardon\, Ohio. For information or to purchase tickets visit the website\, or call the box office at 440-286-2255.
URL:https://geauganews.com/local-event/the-haunting-of-hill-house-8/
LOCATION:Geauga Theater\, 101 Water St\, Chardon\, 44024
END:VEVENT
BEGIN:VEVENT
DTSTART;TZID=America/New_York:20131101T200000
DTEND;TZID=America/New_York:20131101T220000
DTSTAMP:20260421T134348
CREATED:20131010T071334Z
LAST-MODIFIED:20131010T071334Z
UID:10000197-1383336000-1383343200@geauganews.com
SUMMARY:The Haunting of Hill House
DESCRIPTION:Anyone looking for unique seasonal entertainment need look no further than the Geauga Theater in Chardon. The Haunting of Hill House\, a psychological thriller which will open on October 18\, promises to provide audience members with a new experience from Geauga Lyric Theater. By utilizing light and sound design and unique twists of the script\, suspense will be heightened in director D. Roger Dixon’s chilling production. \nDuring the run of the show patrons can enjoy not only a night of haunting theater\, but a special art show in the lobby featuring eerie art and photography by area artists and students. The audiences of The Haunting of Hill House will have the unique opportunity to vote on their favorites in youth and adult divisions with the winners announced November 5. \nThe Haunting of Hill House\, sponsored by H & R Block and written by F. Andrew Leslie adapted from the novel by Shirley Jackson\, will run October 18 through November 3. Friday and Saturday evening performances are at 8 p.m.; Sunday performances are at 2 p.m.. Tickets are $15.00 for adults\, $13.00 for seniors and students. Season passes are still available and can save patrons approximately 20% off the regular ticket price. \nThe historic Geauga Theater is located on beautiful Chardon Square at 101 Water Street\, Chardon\, Ohio. For information or to purchase tickets visit the website\, or call the box office at 440-286-2255.
URL:https://geauganews.com/local-event/the-haunting-of-hill-house-7/
LOCATION:Geauga Theater\, 101 Water St\, Chardon\, OH\, 44024\, United States
END:VEVENT
BEGIN:VEVENT
DTSTART;TZID=America/New_York:20131027T140000
DTEND;TZID=America/New_York:20131027T160000
DTSTAMP:20260421T134348
CREATED:20131010T062242Z
LAST-MODIFIED:20131010T062242Z
UID:10000196-1382882400-1382889600@geauganews.com
SUMMARY:The Haunting of Hill House
DESCRIPTION:Anyone looking for unique seasonal entertainment need look no further than the Geauga Theater in Chardon. The Haunting of Hill House\, a psychological thriller which will open on October 18\, promises to provide audience members with a new experience from Geauga Lyric Theater. By utilizing light and sound design and unique twists of the script\, suspense will be heightened in director D. Roger Dixon’s chilling production. \nDuring the run of the show patrons can enjoy not only a night of haunting theater\, but a special art show in the lobby featuring eerie art and photography by area artists and students. The audiences of The Haunting of Hill House will have the unique opportunity to vote on their favorites in youth and adult divisions with the winners announced November 5. \nThe Haunting of Hill House\, sponsored by H & R Block and written by F. Andrew Leslie adapted from the novel by Shirley Jackson\, will run October 18 through November 3. Friday and Saturday evening performances are at 8 p.m.; Sunday performances are at 2 p.m.. Tickets are $15.00 for adults\, $13.00 for seniors and students. Season passes are still available and can save patrons approximately 20% off the regular ticket price. \nThe historic Geauga Theater is located on beautiful Chardon Square at 101 Water Street\, Chardon\, Ohio. For information or to purchase tickets visit the website\, or call the box office at 440-286-2255.
URL:https://geauganews.com/local-event/the-haunting-of-hill-house-6/
LOCATION:Geauga Theater\, 101 Water St\, Chardon\, 44024
END:VEVENT
BEGIN:VEVENT
DTSTART;TZID=America/New_York:20131026T200000
DTEND;TZID=America/New_York:20131026T220000
DTSTAMP:20260421T134348
CREATED:20131010T062040Z
LAST-MODIFIED:20131010T062040Z
UID:10000195-1382817600-1382824800@geauganews.com
SUMMARY:The Haunting of Hill House
DESCRIPTION:Anyone looking for unique seasonal entertainment need look no further than the Geauga Theater in Chardon. The Haunting of Hill House\, a psychological thriller which will open on October 18\, promises to provide audience members with a new experience from Geauga Lyric Theater. By utilizing light and sound design and unique twists of the script\, suspense will be heightened in director D. Roger Dixon’s chilling production. \nDuring the run of the show patrons can enjoy not only a night of haunting theater\, but a special art show in the lobby featuring eerie art and photography by area artists and students. The audiences of The Haunting of Hill House will have the unique opportunity to vote on their favorites in youth and adult divisions with the winners announced November 5. \nThe Haunting of Hill House\, sponsored by H & R Block and written by F. Andrew Leslie adapted from the novel by Shirley Jackson\, will run October 18 through November 3. Friday and Saturday evening performances are at 8 p.m.; Sunday performances are at 2 p.m.. Tickets are $15.00 for adults\, $13.00 for seniors and students. Season passes are still available and can save patrons approximately 20% off the regular ticket price. \nThe historic Geauga Theater is located on beautiful Chardon Square at 101 Water Street\, Chardon\, Ohio. For information or to purchase tickets visit the website\, or call the box office at 440-286-2255.
URL:https://geauganews.com/local-event/the-haunting-of-hill-house-5/
LOCATION:Geauga Theater\, 101 Water St\, Chardon\, OH\, 44024\, United States
END:VEVENT
BEGIN:VEVENT
DTSTART;TZID=America/New_York:20131025T200000
DTEND;TZID=America/New_York:20131025T220000
DTSTAMP:20260421T134348
CREATED:20131010T061012Z
LAST-MODIFIED:20131010T061012Z
UID:10000194-1382731200-1382738400@geauganews.com
SUMMARY:The Haunting of Hill House
DESCRIPTION:Anyone looking for unique seasonal entertainment need look no further than the Geauga Theater in Chardon. The Haunting of Hill House\, a psychological thriller which will open on October 18\, promises to provide audience members with a new experience from Geauga Lyric Theater. By utilizing light and sound design and unique twists of the script\, suspense will be heightened in director D. Roger Dixon’s chilling production. \nDuring the run of the show patrons can enjoy not only a night of haunting theater\, but a special art show in the lobby featuring eerie art and photography by area artists and students. The audiences of The Haunting of Hill House will have the unique opportunity to vote on their favorites in youth and adult divisions with the winners announced November 5. \nThe Haunting of Hill House\, sponsored by H & R Block and written by F. Andrew Leslie adapted from the novel by Shirley Jackson\, will run October 18 through November 3. Friday and Saturday evening performances are at 8 p.m.; Sunday performances are at 2 p.m.. Tickets are $15.00 for adults\, $13.00 for seniors and students. Season passes are still available and can save patrons approximately 20% off the regular ticket price. \nThe historic Geauga Theater is located on beautiful Chardon Square at 101 Water Street\, Chardon\, Ohio. For information or to purchase tickets visit the website\, or call the box office at 440-286-2255.
URL:https://geauganews.com/local-event/the-haunting-of-hill-house-4/
LOCATION:Geauga Theater\, 101 Water St\, Chardon\, OH\, 44024\, United States
END:VEVENT
BEGIN:VEVENT
DTSTART;TZID=America/New_York:20131020T140000
DTEND;TZID=America/New_York:20131020T160000
DTSTAMP:20260421T134348
CREATED:20131010T060753Z
LAST-MODIFIED:20131010T060753Z
UID:10000193-1382277600-1382284800@geauganews.com
SUMMARY:The Haunting of Hill House
DESCRIPTION:Anyone looking for unique seasonal entertainment need look no further than the Geauga Theater in Chardon. The Haunting of Hill House\, a psychological thriller which will open on October 18\, promises to provide audience members with a new experience from Geauga Lyric Theater. By utilizing light and sound design and unique twists of the script\, suspense will be heightened in director D. Roger Dixon’s chilling production. \nDuring the run of the show patrons can enjoy not only a night of haunting theater\, but a special art show in the lobby featuring eerie art and photography by area artists and students. The audiences of The Haunting of Hill House will have the unique opportunity to vote on their favorites in youth and adult divisions with the winners announced November 5. \nThe Haunting of Hill House\, sponsored by H & R Block and written by F. Andrew Leslie adapted from the novel by Shirley Jackson\, will run October 18 through November 3. Friday and Saturday evening performances are at 8 p.m.; Sunday performances are at 2 p.m.. Tickets are $15.00 for adults\, $13.00 for seniors and students. Season passes are still available and can save patrons approximately 20% off the regular ticket price. \nThe historic Geauga Theater is located on beautiful Chardon Square at 101 Water Street\, Chardon\, Ohio. For information or to purchase tickets visit the website\, or call the box office at 440-286-2255.
URL:https://geauganews.com/local-event/the-haunting-of-hill-house-3/
LOCATION:Geauga Theater\, 101 Water St\, Chardon\, OH\, 44024\, United States
END:VEVENT
END:VCALENDAR