BEGIN:VCALENDAR
VERSION:2.0
PRODID:-//Geauga News - ECPv6.15.20//NONSGML v1.0//EN
CALSCALE:GREGORIAN
METHOD:PUBLISH
X-WR-CALNAME:Geauga News
X-ORIGINAL-URL:https://geauganews.com
X-WR-CALDESC:Events for Geauga News
REFRESH-INTERVAL;VALUE=DURATION:PT1H
X-Robots-Tag:noindex
X-PUBLISHED-TTL:PT1H
BEGIN:VTIMEZONE
TZID:America/New_York
BEGIN:DAYLIGHT
TZOFFSETFROM:-0500
TZOFFSETTO:-0400
TZNAME:EDT
DTSTART:20120311T070000
END:DAYLIGHT
BEGIN:STANDARD
TZOFFSETFROM:-0400
TZOFFSETTO:-0500
TZNAME:EST
DTSTART:20121104T060000
END:STANDARD
BEGIN:DAYLIGHT
TZOFFSETFROM:-0500
TZOFFSETTO:-0400
TZNAME:EDT
DTSTART:20130310T070000
END:DAYLIGHT
BEGIN:STANDARD
TZOFFSETFROM:-0400
TZOFFSETTO:-0500
TZNAME:EST
DTSTART:20131103T060000
END:STANDARD
BEGIN:DAYLIGHT
TZOFFSETFROM:-0500
TZOFFSETTO:-0400
TZNAME:EDT
DTSTART:20140309T070000
END:DAYLIGHT
BEGIN:STANDARD
TZOFFSETFROM:-0400
TZOFFSETTO:-0500
TZNAME:EST
DTSTART:20141102T060000
END:STANDARD
END:VTIMEZONE
BEGIN:VEVENT
DTSTART;TZID=America/New_York:20130916T183000
DTEND;TZID=America/New_York:20130916T200000
DTSTAMP:20260421T205902
CREATED:20130709T172725Z
LAST-MODIFIED:20130709T172725Z
UID:10000065-1379356200-1379361600@geauganews.com
SUMMARY:Hound Hike
DESCRIPTION:Plenty of tails will be wagging as you and your canine companion hike and pause to take in Geauga’s finest parks; pooches will also enjoy cooling their paws in the streams. \nNo bones about it – a good time will be had by all. \nRegistration is required for these all-ages programs online or by calling 440-286-9516. Please bring your own dog towels\, water bowl\, poop scoop and bags for clean-up. Only one non-aggressive dog per handler\, who must be able to fully control dog on leash at all times (8 ft. max). \nClick here for more event information.
URL:https://geauganews.com/local-event/hound-hike-3/
LOCATION:Beartown Lakes\, 18870 Quinn Road\, Auburn Township\, OH\, United States
END:VEVENT
BEGIN:VEVENT
DTSTART;TZID=America/New_York:20130824T103000
DTEND;TZID=America/New_York:20130824T120000
DTSTAMP:20260421T205902
CREATED:20130709T172014Z
LAST-MODIFIED:20130709T172014Z
UID:10000064-1377340200-1377345600@geauganews.com
SUMMARY:Hound Hike
DESCRIPTION:Plenty of tails will be wagging as you and your canine companion hike and pause to take in Geauga’s finest parks; pooches will also enjoy cooling their paws in the streams. \nNo bones about it – a good time will be had by all. \nRegistration is required for these all-ages programs online or by calling 440-286-9516. Please bring your own dog towels\, water bowl\, poop scoop and bags for clean-up. Only one non-aggressive dog per handler\, who must be able to fully control dog on leash at all times (8 ft. max). \nClick here for more event information.
URL:https://geauganews.com/local-event/hound-hike-2/
LOCATION:Swine Creek Reservation\, 16004 Hayes Road\, Middlefield\, OH\, United States
END:VEVENT
BEGIN:VEVENT
DTSTART;TZID=America/New_York:20130715T183000
DTEND;TZID=America/New_York:20130715T200000
DTSTAMP:20260421T205902
CREATED:20130709T171522Z
LAST-MODIFIED:20130709T171522Z
UID:10000063-1373913000-1373918400@geauganews.com
SUMMARY:Hound Hike
DESCRIPTION:Plenty of tails will be wagging as you and your canine companion hike and pause to take in Geauga’s finest parks; pooches will also enjoy cooling their paws in the streams. \nNo bones about it – a good time will be had by all. \nRegistration is required for these all-ages programs online or by calling 440-286-9516. Please bring your own dog towels\, water bowl\, poop scoop and bags for clean-up. Only one non-aggressive dog per handler\, who must be able to fully control dog on leash at all times (8 ft. max). \nClick here for more event information.
URL:https://geauganews.com/local-event/hound-hike/
LOCATION:The Rookery\, 10110 Cedar Road\, Munson\, OH\, United States
END:VEVENT
END:VCALENDAR