BEGIN:VCALENDAR
VERSION:2.0
PRODID:-//Geauga News - ECPv6.15.20//NONSGML v1.0//EN
CALSCALE:GREGORIAN
METHOD:PUBLISH
X-WR-CALNAME:Geauga News
X-ORIGINAL-URL:https://geauganews.com
X-WR-CALDESC:Events for Geauga News
REFRESH-INTERVAL;VALUE=DURATION:PT1H
X-Robots-Tag:noindex
X-PUBLISHED-TTL:PT1H
BEGIN:VTIMEZONE
TZID:UTC
BEGIN:STANDARD
TZOFFSETFROM:+0000
TZOFFSETTO:+0000
TZNAME:UTC
DTSTART:20120101T000000
END:STANDARD
END:VTIMEZONE
BEGIN:VTIMEZONE
TZID:America/New_York
BEGIN:DAYLIGHT
TZOFFSETFROM:-0500
TZOFFSETTO:-0400
TZNAME:EDT
DTSTART:20120311T070000
END:DAYLIGHT
BEGIN:STANDARD
TZOFFSETFROM:-0400
TZOFFSETTO:-0500
TZNAME:EST
DTSTART:20121104T060000
END:STANDARD
BEGIN:DAYLIGHT
TZOFFSETFROM:-0500
TZOFFSETTO:-0400
TZNAME:EDT
DTSTART:20130310T070000
END:DAYLIGHT
BEGIN:STANDARD
TZOFFSETFROM:-0400
TZOFFSETTO:-0500
TZNAME:EST
DTSTART:20131103T060000
END:STANDARD
BEGIN:DAYLIGHT
TZOFFSETFROM:-0500
TZOFFSETTO:-0400
TZNAME:EDT
DTSTART:20140309T070000
END:DAYLIGHT
BEGIN:STANDARD
TZOFFSETFROM:-0400
TZOFFSETTO:-0500
TZNAME:EST
DTSTART:20141102T060000
END:STANDARD
END:VTIMEZONE
BEGIN:VEVENT
DTSTART;TZID=UTC:20130915T130000
DTEND;TZID=UTC:20130915T160000
DTSTAMP:20260421T221955
CREATED:20130716T175359Z
LAST-MODIFIED:20130716T175359Z
UID:10000078-1379250000-1379260800@geauganews.com
SUMMARY:EZ-GO Cart Tours
DESCRIPTION:Geauga Park District offers EZ Go Cart tours at 6 parks this summer \nIn keeping with its mission to connect all Geauga County residents with Nature\, Geauga Park District continues to offer its new trail vehicle\, introduced in 2012\, for park patrons with limited mobility and their friends and family. \nClick here for dates and locations of all of the tours.
URL:https://geauganews.com/local-event/ez-go-cart-tours-4/
LOCATION:Observatory Park
END:VEVENT
BEGIN:VEVENT
DTSTART;TZID=UTC:20130904T100000
DTEND;TZID=UTC:20130904T120000
DTSTAMP:20260421T221955
CREATED:20130716T174954Z
LAST-MODIFIED:20130805T151737Z
UID:10000077-1378288800-1378296000@geauganews.com
SUMMARY:EZ-GO Cart Tours
DESCRIPTION:Geauga Park District offers EZ Go Cart tours at 6 parks this summer \nIn keeping with its mission to connect all Geauga County residents with Nature\, Geauga Park District continues to offer its new trail vehicle\, introduced in 2012\, for park patrons with limited mobility and their friends and family. \nClick here for dates and locations of all of the tours.
URL:https://geauganews.com/local-event/ez-go-cart-tours1/
LOCATION:Frohring Meadows
END:VEVENT
BEGIN:VEVENT
DTSTART;TZID=UTC:20130822T093000
DTEND;TZID=UTC:20130822T234500
DTSTAMP:20260421T221955
CREATED:20130716T174554Z
LAST-MODIFIED:20130716T174554Z
UID:10000076-1377163800-1377215100@geauganews.com
SUMMARY:EZ-GO Cart Tours
DESCRIPTION:Geauga Park District offers EZ Go Cart tours at 6 parks this summer \nIn keeping with its mission to connect all Geauga County residents with Nature\, Geauga Park District continues to offer its new trail vehicle\, introduced in 2012\, for park patrons with limited mobility and their friends and family. \nClick here for dates and locations of all of the tours.
URL:https://geauganews.com/local-event/ez-go-cart-tours-3/
LOCATION:The Rookery
END:VEVENT
BEGIN:VEVENT
DTSTART;TZID=UTC:20130805T100000
DTEND;TZID=UTC:20130805T120000
DTSTAMP:20260421T221955
CREATED:20130716T174134Z
LAST-MODIFIED:20130716T174134Z
UID:10000075-1375696800-1375704000@geauganews.com
SUMMARY:EZ-GO Cart Tours
DESCRIPTION:Geauga Park District offers EZ Go Cart tours at 6 parks this summer \nIn keeping with its mission to connect all Geauga County residents with Nature\, Geauga Park District continues to offer its new trail vehicle\, introduced in 2012\, for park patrons with limited mobility and their friends and family. \nClick here for dates and locations of all of the tours.
URL:https://geauganews.com/local-event/ez-go-cart-tours-2/
LOCATION:Swine Creek Reservation\, 16004 Hayes Road\, Middlefield\, OH\, 44062\, United States
END:VEVENT
BEGIN:VEVENT
DTSTART;TZID=America/New_York:20130726T100000
DTEND;TZID=America/New_York:20130726T120000
DTSTAMP:20260421T221955
CREATED:20130716T173859Z
LAST-MODIFIED:20130716T173859Z
UID:10000074-1374832800-1374840000@geauganews.com
SUMMARY:EZ Go Cart tours
DESCRIPTION:Geauga Park District offers EZ Go Cart tours at 6 parks this summer \nIn keeping with its mission to connect all Geauga County residents with Nature\, Geauga Park District continues to offer its new trail vehicle\, introduced in 2012\, for park patrons with limited mobility and their friends and family. \nClick here for dates and locations of all of the tours.
URL:https://geauganews.com/local-event/ez-go-cart-tours/
LOCATION:Headwaters Park
END:VEVENT
END:VCALENDAR