BEGIN:VCALENDAR
VERSION:2.0
PRODID:-//Geauga News - ECPv6.15.20//NONSGML v1.0//EN
CALSCALE:GREGORIAN
METHOD:PUBLISH
X-ORIGINAL-URL:https://geauganews.com
X-WR-CALDESC:Events for Geauga News
REFRESH-INTERVAL;VALUE=DURATION:PT1H
X-Robots-Tag:noindex
X-PUBLISHED-TTL:PT1H
BEGIN:VTIMEZONE
TZID:America/New_York
BEGIN:DAYLIGHT
TZOFFSETFROM:-0500
TZOFFSETTO:-0400
TZNAME:EDT
DTSTART:20120311T070000
END:DAYLIGHT
BEGIN:STANDARD
TZOFFSETFROM:-0400
TZOFFSETTO:-0500
TZNAME:EST
DTSTART:20121104T060000
END:STANDARD
BEGIN:DAYLIGHT
TZOFFSETFROM:-0500
TZOFFSETTO:-0400
TZNAME:EDT
DTSTART:20130310T070000
END:DAYLIGHT
BEGIN:STANDARD
TZOFFSETFROM:-0400
TZOFFSETTO:-0500
TZNAME:EST
DTSTART:20131103T060000
END:STANDARD
BEGIN:DAYLIGHT
TZOFFSETFROM:-0500
TZOFFSETTO:-0400
TZNAME:EDT
DTSTART:20140309T070000
END:DAYLIGHT
BEGIN:STANDARD
TZOFFSETFROM:-0400
TZOFFSETTO:-0500
TZNAME:EST
DTSTART:20141102T060000
END:STANDARD
END:VTIMEZONE
BEGIN:VEVENT
DTSTART;TZID=America/New_York:20131115T193000
DTEND;TZID=America/New_York:20131115T203000
DTSTAMP:20260422T020604
CREATED:20131104T190745Z
LAST-MODIFIED:20131104T190745Z
UID:10000223-1384543800-1384547400@geauganews.com
SUMMARY:Nature in Music: A Little Night Music
DESCRIPTION:Observatory Park hosts first “guided listening” experience\nExperience “guided listening” for the first time with Geauga Park District\, or try it again in the planetarium of the Robert McCullough Science Center at Observatory Park and hear the music you love in a whole new light – literally. \nNaturalist Linda Gilbert earned her master’s degree in music from Cleveland State University and will be your host this evening\, playing recordings of classical music beneath the projected stars of the planetarium and explaining how aspects of the music portray some extramusical scene\, bird\, or image of the night. \n“Guided listening is a technique that one of my music professors used for teaching a little bit about the history of the music\, what to listen for in the music\, how to listen for it\, and pointing these things out as they occur\,” Linda said. “Our list of composers for Nature in Music will include Mendelssohn\, Schubert\, Mozart\, Zelter and Mussorgsky.” \nThis program is geared toward adults; facilities are wheelchair/stroller accessible. Registration is not required. Call 440-286-9516 with questions. \nGeauga Park District is online\, Facebook\, Twitter and YouTube.
URL:https://geauganews.com/local-event/nature-in-music-a-little-night-music-2/
LOCATION:Observatory Park\, 10610 Clay Street\, Montville Township
END:VEVENT
END:VCALENDAR