BEGIN:VCALENDAR
VERSION:2.0
PRODID:-//Geauga News - ECPv6.15.20//NONSGML v1.0//EN
CALSCALE:GREGORIAN
METHOD:PUBLISH
X-ORIGINAL-URL:https://geauganews.com
X-WR-CALDESC:Events for Geauga News
REFRESH-INTERVAL;VALUE=DURATION:PT1H
X-Robots-Tag:noindex
X-PUBLISHED-TTL:PT1H
BEGIN:VTIMEZONE
TZID:America/New_York
BEGIN:DAYLIGHT
TZOFFSETFROM:-0500
TZOFFSETTO:-0400
TZNAME:EDT
DTSTART:20130310T070000
END:DAYLIGHT
BEGIN:STANDARD
TZOFFSETFROM:-0400
TZOFFSETTO:-0500
TZNAME:EST
DTSTART:20131103T060000
END:STANDARD
BEGIN:DAYLIGHT
TZOFFSETFROM:-0500
TZOFFSETTO:-0400
TZNAME:EDT
DTSTART:20140309T070000
END:DAYLIGHT
BEGIN:STANDARD
TZOFFSETFROM:-0400
TZOFFSETTO:-0500
TZNAME:EST
DTSTART:20141102T060000
END:STANDARD
BEGIN:DAYLIGHT
TZOFFSETFROM:-0500
TZOFFSETTO:-0400
TZNAME:EDT
DTSTART:20150308T070000
END:DAYLIGHT
BEGIN:STANDARD
TZOFFSETFROM:-0400
TZOFFSETTO:-0500
TZNAME:EST
DTSTART:20151101T060000
END:STANDARD
END:VTIMEZONE
BEGIN:VEVENT
DTSTART;TZID=America/New_York:20140201T200000
DTEND;TZID=America/New_York:20140201T220000
DTSTAMP:20260420T220453
CREATED:20140120T185237Z
LAST-MODIFIED:20140120T185237Z
UID:10000313-1391284800-1391292000@geauganews.com
SUMMARY:The Sound of Music at Geauga Theater
DESCRIPTION:The Sound of Music\, Geauga Lyric Theater Guild’s “Skip Kelley” Youth Production\, opens on January 17 at Geauga Theater in Chardon. Directed by Bradley Allen\, this popular musical is based on the story of the singing von Trapp Family\, and features many talented regional youth. \nSarah Pribulsky\, a high school senior in the lead role of Maria\, believes everyone will “enjoy the excitement and passion presented within the show. Every person in the cast makes an overall impact\, and everyone is so talented. Without everyone involved\, the hills will not be alive with music.” \nThe Lakeland Community College student playing Captain von Trapp\, Cory Bryner\, enjoyed the challenges of his character . He states\, “You get to see the inner turmoil while faced to make very difficult decisions including love\, his family\, and his love for his country as they are all challenged throughout this production.” \nIsabella Mastery (Frau Schmidt/Sister Hyacinth)\, a home-schooled sophomore\, feels the audience will “be able to see the real connection between the cast members on stage and I think all our hard work will definitely shine through.” \n“The Sound of Music”\, with music by Richard Rodgers and lyrics by Oscar Hammerstein II and book by Howard Lindsay and Russel Crouse\, will run from January 17 through February 2. Friday and Saturday evening performances are at 8 p.m.; Sunday performances at 2 p.m. Marquee sponsor is Lake Health. All tickets are $14.00. \nThe historic Geauga Theater is located on beautiful Chardon Square at 101 Water Street\, in Chardon\, Ohio. For more information or to purchase tickets\, visit the website or call the box office at 440-286-2255. \nPhoto information: Maria (Sarah Pribulsky) is surrounded by the von Trapp children (Flo Piotrowski\, Jason Tysl\, Melanie Schaefer\, Patrick Moorman\, Zsofi Karetka\, Melanie Gittens\, Eliana Palermo)
URL:https://geauganews.com/local-event/the-sound-of-music-at-geauga-theater-5/
LOCATION:Geauga Theater\, 101 Water St\, Chardon\, 44024
END:VEVENT
BEGIN:VEVENT
DTSTART;TZID=America/New_York:20140131T200000
DTEND;TZID=America/New_York:20140131T220000
DTSTAMP:20260420T220453
CREATED:20140120T185012Z
LAST-MODIFIED:20140120T185012Z
UID:10000312-1391198400-1391205600@geauganews.com
SUMMARY:The Sound of Music at Geauga Theater
DESCRIPTION:The Sound of Music\, Geauga Lyric Theater Guild’s “Skip Kelley” Youth Production\, opens on January 17 at Geauga Theater in Chardon. Directed by Bradley Allen\, this popular musical is based on the story of the singing von Trapp Family\, and features many talented regional youth. \nSarah Pribulsky\, a high school senior in the lead role of Maria\, believes everyone will “enjoy the excitement and passion presented within the show. Every person in the cast makes an overall impact\, and everyone is so talented. Without everyone involved\, the hills will not be alive with music.” \nThe Lakeland Community College student playing Captain von Trapp\, Cory Bryner\, enjoyed the challenges of his character . He states\, “You get to see the inner turmoil while faced to make very difficult decisions including love\, his family\, and his love for his country as they are all challenged throughout this production.” \nIsabella Mastery (Frau Schmidt/Sister Hyacinth)\, a home-schooled sophomore\, feels the audience will “be able to see the real connection between the cast members on stage and I think all our hard work will definitely shine through.” \n“The Sound of Music”\, with music by Richard Rodgers and lyrics by Oscar Hammerstein II and book by Howard Lindsay and Russel Crouse\, will run from January 17 through February 2. Friday and Saturday evening performances are at 8 p.m.; Sunday performances at 2 p.m. Marquee sponsor is Lake Health. All tickets are $14.00. \nThe historic Geauga Theater is located on beautiful Chardon Square at 101 Water Street\, in Chardon\, Ohio. For more information or to purchase tickets\, visit the website or call the box office at 440-286-2255. \nPhoto information: Maria (Sarah Pribulsky) is surrounded by the von Trapp children (Flo Piotrowski\, Jason Tysl\, Melanie Schaefer\, Patrick Moorman\, Zsofi Karetka\, Melanie Gittens\, Eliana Palermo)
URL:https://geauganews.com/local-event/the-sound-of-music-at-geauga-theater-4/
LOCATION:Geauga Theater\, 101 Water St\, Chardon\, 44024
END:VEVENT
BEGIN:VEVENT
DTSTART;TZID=America/New_York:20140126T140000
DTEND;TZID=America/New_York:20140126T160000
DTSTAMP:20260420T220453
CREATED:20140120T184740Z
LAST-MODIFIED:20140120T184740Z
UID:10000311-1390744800-1390752000@geauganews.com
SUMMARY:The Sound of Music at Geauga Theater
DESCRIPTION:The Sound of Music\, Geauga Lyric Theater Guild’s “Skip Kelley” Youth Production\, opens on January 17 at Geauga Theater in Chardon. Directed by Bradley Allen\, this popular musical is based on the story of the singing von Trapp Family\, and features many talented regional youth. \nSarah Pribulsky\, a high school senior in the lead role of Maria\, believes everyone will “enjoy the excitement and passion presented within the show. Every person in the cast makes an overall impact\, and everyone is so talented. Without everyone involved\, the hills will not be alive with music.” \nThe Lakeland Community College student playing Captain von Trapp\, Cory Bryner\, enjoyed the challenges of his character . He states\, “You get to see the inner turmoil while faced to make very difficult decisions including love\, his family\, and his love for his country as they are all challenged throughout this production.” \nIsabella Mastery (Frau Schmidt/Sister Hyacinth)\, a home-schooled sophomore\, feels the audience will “be able to see the real connection between the cast members on stage and I think all our hard work will definitely shine through.” \n“The Sound of Music”\, with music by Richard Rodgers and lyrics by Oscar Hammerstein II and book by Howard Lindsay and Russel Crouse\, will run from January 17 through February 2. Friday and Saturday evening performances are at 8 p.m.; Sunday performances at 2 p.m. Marquee sponsor is Lake Health. All tickets are $14.00. \nThe historic Geauga Theater is located on beautiful Chardon Square at 101 Water Street\, in Chardon\, Ohio. For more information or to purchase tickets\, visit the website or call the box office at 440-286-2255. \nPhoto information: Maria (Sarah Pribulsky) is surrounded by the von Trapp children (Flo Piotrowski\, Jason Tysl\, Melanie Schaefer\, Patrick Moorman\, Zsofi Karetka\, Melanie Gittens\, Eliana Palermo)
URL:https://geauganews.com/local-event/the-sound-of-music-at-geauga-theater-3/
LOCATION:Geauga Theater\, 101 Water St\, Chardon\, 44024
END:VEVENT
BEGIN:VEVENT
DTSTART;TZID=America/New_York:20140125T200000
DTEND;TZID=America/New_York:20140125T220000
DTSTAMP:20260420T220453
CREATED:20140120T183031Z
LAST-MODIFIED:20140120T183031Z
UID:10000310-1390680000-1390687200@geauganews.com
SUMMARY:The Sound of Music at Geauga Theater
DESCRIPTION:The Sound of Music\, Geauga Lyric Theater Guild’s “Skip Kelley” Youth Production\, opens on January 17 at Geauga Theater in Chardon. Directed by Bradley Allen\, this popular musical is based on the story of the singing von Trapp Family\, and features many talented regional youth. \nSarah Pribulsky\, a high school senior in the lead role of Maria\, believes everyone will “enjoy the excitement and passion presented within the show. Every person in the cast makes an overall impact\, and everyone is so talented. Without everyone involved\, the hills will not be alive with music.” \nThe Lakeland Community College student playing Captain von Trapp\, Cory Bryner\, enjoyed the challenges of his character . He states\, “You get to see the inner turmoil while faced to make very difficult decisions including love\, his family\, and his love for his country as they are all challenged throughout this production.” \nIsabella Mastery (Frau Schmidt/Sister Hyacinth)\, a home-schooled sophomore\, feels the audience will “be able to see the real connection between the cast members on stage and I think all our hard work will definitely shine through.” \n“The Sound of Music”\, with music by Richard Rodgers and lyrics by Oscar Hammerstein II and book by Howard Lindsay and Russel Crouse\, will run from January 17 through February 2. Friday and Saturday evening performances are at 8 p.m.; Sunday performances at 2 p.m. Marquee sponsor is Lake Health. All tickets are $14.00. \nThe historic Geauga Theater is located on beautiful Chardon Square at 101 Water Street\, in Chardon\, Ohio. For more information or to purchase tickets\, visit the website or call the box office at 440-286-2255. \nPhoto information: Maria (Sarah Pribulsky) is surrounded by the von Trapp children (Flo Piotrowski\, Jason Tysl\, Melanie Schaefer\, Patrick Moorman\, Zsofi Karetka\, Melanie Gittens\, Eliana Palermo)
URL:https://geauganews.com/local-event/the-sound-of-music-at-geauga-theater-2/
LOCATION:Geauga Theater\, 101 Water St\, Chardon\, 44024
END:VEVENT
BEGIN:VEVENT
DTSTART;TZID=America/New_York:20140124T200000
DTEND;TZID=America/New_York:20140124T220000
DTSTAMP:20260420T220453
CREATED:20140120T182539Z
LAST-MODIFIED:20140120T182539Z
UID:10000309-1390593600-1390600800@geauganews.com
SUMMARY:The Sound of Music at Geauga Theater
DESCRIPTION:The Sound of Music\, Geauga Lyric Theater Guild’s “Skip Kelley” Youth Production\, opens on January 17 at Geauga Theater in Chardon. Directed by Bradley Allen\, this popular musical is based on the story of the singing von Trapp Family\, and features many talented regional youth. \nSarah Pribulsky\, a high school senior in the lead role of Maria\, believes everyone will “enjoy the excitement and passion presented within the show. Every person in the cast makes an overall impact\, and everyone is so talented. Without everyone involved\, the hills will not be alive with music.” \nThe Lakeland Community College student playing Captain von Trapp\, Cory Bryner\, enjoyed the challenges of his character . He states\, “You get to see the inner turmoil while faced to make very difficult decisions including love\, his family\, and his love for his country as they are all challenged throughout this production.” \nIsabella Mastery (Frau Schmidt/Sister Hyacinth)\, a home-schooled sophomore\, feels the audience will “be able to see the real connection between the cast members on stage and I think all our hard work will definitely shine through.” \n“The Sound of Music”\, with music by Richard Rodgers and lyrics by Oscar Hammerstein II and book by Howard Lindsay and Russel Crouse\, will run from January 17 through February 2. Friday and Saturday evening performances are at 8 p.m.; Sunday performances at 2 p.m. Marquee sponsor is Lake Health. All tickets are $14.00. \nThe historic Geauga Theater is located on beautiful Chardon Square at 101 Water Street\, in Chardon\, Ohio. For more information or to purchase tickets\, visit the website or call the box office at 440-286-2255. \nPhoto information: Maria (Sarah Pribulsky) is surrounded by the von Trapp children (Flo Piotrowski\, Jason Tysl\, Melanie Schaefer\, Patrick Moorman\, Zsofi Karetka\, Melanie Gittens\, Eliana Palermo)
URL:https://geauganews.com/local-event/the-sound-of-music-at-geauga-theater/
LOCATION:Geauga Theater\, 101 Water St\, Chardon\, 44024
END:VEVENT
END:VCALENDAR