BEGIN:VCALENDAR
VERSION:2.0
PRODID:-//Geauga News - ECPv6.15.20//NONSGML v1.0//EN
CALSCALE:GREGORIAN
METHOD:PUBLISH
X-ORIGINAL-URL:https://geauganews.com
X-WR-CALDESC:Events for Geauga News
REFRESH-INTERVAL;VALUE=DURATION:PT1H
X-Robots-Tag:noindex
X-PUBLISHED-TTL:PT1H
BEGIN:VTIMEZONE
TZID:America/New_York
BEGIN:DAYLIGHT
TZOFFSETFROM:-0500
TZOFFSETTO:-0400
TZNAME:EDT
DTSTART:20130310T070000
END:DAYLIGHT
BEGIN:STANDARD
TZOFFSETFROM:-0400
TZOFFSETTO:-0500
TZNAME:EST
DTSTART:20131103T060000
END:STANDARD
BEGIN:DAYLIGHT
TZOFFSETFROM:-0500
TZOFFSETTO:-0400
TZNAME:EDT
DTSTART:20140309T070000
END:DAYLIGHT
BEGIN:STANDARD
TZOFFSETFROM:-0400
TZOFFSETTO:-0500
TZNAME:EST
DTSTART:20141102T060000
END:STANDARD
BEGIN:DAYLIGHT
TZOFFSETFROM:-0500
TZOFFSETTO:-0400
TZNAME:EDT
DTSTART:20150308T070000
END:DAYLIGHT
BEGIN:STANDARD
TZOFFSETFROM:-0400
TZOFFSETTO:-0500
TZNAME:EST
DTSTART:20151101T060000
END:STANDARD
END:VTIMEZONE
BEGIN:VEVENT
DTSTART;VALUE=DATE:20140707
DTEND;VALUE=DATE:20140712
DTSTAMP:20260421T231248
CREATED:20140317T130051Z
LAST-MODIFIED:20140317T130051Z
UID:10000354-1404691200-1405123199@geauganews.com
SUMMARY:Summer Art Camp
DESCRIPTION:Summer Art Camp\nIt’s time to sign up for camp… \nRegister now for 4 weeks of unforgettable fun!\n9:00 – Noon for ages 5 & up \nLots of Art \, Creative Activities and of course FUN! \nJuly 7 – 11\n“from dragonflies to dogwoods” \nJuly 14 – 18\n“from sharks to shamrocks” \nJuly 21 – 25\n‘from hedgehogs to hazel” \nJuly 28 – Aug. 1\n“from blue birds to blue bells” \nFee: $150.00/week\n$135 add’l sibling or week\nREGISTER EARLY – SPACE IS LIMITED\nPlease the website for complete details
URL:https://geauganews.com/local-event/summer-art-camp/
LOCATION:MC Studio\, 14595 Baird St. (behind the library)\, Burton\, 44021
END:VEVENT
BEGIN:VEVENT
DTSTART;VALUE=DATE:20140517
DTEND;VALUE=DATE:20140519
DTSTAMP:20260421T231248
CREATED:20140317T125744Z
LAST-MODIFIED:20140317T125744Z
UID:10000353-1400284800-1400457599@geauganews.com
SUMMARY:Smudged!
DESCRIPTION:Smudged!\n \n1st annual “FUN”- raiser\nMark your calendars now and don’t miss out!\nMay 17 &18 \nPlease help us build our preschool playground\nDo you like the cooking show “Chopped?”\nThen join us for an artistic version! \nAn art competition just like the show. Each artist will get a mystery box of art supplies and will have to create something in a certain amount of time. So much fun to be had. We are currently looking for volunteers to help put this together. We need artists\, judges\, participants\, etc. \nThere is a $10 entry fee for each artist to participate.\nWinners will receive prizes and a chance to win a year of art classes.\nBake sale and auction items will also be available during competition. \nSee details HERE. \nPlease call Carlene at 440-313-8012 if interested in helping or participating.\nEntry deadline is May 14\, 2014
URL:https://geauganews.com/local-event/smudged/
LOCATION:MC Studio\, 14595 Baird St. (behind the library)\, Burton\, 44021
END:VEVENT
BEGIN:VEVENT
DTSTART;VALUE=DATE:20140415
DTEND;VALUE=DATE:20140418
DTSTAMP:20260421T231248
CREATED:20140317T124927Z
LAST-MODIFIED:20140317T125502Z
UID:10000351-1397520000-1397779199@geauganews.com
SUMMARY:Art Vacation
DESCRIPTION:Who needs Florida when you can come to MC Studio for spring break? Escape to your favorite places through art! \nJoin us April 15\, 16 & 17\n9:00 – 3:30 ages 3 & up – must be potty trained\n$50/day with 20 percent off each additional sibling or week \nCLICK HERE to read more….
URL:https://geauganews.com/local-event/art-vacation/
LOCATION:MC Studio\, 14595 Baird St. (behind the library)\, Burton\, 44021
END:VEVENT
BEGIN:VEVENT
DTSTART;TZID=America/New_York:20140321T183000
DTEND;TZID=America/New_York:20140321T223000
DTSTAMP:20260421T231248
CREATED:20140317T125311Z
LAST-MODIFIED:20140317T125311Z
UID:10000352-1395426600-1395441000@geauganews.com
SUMMARY:Kids Art Night
DESCRIPTION:Kids Art Night\nParents Night Out!!!\nMarch 21\, 6:30 p.m. – 10:30 p.m.\nLess expensive than a babysitter and way more fun!\nA peace of mind for parents….a fun safe place for your kids!\nThe third Friday of every month you can bring your children for a night of dinner\, art\, movies\, and fun. We supply the food\, art and fun. You supply the children. Please bring pajamas\, non-slip slippers\, blanket\, pillow\, and favorite stuffed friend. \nFor ages potty trained or in Pull-Ups & up\n$25.00/child $15 additional sibling\nBring a friend and get $5.00 off \nCLICK HERE to see more events at MC Studio….
URL:https://geauganews.com/local-event/kids-art-night/
LOCATION:MC Studio\, 14595 Baird St. (behind the library)\, Burton\, 44021
END:VEVENT
END:VCALENDAR