BEGIN:VCALENDAR
VERSION:2.0
PRODID:-//Geauga News - ECPv6.15.20//NONSGML v1.0//EN
CALSCALE:GREGORIAN
METHOD:PUBLISH
X-WR-CALNAME:Geauga News
X-ORIGINAL-URL:https://geauganews.com
X-WR-CALDESC:Events for Geauga News
REFRESH-INTERVAL;VALUE=DURATION:PT1H
X-Robots-Tag:noindex
X-PUBLISHED-TTL:PT1H
BEGIN:VTIMEZONE
TZID:America/New_York
BEGIN:DAYLIGHT
TZOFFSETFROM:-0500
TZOFFSETTO:-0400
TZNAME:EDT
DTSTART:20130310T070000
END:DAYLIGHT
BEGIN:STANDARD
TZOFFSETFROM:-0400
TZOFFSETTO:-0500
TZNAME:EST
DTSTART:20131103T060000
END:STANDARD
BEGIN:DAYLIGHT
TZOFFSETFROM:-0500
TZOFFSETTO:-0400
TZNAME:EDT
DTSTART:20140309T070000
END:DAYLIGHT
BEGIN:STANDARD
TZOFFSETFROM:-0400
TZOFFSETTO:-0500
TZNAME:EST
DTSTART:20141102T060000
END:STANDARD
BEGIN:DAYLIGHT
TZOFFSETFROM:-0500
TZOFFSETTO:-0400
TZNAME:EDT
DTSTART:20150308T070000
END:DAYLIGHT
BEGIN:STANDARD
TZOFFSETFROM:-0400
TZOFFSETTO:-0500
TZNAME:EST
DTSTART:20151101T060000
END:STANDARD
END:VTIMEZONE
BEGIN:VEVENT
DTSTART;TZID=America/New_York:20140405T183000
DTEND;TZID=America/New_York:20140405T223000
DTSTAMP:20260422T062510
CREATED:20140224T194854Z
LAST-MODIFIED:20140224T194854Z
UID:10000347-1396722600-1396737000@geauganews.com
SUMMARY:Troy Community House Contra Dance
DESCRIPTION:When: Saturday\, March 1 and Saturday\, April 5\, 2014 from 6:30 p.m. to 10:30 p.m. \nWhere: Troy Community House\, 13950 Main Market Road (Route 422) Burton\, Ohio 44021 \nThis dance is lively and friendly with live music! Try it\, you’ll like it! \nNo need for prior dance experience. Each Contra Dance throughout the evening is taught through simple instruction by dance caller Kenny Wilson. This is a great family friendly event that you will look forward to every first Saturday of the month (October through June). \nIntroductory dance lesson\, by Will Craig\, starts at 6:30 p.m. and the Contra Dance is from 7:30 p.m. to 10:30 p.m. Admission is $8 per adult\, $5 per student\, $25 per family and children under six years are free. \nFor more information contact Will Craig at (216) 316-0068 or willrcraig@gmail.com. \nInvestigate Northeast Ohio’s Contra Dance culture\, history and schedule by visiting the website.
URL:https://geauganews.com/local-event/troy-community-house-contra-dance-2/
LOCATION:Troy Community House\, 13950 Main Market Road\, Burton\, 44021
ORGANIZER;CN="Northeast Ohio Contra Dance":MAILTO:willrcraig@gmail.com
GEO:41.3867444;-81.1417538
X-APPLE-STRUCTURED-LOCATION;VALUE=URI;X-ADDRESS=Troy Community House 13950 Main Market Road Burton 44021;X-APPLE-RADIUS=500;X-TITLE=13950 Main Market Road:geo:-81.1417538,41.3867444
END:VEVENT
END:VCALENDAR