BEGIN:VCALENDAR
VERSION:2.0
PRODID:-//Geauga News - ECPv6.15.20//NONSGML v1.0//EN
CALSCALE:GREGORIAN
METHOD:PUBLISH
X-WR-CALNAME:Geauga News
X-ORIGINAL-URL:https://geauganews.com
X-WR-CALDESC:Events for Geauga News
REFRESH-INTERVAL;VALUE=DURATION:PT1H
X-Robots-Tag:noindex
X-PUBLISHED-TTL:PT1H
BEGIN:VTIMEZONE
TZID:UTC
BEGIN:STANDARD
TZOFFSETFROM:+0000
TZOFFSETTO:+0000
TZNAME:UTC
DTSTART:20120101T000000
END:STANDARD
END:VTIMEZONE
BEGIN:VEVENT
DTSTART;VALUE=DATE:20130928
DTEND;VALUE=DATE:20130929
DTSTAMP:20260422T070839
CREATED:20130619T155457Z
LAST-MODIFIED:20130619T160455Z
UID:10000018-1380326400-1380412799@geauganews.com
SUMMARY:Saturday in the Country
DESCRIPTION:Come and spend a Saturday in the Country in Burton Village. Beginning the last Saturday of June and continuing through September\, the beautiful Burton Square will be filled with crafters\, artisans\, antiques\, collectables\, farmers’ market\, and Amish bake sale. This is not a flea market\, it is an upscale event and there will be no yard sale items. Each Saturday will have a special theme and special items will be on sale. Come explore the vendors’ wares and discover hidden treasures. \nClick here for more event information.
URL:https://geauganews.com/local-event/saturday-in-the-country-4/
LOCATION:Burton Square
END:VEVENT
BEGIN:VEVENT
DTSTART;VALUE=DATE:20130824
DTEND;VALUE=DATE:20130825
DTSTAMP:20260422T070839
CREATED:20130619T155238Z
LAST-MODIFIED:20130619T162825Z
UID:10000017-1377302400-1377388799@geauganews.com
SUMMARY:Saturday in the Country
DESCRIPTION:Come and spend a Saturday in the Country in Burton Village. Beginning the last Saturday of June and continuing through September\, the beautiful Burton Square will be filled with crafters\, artisans\, antiques\, collectables\, farmers’ market\, and Amish bake sale. This is not a flea market\, it is an upscale event and there will be no yard sale items. Each Saturday will have a special theme and special items will be on sale. Come explore the vendors’ wares and discover hidden treasures. \nClick here for more event information.
URL:https://geauganews.com/local-event/saturday-in-the-country-3/
LOCATION:Burton Square
END:VEVENT
BEGIN:VEVENT
DTSTART;VALUE=DATE:20130727
DTEND;VALUE=DATE:20130728
DTSTAMP:20260422T070839
CREATED:20130619T154943Z
LAST-MODIFIED:20130619T163017Z
UID:10000029-1374883200-1374969599@geauganews.com
SUMMARY:Saturday in the Country
DESCRIPTION:Come and spend a Saturday in the Country in Burton Village. Beginning the last Saturday of June and continuing through September\, the beautiful Burton Square will be filled with crafters\, artisans\, antiques\, collectables\, farmers’ market\, and Amish bake sale. This is not a flea market\, it is an upscale event and there will be no yard sale items. Each Saturday will have a special theme and special items will be on sale. Come explore the vendors’ wares and discover hidden treasures. \nClick here for more event information.
URL:https://geauganews.com/local-event/saturday-in-the-country-2/
LOCATION:Burton Square
END:VEVENT
END:VCALENDAR