BEGIN:VCALENDAR
VERSION:2.0
PRODID:-//Geauga News - ECPv6.15.20//NONSGML v1.0//EN
CALSCALE:GREGORIAN
METHOD:PUBLISH
X-ORIGINAL-URL:https://geauganews.com
X-WR-CALDESC:Events for Geauga News
REFRESH-INTERVAL;VALUE=DURATION:PT1H
X-Robots-Tag:noindex
X-PUBLISHED-TTL:PT1H
BEGIN:VTIMEZONE
TZID:America/New_York
BEGIN:DAYLIGHT
TZOFFSETFROM:-0500
TZOFFSETTO:-0400
TZNAME:EDT
DTSTART:20130310T070000
END:DAYLIGHT
BEGIN:STANDARD
TZOFFSETFROM:-0400
TZOFFSETTO:-0500
TZNAME:EST
DTSTART:20131103T060000
END:STANDARD
BEGIN:DAYLIGHT
TZOFFSETFROM:-0500
TZOFFSETTO:-0400
TZNAME:EDT
DTSTART:20140309T070000
END:DAYLIGHT
BEGIN:STANDARD
TZOFFSETFROM:-0400
TZOFFSETTO:-0500
TZNAME:EST
DTSTART:20141102T060000
END:STANDARD
BEGIN:DAYLIGHT
TZOFFSETFROM:-0500
TZOFFSETTO:-0400
TZNAME:EDT
DTSTART:20150308T070000
END:DAYLIGHT
BEGIN:STANDARD
TZOFFSETFROM:-0400
TZOFFSETTO:-0500
TZNAME:EST
DTSTART:20151101T060000
END:STANDARD
END:VTIMEZONE
BEGIN:VEVENT
DTSTART;TZID=America/New_York:20141018T190000
DTEND;TZID=America/New_York:20141018T210000
DTSTAMP:20260421T013036
CREATED:20141010T180518Z
LAST-MODIFIED:20141010T181933Z
UID:10000560-1413658800-1413666000@geauganews.com
SUMMARY:Jayce Hein\, Brian Desveaux at Hiram College
DESCRIPTION:Support Cardinal High School by coming out to the benefit concert held at Hiram College! \nJayce Hein and Brian Desveaux will be on stage for a benefit performance at Hiram College in the Martin Field House. The Huskie Nation Foundation  is hosting the concert. They are raising funds for the upgrade of the track\, turf and lighting at the Cardinal High School in Middlefield. All proceeds from the concert will go to the Foundation. If you’re a Cardinal alumni\, you’ll want to show your support for both the school and Jayce and support their efforts. \nTickets for the Huskie Nation Foundation show on Saturday can be purchased at Maggie’s Doughnuts in Middlefield and Hiram\, Cortland Bank in Windham and Century 21 in Garrettsville. For VIP seating\, call 440- 317-0434.
URL:https://geauganews.com/local-event/jayce-hein-brian-desveaux-at-hiram-college/
LOCATION:HIram College Martin Field House\, St Rt 700\, HIram\, Ohio\, 44234
GEO:41.3094123;-81.1435876
X-APPLE-STRUCTURED-LOCATION;VALUE=URI;X-ADDRESS=HIram College Martin Field House St Rt 700 HIram Ohio 44234;X-APPLE-RADIUS=500;X-TITLE=St Rt 700:geo:-81.1435876,41.3094123
END:VEVENT
END:VCALENDAR