BEGIN:VCALENDAR
VERSION:2.0
PRODID:-//Geauga News - ECPv6.15.20//NONSGML v1.0//EN
CALSCALE:GREGORIAN
METHOD:PUBLISH
X-ORIGINAL-URL:https://geauganews.com
X-WR-CALDESC:Events for Geauga News
REFRESH-INTERVAL;VALUE=DURATION:PT1H
X-Robots-Tag:noindex
X-PUBLISHED-TTL:PT1H
BEGIN:VTIMEZONE
TZID:UTC
BEGIN:STANDARD
TZOFFSETFROM:+0000
TZOFFSETTO:+0000
TZNAME:UTC
DTSTART:20120101T000000
END:STANDARD
END:VTIMEZONE
BEGIN:VEVENT
DTSTART;TZID=UTC:20131019T100000
DTEND;TZID=UTC:20131019T160000
DTSTAMP:20260420T194903
CREATED:20131015T163000Z
LAST-MODIFIED:20131015T163000Z
UID:10000203-1382176800-1382198400@geauganews.com
SUMMARY:Holiday Crafts and Collectibles Bazaar
DESCRIPTION:
URL:https://geauganews.com/local-event/holiday-crafts-and-collectibles-bazaar/
LOCATION:Aquilla Christian Fellowship\, 13925 Stanley Dr\, Burton
END:VEVENT
END:VCALENDAR