BEGIN:VCALENDAR
VERSION:2.0
PRODID:-//Geauga News - ECPv6.15.20//NONSGML v1.0//EN
CALSCALE:GREGORIAN
METHOD:PUBLISH
X-WR-CALNAME:Geauga News
X-ORIGINAL-URL:https://geauganews.com
X-WR-CALDESC:Events for Geauga News
REFRESH-INTERVAL;VALUE=DURATION:PT1H
X-Robots-Tag:noindex
X-PUBLISHED-TTL:PT1H
BEGIN:VTIMEZONE
TZID:America/New_York
BEGIN:DAYLIGHT
TZOFFSETFROM:-0500
TZOFFSETTO:-0400
TZNAME:EDT
DTSTART:20120311T070000
END:DAYLIGHT
BEGIN:STANDARD
TZOFFSETFROM:-0400
TZOFFSETTO:-0500
TZNAME:EST
DTSTART:20121104T060000
END:STANDARD
BEGIN:DAYLIGHT
TZOFFSETFROM:-0500
TZOFFSETTO:-0400
TZNAME:EDT
DTSTART:20130310T070000
END:DAYLIGHT
BEGIN:STANDARD
TZOFFSETFROM:-0400
TZOFFSETTO:-0500
TZNAME:EST
DTSTART:20131103T060000
END:STANDARD
BEGIN:DAYLIGHT
TZOFFSETFROM:-0500
TZOFFSETTO:-0400
TZNAME:EDT
DTSTART:20140309T070000
END:DAYLIGHT
BEGIN:STANDARD
TZOFFSETFROM:-0400
TZOFFSETTO:-0500
TZNAME:EST
DTSTART:20141102T060000
END:STANDARD
END:VTIMEZONE
BEGIN:VEVENT
DTSTART;TZID=America/New_York:20130920T073000
DTEND;TZID=America/New_York:20130920T090000
DTSTAMP:20260422T190340
CREATED:20130822T124102Z
LAST-MODIFIED:20130822T124102Z
UID:10000118-1379662200-1379667600@geauganews.com
SUMMARY:Entrepreneur Success Breakfast
DESCRIPTION:The Entrepreneur Task Force of the Geauga Growth Partnership announces the next quarterly Entrepreneur Success Breakfast\, one in a series of networking events for Geauga County entrepreneurs and early stage business owners. The event will be hosted by The Arms Trucking Co.\, 14818 Mayfield Road\, East Claridon\, Ohio\, 44033\, from 7:30 – 9:00 a.m. on Friday\, September 20. \nFrom modest Geauga County beginnings 40 years ago\, Arms Trucking has grown to a five-division company operating in seven states. Owner Howard Bates will tell the Arms Trucking story. \nBates will also demonstrate the newest addition to the company’s truck fleet\, a heavy duty truck that has been converted to burn natural gas by NatGasCar\, LLC\, of East Cleveland\, a Dan T. Moore Company. The Arms Trucking Co. vehicle is one of the first of its type in the region to be converted to run on natural gas. \nThe September 20 event is complimentary\, but registration is requested. \nFor more information on Arms Trucking or NatGasCar\, see www.natgascar.com and www.armstrucking.com. \nGeauga Growth Partnership\, Inc. is a business-led organization dedicated to the retention\, growth and attraction of jobs\, investment and economic growth in Geauga County.
URL:https://geauganews.com/local-event/entrepreneur-success-breakfast/
LOCATION:Arms Trucking Co.\, 14818 Mayfield Rd\, East Claridon
END:VEVENT
END:VCALENDAR