BEGIN:VCALENDAR
VERSION:2.0
PRODID:-//Geauga News - ECPv6.15.20//NONSGML v1.0//EN
CALSCALE:GREGORIAN
METHOD:PUBLISH
X-WR-CALNAME:Geauga News
X-ORIGINAL-URL:https://geauganews.com
X-WR-CALDESC:Events for Geauga News
REFRESH-INTERVAL;VALUE=DURATION:PT1H
X-Robots-Tag:noindex
X-PUBLISHED-TTL:PT1H
BEGIN:VTIMEZONE
TZID:America/New_York
BEGIN:DAYLIGHT
TZOFFSETFROM:-0500
TZOFFSETTO:-0400
TZNAME:EDT
DTSTART:20120311T070000
END:DAYLIGHT
BEGIN:STANDARD
TZOFFSETFROM:-0400
TZOFFSETTO:-0500
TZNAME:EST
DTSTART:20121104T060000
END:STANDARD
BEGIN:DAYLIGHT
TZOFFSETFROM:-0500
TZOFFSETTO:-0400
TZNAME:EDT
DTSTART:20130310T070000
END:DAYLIGHT
BEGIN:STANDARD
TZOFFSETFROM:-0400
TZOFFSETTO:-0500
TZNAME:EST
DTSTART:20131103T060000
END:STANDARD
BEGIN:DAYLIGHT
TZOFFSETFROM:-0500
TZOFFSETTO:-0400
TZNAME:EDT
DTSTART:20140309T070000
END:DAYLIGHT
BEGIN:STANDARD
TZOFFSETFROM:-0400
TZOFFSETTO:-0500
TZNAME:EST
DTSTART:20141102T060000
END:STANDARD
BEGIN:DAYLIGHT
TZOFFSETFROM:-0500
TZOFFSETTO:-0400
TZNAME:EDT
DTSTART:20150308T070000
END:DAYLIGHT
BEGIN:STANDARD
TZOFFSETFROM:-0400
TZOFFSETTO:-0500
TZNAME:EST
DTSTART:20151101T060000
END:STANDARD
BEGIN:DAYLIGHT
TZOFFSETFROM:-0500
TZOFFSETTO:-0400
TZNAME:EDT
DTSTART:20160313T070000
END:DAYLIGHT
BEGIN:STANDARD
TZOFFSETFROM:-0400
TZOFFSETTO:-0500
TZNAME:EST
DTSTART:20161106T060000
END:STANDARD
BEGIN:DAYLIGHT
TZOFFSETFROM:-0500
TZOFFSETTO:-0400
TZNAME:EDT
DTSTART:20170312T070000
END:DAYLIGHT
BEGIN:STANDARD
TZOFFSETFROM:-0400
TZOFFSETTO:-0500
TZNAME:EST
DTSTART:20171105T060000
END:STANDARD
BEGIN:DAYLIGHT
TZOFFSETFROM:-0500
TZOFFSETTO:-0400
TZNAME:EDT
DTSTART:20180311T070000
END:DAYLIGHT
BEGIN:STANDARD
TZOFFSETFROM:-0400
TZOFFSETTO:-0500
TZNAME:EST
DTSTART:20181104T060000
END:STANDARD
BEGIN:DAYLIGHT
TZOFFSETFROM:-0500
TZOFFSETTO:-0400
TZNAME:EDT
DTSTART:20190310T070000
END:DAYLIGHT
BEGIN:STANDARD
TZOFFSETFROM:-0400
TZOFFSETTO:-0500
TZNAME:EST
DTSTART:20191103T060000
END:STANDARD
BEGIN:DAYLIGHT
TZOFFSETFROM:-0500
TZOFFSETTO:-0400
TZNAME:EDT
DTSTART:20200308T070000
END:DAYLIGHT
BEGIN:STANDARD
TZOFFSETFROM:-0400
TZOFFSETTO:-0500
TZNAME:EST
DTSTART:20201101T060000
END:STANDARD
BEGIN:DAYLIGHT
TZOFFSETFROM:-0500
TZOFFSETTO:-0400
TZNAME:EDT
DTSTART:20210314T070000
END:DAYLIGHT
BEGIN:STANDARD
TZOFFSETFROM:-0400
TZOFFSETTO:-0500
TZNAME:EST
DTSTART:20211107T060000
END:STANDARD
BEGIN:DAYLIGHT
TZOFFSETFROM:-0500
TZOFFSETTO:-0400
TZNAME:EDT
DTSTART:20220313T070000
END:DAYLIGHT
BEGIN:STANDARD
TZOFFSETFROM:-0400
TZOFFSETTO:-0500
TZNAME:EST
DTSTART:20221106T060000
END:STANDARD
BEGIN:DAYLIGHT
TZOFFSETFROM:-0500
TZOFFSETTO:-0400
TZNAME:EDT
DTSTART:20230312T070000
END:DAYLIGHT
BEGIN:STANDARD
TZOFFSETFROM:-0400
TZOFFSETTO:-0500
TZNAME:EST
DTSTART:20231105T060000
END:STANDARD
END:VTIMEZONE
BEGIN:VEVENT
DTSTART;TZID=America/New_York:20220910T180000
DTEND;TZID=America/New_York:20220910T203000
DTSTAMP:20260422T002250
CREATED:20220823T192803Z
LAST-MODIFIED:20220823T192803Z
UID:10001667-1662832800-1662841800@geauganews.com
SUMMARY:Auburn Fire Department Clam Bake –  Advance tickets (by Sept 1) Only.
DESCRIPTION:Auburn Fire Department is hosting their Annual Clam Bake.  The Clam Bake is on September 10\, 2022 at the fire station and serving will from 6 to 8:30 pm.  Not only will there be a dozen wonderful clams\, half a barbeque chicken\, delicious ear of corn\, yummy yam\, cooling coleslaw and fresh roll awaiting your arrival. There will also be hot dogs and chips for the important small people of the family.  Oh\, my almost forgot\, there will be refreshing beverages for all ages.  We will have extra clams for those clam lovers where a dozen is not enough. \nWe will have delightful entertainment for your listening pleasure.  Please help us to confirm the correct number of bakes to create by ordering your tickets in advance by September 1.  We only have presale tickets for the bakes.  The bakes are $35 and extra clams $12.  Please call or text 440-343-0054 for tickets or contact your favorite Auburn Fire person.  We will also take email orders with confirmations at Auburnclambake@gmail.com.  If unable to attend\, we can do take out the same night.   If you reserve tickets but are unable to attend\, we will be requesting payment for these bakes. \n \n\n 
URL:https://geauganews.com/local-event/auburn-fire-department-clam-bake-advance-tickets-by-sept-1-only/
LOCATION:Auburn Fire Department\, 10950 Washington St\, Auburn Township
ATTACH;FMTTYPE=image/png:https://geauganews.com/wp-content/uploads/2022/08/Auburn-Fire-Department-Clam-bake.png
END:VEVENT
BEGIN:VEVENT
DTSTART;TZID=America/New_York:20141220T090000
DTEND;TZID=America/New_York:20141220T090000
DTSTAMP:20260422T002250
CREATED:20141111T183346Z
LAST-MODIFIED:20141111T183346Z
UID:10000580-1419066000-1419066000@geauganews.com
SUMMARY:Christmas Baskets Delivered by Auburn Firedevils
DESCRIPTION:The Auburn Firedevils will once again be putting together Christmas baskets. The baskets are given to the elderly who live alone\, someone with a serious illness and if there was a death in the immediate family this year. \nThe baskets consist of fruit\, candy\, cookies\, snacks and a card with the names of the people and organizations that donate and participate. Approximately 60 baskets will be given this year. \nThe baskets will be put together Saturday\, December 20\, 2014 at 9:00 a.m. at the Auburn Fire Department. If anyone or any group or organization would like to contribute toward this endeavor\, please contact Arlene Jambor at 440-543-3392
URL:https://geauganews.com/local-event/christmas-baskets-delivered-by-auburn-firedevils/
LOCATION:Auburn Fire Department\, 10950 Washington St\, Auburn Township
END:VEVENT
BEGIN:VEVENT
DTSTART;TZID=America/New_York:20130907T180000
DTEND;TZID=America/New_York:20130907T210000
DTSTAMP:20260422T002250
CREATED:20130904T192011Z
LAST-MODIFIED:20130904T192011Z
UID:10000124-1378576800-1378587600@geauganews.com
SUMMARY:Auburn Fire Department Hosts Annual Clam Bake
DESCRIPTION:Wanted: Clam Eaters!\nThe Auburn Fire Department is hosting their Annual Clam Bake. It is important to note that we have had to change the date this year due to conflicts beyond our control. The Clam Bake is on September 7\, 2013 at the newly renovated fire station from 6 to 9 p.m. \nNot only will there be a dozen wonderful clams\, half a barbeque chicken\, delicious ear of corn\, yam and fresh roll awaiting your arrival\, but a Chinese auction complete with tickets to a couple remote destinations as prizes. You will have to be in attendance to drop your ticket in the appropriate basket for these mystery tickets. \nClick here for more event information.
URL:https://geauganews.com/local-event/auburn-fire-department-hosts-annual-clam-bake/
LOCATION:Auburn Fire Department\, 10950 Washington St\, Auburn Township
END:VEVENT
END:VCALENDAR