BEGIN:VCALENDAR
VERSION:2.0
PRODID:-//Geauga News - ECPv6.15.20//NONSGML v1.0//EN
CALSCALE:GREGORIAN
METHOD:PUBLISH
X-ORIGINAL-URL:https://geauganews.com
X-WR-CALDESC:Events for Geauga News
REFRESH-INTERVAL;VALUE=DURATION:PT1H
X-Robots-Tag:noindex
X-PUBLISHED-TTL:PT1H
BEGIN:VTIMEZONE
TZID:America/New_York
BEGIN:DAYLIGHT
TZOFFSETFROM:-0500
TZOFFSETTO:-0400
TZNAME:EDT
DTSTART:20120311T070000
END:DAYLIGHT
BEGIN:STANDARD
TZOFFSETFROM:-0400
TZOFFSETTO:-0500
TZNAME:EST
DTSTART:20121104T060000
END:STANDARD
BEGIN:DAYLIGHT
TZOFFSETFROM:-0500
TZOFFSETTO:-0400
TZNAME:EDT
DTSTART:20130310T070000
END:DAYLIGHT
BEGIN:STANDARD
TZOFFSETFROM:-0400
TZOFFSETTO:-0500
TZNAME:EST
DTSTART:20131103T060000
END:STANDARD
BEGIN:DAYLIGHT
TZOFFSETFROM:-0500
TZOFFSETTO:-0400
TZNAME:EDT
DTSTART:20140309T070000
END:DAYLIGHT
BEGIN:STANDARD
TZOFFSETFROM:-0400
TZOFFSETTO:-0500
TZNAME:EST
DTSTART:20141102T060000
END:STANDARD
END:VTIMEZONE
BEGIN:VEVENT
DTSTART;TZID=America/New_York:20131004T200000
DTEND;TZID=America/New_York:20131004T233000
DTSTAMP:20260421T140010
CREATED:20130905T164025Z
LAST-MODIFIED:20130905T164025Z
UID:10000129-1380916800-1380929400@geauganews.com
SUMMARY:DR. ZOOT AND BAINBRIDGE SWING DANCE
DESCRIPTION:Dr. Zoot performs in theaters\, clubs\, dance halls and festivals. Since the band formed in early 1998 their popularity has been growing rapidly nationally and internationally. Their original tunes have been featured on many major CD compilations and have been placed in several TV and film scores. Dr. Zoot’s distinctive sound maintains a contemporary feel while reaching back across the years to link with the greats who have come before them. For more information and sound bites visit www.DrZoot.com. \nThe Swing Dance\, with live performance by Dr. Zoot\, begins at 9:00 p.m. Preceded by a one hour swing dance lesson at 8:00 p.m. Experienced and nonexperienced dancers are welcome. This public\, family-friendly event is open to \nall ages. No partner is required for the lesson or the dance. Admission is $10 per adult\, $8 per student or $25 per family. Admission includes the 8:00 p.m. lesson and 9:00 p.m. live performance and dance. A different live band performs the first Friday of every month. \nFor additional information\, please contact Will Craig by calling (216) 316-0068 or E-mailing willrcraig@gmail.com.
URL:https://geauganews.com/local-event/dr-zoot-and-bainbridge-swing-dance/
LOCATION:Bainbridge Town Hall\, 17826 Chillicothe  Rd\, Bainbridge
END:VEVENT
END:VCALENDAR