BEGIN:VCALENDAR
VERSION:2.0
PRODID:-//Geauga News - ECPv6.15.20//NONSGML v1.0//EN
CALSCALE:GREGORIAN
METHOD:PUBLISH
X-ORIGINAL-URL:https://geauganews.com
X-WR-CALDESC:Events for Geauga News
REFRESH-INTERVAL;VALUE=DURATION:PT1H
X-Robots-Tag:noindex
X-PUBLISHED-TTL:PT1H
BEGIN:VTIMEZONE
TZID:America/New_York
BEGIN:DAYLIGHT
TZOFFSETFROM:-0500
TZOFFSETTO:-0400
TZNAME:EDT
DTSTART:20130310T070000
END:DAYLIGHT
BEGIN:STANDARD
TZOFFSETFROM:-0400
TZOFFSETTO:-0500
TZNAME:EST
DTSTART:20131103T060000
END:STANDARD
BEGIN:DAYLIGHT
TZOFFSETFROM:-0500
TZOFFSETTO:-0400
TZNAME:EDT
DTSTART:20140309T070000
END:DAYLIGHT
BEGIN:STANDARD
TZOFFSETFROM:-0400
TZOFFSETTO:-0500
TZNAME:EST
DTSTART:20141102T060000
END:STANDARD
BEGIN:DAYLIGHT
TZOFFSETFROM:-0500
TZOFFSETTO:-0400
TZNAME:EDT
DTSTART:20150308T070000
END:DAYLIGHT
BEGIN:STANDARD
TZOFFSETFROM:-0400
TZOFFSETTO:-0500
TZNAME:EST
DTSTART:20151101T060000
END:STANDARD
END:VTIMEZONE
BEGIN:VEVENT
DTSTART;TZID=America/New_York:20140606T210000
DTEND;TZID=America/New_York:20140606T233000
DTSTAMP:20260425T084919
CREATED:20140522T161637Z
LAST-MODIFIED:20140522T161637Z
UID:10000390-1402088400-1402097400@geauganews.com
SUMMARY:Bainbridge Swing Dance
DESCRIPTION:Cadillac Lilly plays live on June 6 at Bainbridge Swing Dance at the Bainbridge Township Town Hall\, 17826 Chillicothe Road aka Route 306; Chagrin Falls\, Ohio 44023. \nCadillac Lilly is a five-piece band specializing in swing and blues. They will take you on a “Sentimental Journey” that traces the “Birth of the Blues” from New Orleans up the Mississippi River to St. Louis\, on to Kansas City and Chicago. “Choo Choo Ch’Boogie” along “Route 66” with this band to follow the path of American music\, and its roots in blues\, country\, jazz\, and rhythm and blues. \nThe Swing Dance\, with live performance\, begins at 9:00 p.m. and is preceded by a one hour swing dance lesson at 8:00 p.m. Experienced and non-experienced dancers are welcome. This public\, family-friendly event is open to all ages. No partner is required for the lesson or the dance. Admission is $10 per adult\, $8 per student or $25 per family. Admission includes the 8:00 p.m. lesson and the 9:00 – 11:30 p.m. live performance and dance. A different live band performs the first Friday of every month. For additional information\, please contact Will Craig by calling (216) 316-0068 or E-mailing willrcraig@gmail.com.
URL:https://geauganews.com/local-event/bainbridge-swing-dance-4/
LOCATION:Bainbridge Township Hall\, 17826 Chillicothe Road aka Route 306\, Chagrin Falls\, OH\, 44023\, United States
GEO:41.3840964;-81.3409298
X-APPLE-STRUCTURED-LOCATION;VALUE=URI;X-ADDRESS=Bainbridge Township Hall 17826 Chillicothe Road aka Route 306 Chagrin Falls OH 44023 United States;X-APPLE-RADIUS=500;X-TITLE=17826 Chillicothe Road aka Route 306:geo:-81.3409298,41.3840964
END:VEVENT
END:VCALENDAR