BEGIN:VCALENDAR
VERSION:2.0
PRODID:-//Geauga News - ECPv6.15.20//NONSGML v1.0//EN
CALSCALE:GREGORIAN
METHOD:PUBLISH
X-WR-CALNAME:Geauga News
X-ORIGINAL-URL:https://geauganews.com
X-WR-CALDESC:Events for Geauga News
REFRESH-INTERVAL;VALUE=DURATION:PT1H
X-Robots-Tag:noindex
X-PUBLISHED-TTL:PT1H
BEGIN:VTIMEZONE
TZID:America/New_York
BEGIN:DAYLIGHT
TZOFFSETFROM:-0500
TZOFFSETTO:-0400
TZNAME:EDT
DTSTART:20130310T070000
END:DAYLIGHT
BEGIN:STANDARD
TZOFFSETFROM:-0400
TZOFFSETTO:-0500
TZNAME:EST
DTSTART:20131103T060000
END:STANDARD
BEGIN:DAYLIGHT
TZOFFSETFROM:-0500
TZOFFSETTO:-0400
TZNAME:EDT
DTSTART:20140309T070000
END:DAYLIGHT
BEGIN:STANDARD
TZOFFSETFROM:-0400
TZOFFSETTO:-0500
TZNAME:EST
DTSTART:20141102T060000
END:STANDARD
BEGIN:DAYLIGHT
TZOFFSETFROM:-0500
TZOFFSETTO:-0400
TZNAME:EDT
DTSTART:20150308T070000
END:DAYLIGHT
BEGIN:STANDARD
TZOFFSETFROM:-0400
TZOFFSETTO:-0500
TZNAME:EST
DTSTART:20151101T060000
END:STANDARD
BEGIN:DAYLIGHT
TZOFFSETFROM:-0500
TZOFFSETTO:-0400
TZNAME:EDT
DTSTART:20160313T070000
END:DAYLIGHT
BEGIN:STANDARD
TZOFFSETFROM:-0400
TZOFFSETTO:-0500
TZNAME:EST
DTSTART:20161106T060000
END:STANDARD
BEGIN:DAYLIGHT
TZOFFSETFROM:-0500
TZOFFSETTO:-0400
TZNAME:EDT
DTSTART:20170312T070000
END:DAYLIGHT
BEGIN:STANDARD
TZOFFSETFROM:-0400
TZOFFSETTO:-0500
TZNAME:EST
DTSTART:20171105T060000
END:STANDARD
BEGIN:DAYLIGHT
TZOFFSETFROM:-0500
TZOFFSETTO:-0400
TZNAME:EDT
DTSTART:20180311T070000
END:DAYLIGHT
BEGIN:STANDARD
TZOFFSETFROM:-0400
TZOFFSETTO:-0500
TZNAME:EST
DTSTART:20181104T060000
END:STANDARD
BEGIN:DAYLIGHT
TZOFFSETFROM:-0500
TZOFFSETTO:-0400
TZNAME:EDT
DTSTART:20190310T070000
END:DAYLIGHT
BEGIN:STANDARD
TZOFFSETFROM:-0400
TZOFFSETTO:-0500
TZNAME:EST
DTSTART:20191103T060000
END:STANDARD
BEGIN:DAYLIGHT
TZOFFSETFROM:-0500
TZOFFSETTO:-0400
TZNAME:EDT
DTSTART:20200308T070000
END:DAYLIGHT
BEGIN:STANDARD
TZOFFSETFROM:-0400
TZOFFSETTO:-0500
TZNAME:EST
DTSTART:20201101T060000
END:STANDARD
END:VTIMEZONE
BEGIN:VEVENT
DTSTART;TZID=America/New_York:20190405T200000
DTEND;TZID=America/New_York:20190405T233000
DTSTAMP:20260421T150736
CREATED:20190313T014236Z
LAST-MODIFIED:20190313T014236Z
UID:10000808-1554494400-1554507000@geauganews.com
SUMMARY:Bainbridge Swing Dance and The Radio Rhythm IDOLs
DESCRIPTION:The Radio Rhythm IDOLs are playing live at the Bainbridge Swing Dance Friday\, April 5th at the Bainbridge Township Town Hall\, 17826 Chillicothe Road\, Chagrin Falls\, Ohio 44023. \nThe Swing Dance\, with live performance\, begins at 9:00 p.m.  Preceded by a one hour swing dance lesson at 8:00 p.m. Experienced and non-experienced dancers are welcome. \nThis public\, family-friendly event is open to all ages.  No partner is required for the lesson or the dance.  Admission is $10 for youth (9-17 years)\, $15 for adults (18+ years)\, $35 per family (not friends)\, and free for 8 years and younger. Admission includes the 8:00 p.m. lesson and 9:00 p.m. live performance and dance. \nA different live band performs the first Friday of every month.  For additional information\, please contact Will Craig by calling (216) 316-0068 or E-mailing willrcraig@gmail.com. \nSponsored by Kenston Community Education.  
URL:https://geauganews.com/local-event/bainbridge-swing-dance-and-the-radio-rhythm-idols/
LOCATION:Bainbridge Township Town Hall\, 17826 Chillicothe Road aka Route 306\, Chagrin Falls\, 44023
ATTACH;FMTTYPE=image/jpeg:https://geauganews.com/wp-content/uploads/2018/10/Bainbridge-Swing-Dance.jpg
END:VEVENT
BEGIN:VEVENT
DTSTART;TZID=America/New_York:20140103T200000
DTEND;TZID=America/New_York:20140103T233000
DTSTAMP:20260421T150736
CREATED:20140102T194344Z
LAST-MODIFIED:20140102T194344Z
UID:10000281-1388779200-1388791800@geauganews.com
SUMMARY:Bainbridge Swing Dance
DESCRIPTION:Blue Lunch is playing live at the Bainbridge Swing Dance Friday\, January 3rd at the Bainbridge Township Town Hall (17826 Chillicothe Road aka Route 306; Chagrin Falls\, Ohio 44023). Sponsored by KCE. (216) 316-0068. \nLesson at 8pm. Dance and live music 9-11:30pm. Adult $10\, student $8\, family $25.
URL:https://geauganews.com/local-event/bainbridge-swing-dance-3/
LOCATION:Bainbridge Township Town Hall\, 17826 Chillicothe Road aka Route 306\, Chagrin Falls\, 44023
END:VEVENT
END:VCALENDAR