BEGIN:VCALENDAR
VERSION:2.0
PRODID:-//Geauga News - ECPv6.15.20//NONSGML v1.0//EN
CALSCALE:GREGORIAN
METHOD:PUBLISH
X-WR-CALNAME:Geauga News
X-ORIGINAL-URL:https://geauganews.com
X-WR-CALDESC:Events for Geauga News
REFRESH-INTERVAL;VALUE=DURATION:PT1H
X-Robots-Tag:noindex
X-PUBLISHED-TTL:PT1H
BEGIN:VTIMEZONE
TZID:America/New_York
BEGIN:DAYLIGHT
TZOFFSETFROM:-0500
TZOFFSETTO:-0400
TZNAME:EDT
DTSTART:20130310T070000
END:DAYLIGHT
BEGIN:STANDARD
TZOFFSETFROM:-0400
TZOFFSETTO:-0500
TZNAME:EST
DTSTART:20131103T060000
END:STANDARD
BEGIN:DAYLIGHT
TZOFFSETFROM:-0500
TZOFFSETTO:-0400
TZNAME:EDT
DTSTART:20140309T070000
END:DAYLIGHT
BEGIN:STANDARD
TZOFFSETFROM:-0400
TZOFFSETTO:-0500
TZNAME:EST
DTSTART:20141102T060000
END:STANDARD
BEGIN:DAYLIGHT
TZOFFSETFROM:-0500
TZOFFSETTO:-0400
TZNAME:EDT
DTSTART:20150308T070000
END:DAYLIGHT
BEGIN:STANDARD
TZOFFSETFROM:-0400
TZOFFSETTO:-0500
TZNAME:EST
DTSTART:20151101T060000
END:STANDARD
END:VTIMEZONE
BEGIN:VEVENT
DTSTART;TZID=America/New_York:20140531T220000
DTEND;TZID=America/New_York:20140601T060000
DTSTAMP:20260422T110110
CREATED:20140509T142824Z
LAST-MODIFIED:20140509T142824Z
UID:10000378-1401573600-1401602400@geauganews.com
SUMMARY:Moth Madness
DESCRIPTION:Calling all night owls and/or early birds – this unique event will allow you to experience northeastern Ohio moths to their fullest\, and should be a night to remember! Join Tami Gingrich\, Linda Gilbert\, and other moth experts as they maintain black-light and mercury vapor lighting stations during the night hours throughout Big Creek Park\, also using live giant silk moths will be used to attract wild specimens. Drop by any time throughout the night\, or notify Naturalist Linda at 440-279-0886 that you plan to camp on site!
URL:https://geauganews.com/local-event/moth-madness-2/
LOCATION:Big Creek Park\, 9160 robinsonRd\, Chardon\, OH\, 44024\, United States
GEO:41.6202524;-81.2051045
X-APPLE-STRUCTURED-LOCATION;VALUE=URI;X-ADDRESS=Big Creek Park 9160 robinsonRd Chardon OH 44024 United States;X-APPLE-RADIUS=500;X-TITLE=9160 robinsonRd:geo:-81.2051045,41.6202524
END:VEVENT
BEGIN:VEVENT
DTSTART;TZID=America/New_York:20140430T183000
DTEND;TZID=America/New_York:20140430T200000
DTSTAMP:20260422T110110
CREATED:20140429T193518Z
LAST-MODIFIED:20140429T193518Z
UID:10000363-1398882600-1398888000@geauganews.com
SUMMARY:Spring Wildflower Walk
DESCRIPTION:Wildflower walk plans to pack a lot of punch into just a half mile \nEnjoy the diversity of colorful spring wildflowers in this mature woods\, along with some fascinating wildflower folklore\, during a half-mile walk. \nWhat: Spring Wildflower Walk \nWhen: Wednesday\, April 30\, 2014 – 6:30 to 8 p.m. \nWhere: Big Creek Park\, Deep Woods \n9160 Robinson Road\, Chardon Township \nAt less than a quarter mile\, the Wildflower Trail we’ll visit offers a diverse array of spring wildflowers of all colors and shapes\, including trillium\, hepatica\, dwarf ginseng\, spring beauty\, mayapple\, Solomon’s seal\, Jack-in-the-pulpit and wild ginger\, among others. \n“We’ll share interesting folklore about the flowers\,” said Field Naturalist Judy Bradt-Barnhart\, “including unusual pollination mechanisms\, historical native American and pioneer uses of them\, and name origins.” \nNo registration is required for this all-ages program\, which is not wheelchair/stroller accessible due to some hilly terrain. Call 440-286-9516 with questions.
URL:https://geauganews.com/local-event/spring-wildflower-walk/
LOCATION:Big Creek Park\, 9160 robinsonRd\, Chardon\, OH\, 44024\, United States
GEO:41.6202524;-81.2051045
X-APPLE-STRUCTURED-LOCATION;VALUE=URI;X-ADDRESS=Big Creek Park 9160 robinsonRd Chardon OH 44024 United States;X-APPLE-RADIUS=500;X-TITLE=9160 robinsonRd:geo:-81.2051045,41.6202524
END:VEVENT
END:VCALENDAR