BEGIN:VCALENDAR
VERSION:2.0
PRODID:-//Geauga News - ECPv6.15.20//NONSGML v1.0//EN
CALSCALE:GREGORIAN
METHOD:PUBLISH
X-ORIGINAL-URL:https://geauganews.com
X-WR-CALDESC:Events for Geauga News
REFRESH-INTERVAL;VALUE=DURATION:PT1H
X-Robots-Tag:noindex
X-PUBLISHED-TTL:PT1H
BEGIN:VTIMEZONE
TZID:UTC
BEGIN:STANDARD
TZOFFSETFROM:+0000
TZOFFSETTO:+0000
TZNAME:UTC
DTSTART:20120101T000000
END:STANDARD
END:VTIMEZONE
BEGIN:VEVENT
DTSTART;TZID=UTC:20130601T093000
DTEND;TZID=UTC:20130601T113000
DTSTAMP:20260422T014526
CREATED:20130520T135533Z
LAST-MODIFIED:20130520T135533Z
UID:10000015-1370079000-1370086200@geauganews.com
SUMMARY:Take a Hike
DESCRIPTION:Celebrate National Trails Day on an oft-overlooked trail\nIn honor of National Trails Day on June 1\, how about a refreshing springtime hike in your Geauga Park District? That’s right – lace up your walking shoes and enjoy 4.2 miles of the oft-overlooked Creek Trail\, stretching your legs from Tupelo Pond entrance to Woodin Road and back. \nRead more…
URL:https://geauganews.com/local-event/take-a-hike/
LOCATION:Big Creek Park – Tupelo Pond Entrance\, 9373 Ravenna Rd\, Chardon
END:VEVENT
END:VCALENDAR