BEGIN:VCALENDAR
VERSION:2.0
PRODID:-//Geauga News - ECPv6.15.20//NONSGML v1.0//EN
CALSCALE:GREGORIAN
METHOD:PUBLISH
X-WR-CALNAME:Geauga News
X-ORIGINAL-URL:https://geauganews.com
X-WR-CALDESC:Events for Geauga News
REFRESH-INTERVAL;VALUE=DURATION:PT1H
X-Robots-Tag:noindex
X-PUBLISHED-TTL:PT1H
BEGIN:VTIMEZONE
TZID:America/New_York
BEGIN:DAYLIGHT
TZOFFSETFROM:-0500
TZOFFSETTO:-0400
TZNAME:EDT
DTSTART:20130310T070000
END:DAYLIGHT
BEGIN:STANDARD
TZOFFSETFROM:-0400
TZOFFSETTO:-0500
TZNAME:EST
DTSTART:20131103T060000
END:STANDARD
BEGIN:DAYLIGHT
TZOFFSETFROM:-0500
TZOFFSETTO:-0400
TZNAME:EDT
DTSTART:20140309T070000
END:DAYLIGHT
BEGIN:STANDARD
TZOFFSETFROM:-0400
TZOFFSETTO:-0500
TZNAME:EST
DTSTART:20141102T060000
END:STANDARD
BEGIN:DAYLIGHT
TZOFFSETFROM:-0500
TZOFFSETTO:-0400
TZNAME:EDT
DTSTART:20150308T070000
END:DAYLIGHT
BEGIN:STANDARD
TZOFFSETFROM:-0400
TZOFFSETTO:-0500
TZNAME:EST
DTSTART:20151101T060000
END:STANDARD
END:VTIMEZONE
BEGIN:VEVENT
DTSTART;TZID=America/New_York:20140104T080000
DTEND;TZID=America/New_York:20140104T100000
DTSTAMP:20260422T124053
CREATED:20131226T212408Z
LAST-MODIFIED:20131226T212408Z
UID:10000266-1388822400-1388829600@geauganews.com
SUMMARY:Christmas Bird Count
DESCRIPTION:Those who’d like to help tally winter bird life are invited to take part in the annual Christmas Bird Count for the Burton area\, from 8 to 10 a.m. at Burton Wetlands Nature Preserve\, 15681 Old Rider Road. \nBurton’s Christmas Bird Count was started by former Board of Park Commissioners President Robert McCullough in the 1950s. For more on the history on the National Audubon Society’s 114th annual event\, visit this website. \nThis year’s bird list that Chief Naturalist John Kolar and his fellow bird-counters create will be compiled with the lists of all participants counting that day within the Burton circle – that is\, a 15-mile diameter circle centered around a point\, and in this case Burton is nearest to the point. As per the rules of the Audubon count\, the circle cannot overlap with any other circle and attempts to cover a variety of bird habitat.
URL:https://geauganews.com/local-event/christmas-bird-count/
LOCATION:Burton Wetlands\, 15681 Old Rider Rd\, Burton
END:VEVENT
END:VCALENDAR