BEGIN:VCALENDAR
VERSION:2.0
PRODID:-//Geauga News - ECPv6.15.20//NONSGML v1.0//EN
CALSCALE:GREGORIAN
METHOD:PUBLISH
X-ORIGINAL-URL:https://geauganews.com
X-WR-CALDESC:Events for Geauga News
REFRESH-INTERVAL;VALUE=DURATION:PT1H
X-Robots-Tag:noindex
X-PUBLISHED-TTL:PT1H
BEGIN:VTIMEZONE
TZID:America/New_York
BEGIN:DAYLIGHT
TZOFFSETFROM:-0500
TZOFFSETTO:-0400
TZNAME:EDT
DTSTART:20120311T070000
END:DAYLIGHT
BEGIN:STANDARD
TZOFFSETFROM:-0400
TZOFFSETTO:-0500
TZNAME:EST
DTSTART:20121104T060000
END:STANDARD
BEGIN:DAYLIGHT
TZOFFSETFROM:-0500
TZOFFSETTO:-0400
TZNAME:EDT
DTSTART:20130310T070000
END:DAYLIGHT
BEGIN:STANDARD
TZOFFSETFROM:-0400
TZOFFSETTO:-0500
TZNAME:EST
DTSTART:20131103T060000
END:STANDARD
BEGIN:DAYLIGHT
TZOFFSETFROM:-0500
TZOFFSETTO:-0400
TZNAME:EDT
DTSTART:20140309T070000
END:DAYLIGHT
BEGIN:STANDARD
TZOFFSETFROM:-0400
TZOFFSETTO:-0500
TZNAME:EST
DTSTART:20141102T060000
END:STANDARD
END:VTIMEZONE
BEGIN:VEVENT
DTSTART;TZID=America/New_York:20131025T183000
DTEND;TZID=America/New_York:20131025T193000
DTSTAMP:20260421T053348
CREATED:20131002T194624Z
LAST-MODIFIED:20131002T194624Z
UID:10000181-1382725800-1382729400@geauganews.com
SUMMARY:Cleveland Art Studio Tour
DESCRIPTION:Have you ever driven past the corner of Rt. 44 and Washington St. in Auburn Twp. and noticed a nondescript brick building with fantastic hand blown glass lamps illuminating the front windows? This building houses Cleveland Art\, one of the most intriguing businesses in Geauga County! \nJoin Geauga Arts Council for a studio tour and glass-blowing demonstration by artist Jason Wein\, located at 11832 East Washington Street/Chagrin Falls (44023)\, on Friday\, October 25\, from 6:30-7:30 p.m. Jason Wein\, who founded Cleveland Art in 1994\, found that while working at the family salvage yard as a young man\, he saw the potential of industrial machinery and surplus being repurposed and recycled as functional design for the home\, office\, and retail setting. For almost 20 years\, Cleveland Art has been at the forefront of vintage and recycled industrial design. \nIn keeping with this tradition\, Cleveland Art also uses steel\, wood\, and glass to manufacture selected lines of furniture\, lighting\, and retail display for clients throughout the United States and abroad. These clients include architects\, interior designers\, hotels\, restaurants\, retail stores and The Motion Picture and Television industries. The simple design of each piece coexists seamlessly with modern and traditional decor. Cleveland Art continues to expand the business with openings of showrooms and warehouses in Cleveland\, New York\, and L.A. \nEnjoy wine and cheese while you experience a behind-the-scenes look at this innovative and exceptional business. You will be inspired! Stay after the studio tour for a public open house featuring music and refreshments! \nSpace is limited\, so reserve your spot today. Registration is $5 per person\, payable the evening of the event. Please email teresarunion@hotmail.com or call 440.279.0882 to register. For more information about Cleveland Art\, visit their website.
URL:https://geauganews.com/local-event/cleveland-art-studio-tour/
LOCATION:Cleveland Art\, 11832 Washington St\, Chagrin Falls\, OH\, 44023\, United States
ORGANIZER;CN="Geauga Arts Council":MAILTO:teresarunion@hotmail.com
END:VEVENT
END:VCALENDAR