BEGIN:VCALENDAR
VERSION:2.0
PRODID:-//Geauga News - ECPv6.15.20//NONSGML v1.0//EN
CALSCALE:GREGORIAN
METHOD:PUBLISH
X-ORIGINAL-URL:https://geauganews.com
X-WR-CALDESC:Events for Geauga News
REFRESH-INTERVAL;VALUE=DURATION:PT1H
X-Robots-Tag:noindex
X-PUBLISHED-TTL:PT1H
BEGIN:VTIMEZONE
TZID:America/New_York
BEGIN:DAYLIGHT
TZOFFSETFROM:-0500
TZOFFSETTO:-0400
TZNAME:EDT
DTSTART:20120311T070000
END:DAYLIGHT
BEGIN:STANDARD
TZOFFSETFROM:-0400
TZOFFSETTO:-0500
TZNAME:EST
DTSTART:20121104T060000
END:STANDARD
BEGIN:DAYLIGHT
TZOFFSETFROM:-0500
TZOFFSETTO:-0400
TZNAME:EDT
DTSTART:20130310T070000
END:DAYLIGHT
BEGIN:STANDARD
TZOFFSETFROM:-0400
TZOFFSETTO:-0500
TZNAME:EST
DTSTART:20131103T060000
END:STANDARD
BEGIN:DAYLIGHT
TZOFFSETFROM:-0500
TZOFFSETTO:-0400
TZNAME:EDT
DTSTART:20140309T070000
END:DAYLIGHT
BEGIN:STANDARD
TZOFFSETFROM:-0400
TZOFFSETTO:-0500
TZNAME:EST
DTSTART:20141102T060000
END:STANDARD
END:VTIMEZONE
BEGIN:VEVENT
DTSTART;TZID=America/New_York:20131026T100000
DTEND;TZID=America/New_York:20131026T130000
DTSTAMP:20260422T110806
CREATED:20130905T123834Z
LAST-MODIFIED:20130905T123834Z
UID:10000126-1382781600-1382792400@geauganews.com
SUMMARY:Women at Risk's Shop With a Purpose
DESCRIPTION:Many people assume slavery is a thing of the past. They are surprised to hear that 5\,000 to 7\,000 Nepali girls are trafficked to India each year. They are even more shocked to find out what happens in their own back yard. Atlanta Women’s Agenda reported that 300-400 children are sold each month in Atlanta\, GA. Local woman Katrina Nelson has been doing her part to help stop human trafficking by raising money for the organization Women at Risk. \nPeople can purchase items made by individuals who have been rescued from the human trafficking industry. Proceeds go toward saving others who are still trapped. In addition\, a documentary will be shown and other information provided regarding human trafficking. For more information about this event\, please contact Katrina Nelson at (440) 279-5299 or E-mail her at jeremy_katrina_nelson@yahoo.com. \n 
URL:https://geauganews.com/local-event/women-at-risks-shop-with-a-purpose/
LOCATION:Cornerstone Bible Conference Building\, 15029 Enterprise Way\, Middlefield
END:VEVENT
END:VCALENDAR