BEGIN:VCALENDAR
VERSION:2.0
PRODID:-//Geauga News - ECPv6.15.20//NONSGML v1.0//EN
CALSCALE:GREGORIAN
METHOD:PUBLISH
X-WR-CALNAME:Geauga News
X-ORIGINAL-URL:https://geauganews.com
X-WR-CALDESC:Events for Geauga News
REFRESH-INTERVAL;VALUE=DURATION:PT1H
X-Robots-Tag:noindex
X-PUBLISHED-TTL:PT1H
BEGIN:VTIMEZONE
TZID:America/New_York
BEGIN:DAYLIGHT
TZOFFSETFROM:-0500
TZOFFSETTO:-0400
TZNAME:EDT
DTSTART:20120311T070000
END:DAYLIGHT
BEGIN:STANDARD
TZOFFSETFROM:-0400
TZOFFSETTO:-0500
TZNAME:EST
DTSTART:20121104T060000
END:STANDARD
BEGIN:DAYLIGHT
TZOFFSETFROM:-0500
TZOFFSETTO:-0400
TZNAME:EDT
DTSTART:20130310T070000
END:DAYLIGHT
BEGIN:STANDARD
TZOFFSETFROM:-0400
TZOFFSETTO:-0500
TZNAME:EST
DTSTART:20131103T060000
END:STANDARD
BEGIN:DAYLIGHT
TZOFFSETFROM:-0500
TZOFFSETTO:-0400
TZNAME:EDT
DTSTART:20140309T070000
END:DAYLIGHT
BEGIN:STANDARD
TZOFFSETFROM:-0400
TZOFFSETTO:-0500
TZNAME:EST
DTSTART:20141102T060000
END:STANDARD
END:VTIMEZONE
BEGIN:VEVENT
DTSTART;TZID=America/New_York:20130921T183000
DTEND;TZID=America/New_York:20130921T200000
DTSTAMP:20260421T201932
CREATED:20130702T120603Z
LAST-MODIFIED:20130702T120603Z
UID:10000056-1379788200-1379793600@geauganews.com
SUMMARY:Cuyahoga Evening Kayak
DESCRIPTION:Our group will paddle along this peaceful stretch of the Upper Cuyahoga River watchful for birds\, beavers and other beauties. Bring your own kayak\, or single-seat kayak rental will be available through Camp Hi for $15. Ages 12+.
URL:https://geauganews.com/local-event/cuyahoga-evening-kayak/
LOCATION:Eldon  Russell Park
END:VEVENT
BEGIN:VEVENT
DTSTART;TZID=America/New_York:20130811T130000
DTEND;TZID=America/New_York:20130811T143000
DTSTAMP:20260421T201932
CREATED:20130701T200403Z
LAST-MODIFIED:20130701T200403Z
UID:10000052-1376226000-1376231400@geauganews.com
SUMMARY:Polliwog Paddle Family Canoe
DESCRIPTION:A nice and easy canoe outing for children to enjoy the wetland wildlife of the Upper Cuyahoga River. Ages 5+ w/adult w/canoeing experience\, 10+ to paddle\, up to two 7- to 10-year-olds in middle.
URL:https://geauganews.com/local-event/polliwog-paddle-family-canoe-3/
LOCATION:Eldon  Russell Park
END:VEVENT
BEGIN:VEVENT
DTSTART;TZID=America/New_York:20130728T130000
DTEND;TZID=America/New_York:20130728T143000
DTSTAMP:20260421T201932
CREATED:20130701T200042Z
LAST-MODIFIED:20130701T200042Z
UID:10000051-1375016400-1375021800@geauganews.com
SUMMARY:Polliwog Paddle Family Canoe
DESCRIPTION:A nice and easy canoe outing for children to enjoy the wetland wildlife of the Upper Cuyahoga River. Ages 5+ w/adult w/canoeing experience\, 10+ to paddle\, up to two 7- to 10-year-olds in middle.
URL:https://geauganews.com/local-event/polliwog-paddle-family-canoe-2/
LOCATION:Eldon  Russell Park
END:VEVENT
BEGIN:VEVENT
DTSTART;TZID=America/New_York:20130609T133000
DTEND;TZID=America/New_York:20130609T150000
DTSTAMP:20260421T201932
CREATED:20130515T185625Z
LAST-MODIFIED:20130515T185701Z
UID:10000005-1370784600-1370790000@geauganews.com
SUMMARY:Polliwog Paddle Family Canoe
DESCRIPTION:For ages 5 and up with an adult\, 12 and up to paddle\, with up to two 5- to 11-year-olds in the middle\, this is an easy\, short-distance float for families on the wildlife-rich Upper Cuyahoga River. Registration will be available June 1 through 8 by phone only at 440-286-9516.
URL:https://geauganews.com/local-event/polliwog-paddle-family-canoe/
LOCATION:Eldon  Russell Park
END:VEVENT
END:VCALENDAR