BEGIN:VCALENDAR
VERSION:2.0
PRODID:-//Geauga News - ECPv6.15.20//NONSGML v1.0//EN
CALSCALE:GREGORIAN
METHOD:PUBLISH
X-ORIGINAL-URL:https://geauganews.com
X-WR-CALDESC:Events for Geauga News
REFRESH-INTERVAL;VALUE=DURATION:PT1H
X-Robots-Tag:noindex
X-PUBLISHED-TTL:PT1H
BEGIN:VTIMEZONE
TZID:America/New_York
BEGIN:DAYLIGHT
TZOFFSETFROM:-0500
TZOFFSETTO:-0400
TZNAME:EDT
DTSTART:20130310T070000
END:DAYLIGHT
BEGIN:STANDARD
TZOFFSETFROM:-0400
TZOFFSETTO:-0500
TZNAME:EST
DTSTART:20131103T060000
END:STANDARD
BEGIN:DAYLIGHT
TZOFFSETFROM:-0500
TZOFFSETTO:-0400
TZNAME:EDT
DTSTART:20140309T070000
END:DAYLIGHT
BEGIN:STANDARD
TZOFFSETFROM:-0400
TZOFFSETTO:-0500
TZNAME:EST
DTSTART:20141102T060000
END:STANDARD
BEGIN:DAYLIGHT
TZOFFSETFROM:-0500
TZOFFSETTO:-0400
TZNAME:EDT
DTSTART:20150308T070000
END:DAYLIGHT
BEGIN:STANDARD
TZOFFSETFROM:-0400
TZOFFSETTO:-0500
TZNAME:EST
DTSTART:20151101T060000
END:STANDARD
BEGIN:DAYLIGHT
TZOFFSETFROM:-0500
TZOFFSETTO:-0400
TZNAME:EDT
DTSTART:20160313T070000
END:DAYLIGHT
BEGIN:STANDARD
TZOFFSETFROM:-0400
TZOFFSETTO:-0500
TZNAME:EST
DTSTART:20161106T060000
END:STANDARD
BEGIN:DAYLIGHT
TZOFFSETFROM:-0500
TZOFFSETTO:-0400
TZNAME:EDT
DTSTART:20170312T070000
END:DAYLIGHT
BEGIN:STANDARD
TZOFFSETFROM:-0400
TZOFFSETTO:-0500
TZNAME:EST
DTSTART:20171105T060000
END:STANDARD
BEGIN:DAYLIGHT
TZOFFSETFROM:-0500
TZOFFSETTO:-0400
TZNAME:EDT
DTSTART:20180311T070000
END:DAYLIGHT
BEGIN:STANDARD
TZOFFSETFROM:-0400
TZOFFSETTO:-0500
TZNAME:EST
DTSTART:20181104T060000
END:STANDARD
BEGIN:DAYLIGHT
TZOFFSETFROM:-0500
TZOFFSETTO:-0400
TZNAME:EDT
DTSTART:20190310T070000
END:DAYLIGHT
BEGIN:STANDARD
TZOFFSETFROM:-0400
TZOFFSETTO:-0500
TZNAME:EST
DTSTART:20191103T060000
END:STANDARD
BEGIN:DAYLIGHT
TZOFFSETFROM:-0500
TZOFFSETTO:-0400
TZNAME:EDT
DTSTART:20200308T070000
END:DAYLIGHT
BEGIN:STANDARD
TZOFFSETFROM:-0400
TZOFFSETTO:-0500
TZNAME:EST
DTSTART:20201101T060000
END:STANDARD
BEGIN:DAYLIGHT
TZOFFSETFROM:-0500
TZOFFSETTO:-0400
TZNAME:EDT
DTSTART:20210314T070000
END:DAYLIGHT
BEGIN:STANDARD
TZOFFSETFROM:-0400
TZOFFSETTO:-0500
TZNAME:EST
DTSTART:20211107T060000
END:STANDARD
BEGIN:DAYLIGHT
TZOFFSETFROM:-0500
TZOFFSETTO:-0400
TZNAME:EDT
DTSTART:20220313T070000
END:DAYLIGHT
BEGIN:STANDARD
TZOFFSETFROM:-0400
TZOFFSETTO:-0500
TZNAME:EST
DTSTART:20221106T060000
END:STANDARD
BEGIN:DAYLIGHT
TZOFFSETFROM:-0500
TZOFFSETTO:-0400
TZNAME:EDT
DTSTART:20230312T070000
END:DAYLIGHT
BEGIN:STANDARD
TZOFFSETFROM:-0400
TZOFFSETTO:-0500
TZNAME:EST
DTSTART:20231105T060000
END:STANDARD
END:VTIMEZONE
BEGIN:VTIMEZONE
TZID:UTC
BEGIN:STANDARD
TZOFFSETFROM:+0000
TZOFFSETTO:+0000
TZNAME:UTC
DTSTART:20120101T000000
END:STANDARD
END:VTIMEZONE
BEGIN:VEVENT
DTSTART;TZID=America/New_York:20220911T123000
DTEND;TZID=America/New_York:20220911T160000
DTSTAMP:20260425T092157
CREATED:20220823T173901Z
LAST-MODIFIED:20220823T174229Z
UID:10001663-1662899400-1662912000@geauganews.com
SUMMARY:Monarchs & Meadow Insects - at Frohring Meadows
DESCRIPTION:It’s so thrilling to find an insect you’ve never seen before. One sweep of the net can reveal amazing insects that are more often heard than seen. What will you find? \n  \nCatch up with this season’s stunning Monarch butterflies and more during Monarchs & Meadow Insects – at Frohring Meadows on Sunday\, September 11\, and at Orchard Hills Park on Sunday\, September 18\, both 12:30 to 4 p.m. \n  \nTogether you and your friends or family are invited to use our nets to catch a variety of butterflies\, grasshoppers\, praying mantids\, katydids\, beetles and other meadow insects. Join in at any time without registration. You may also bring your own net\, if you’d rather. We recommend wearing sun protection\, socks\, hats and long pants for moving through the meadow. \n  \nPlus\, should you catch a Monarch\, a naturalist will be on hand to tag and release it. Provide your contact information to be notified if your Monarch is later recovered in Mexico! \n  \nFor more on Geauga Park District offerings\, please call 440-286-9516 or visit Geauga Park District online via www.geaugaparkdistrict.org\, Facebook\, Twitter\, Instagram or YouTube.
URL:https://geauganews.com/local-event/monarchs-meadow-insects-at-frohring-meadows/
LOCATION:Frohring Meadows
CATEGORIES:Geauga Parks District
ATTACH;FMTTYPE=image/png:https://geauganews.com/wp-content/uploads/2021/09/Monarchs-and-Meadows-.png
END:VEVENT
BEGIN:VEVENT
DTSTART;VALUE=DATE:20141010
DTEND;VALUE=DATE:20141012
DTSTAMP:20260425T092157
CREATED:20141003T182953Z
LAST-MODIFIED:20141003T182953Z
UID:10000548-1412899200-1413071999@geauganews.com
SUMMARY:Fall Fest
DESCRIPTION:New celebration of autumn includes return of horse-drawn wagon rides in the park \nBrisk air\, changing colors\, spooky silhouettes\, costumes\, wagon rides and cider – Geauga Park District’s new\, free Fall Fest will have all this and more for the whole family to enjoy. \n \nWhat: Fall Fest \nWhen: Friday & Saturday\nOctober 10 & 11 – 5 to 9 p.m. \nWhere: Frohring Meadows\,\n16780 Savage Road\, Bainbridge Township \nFirst-come\, first-served horse-drawn wagon rides are one of the most exciting features as they haven’t been offered in the parks in almost a decade. Clydesdales Brutus and Rosebud will take you around the paved trail\, clip clop\, clip clop\, while a naturalist shares all the signs of the season. Go right to the ticket booth when you arrive to get your name in for a designated time. \nEven those who don’t ride will have no problem keeping busy with hands-on activity stations (including make-and-take slime)\, a puppet show for the little ones\, a corn box (like a sandbox\, but filled with corn kernels)\, hiking\, sack racing\, face painting\, a campfire\, s’mores\, popcorn\, cider and more! \nThen at 8 p.m. please join naturalists for a night hike into the woods\, where you’ll let your eyes adjust and then delve into the darkness unaided by a flashlight. (Don’t be scared; trust us\, it works.) \nTo make sure you don’t miss your favorite fall happenings\, please view the detailed schedule . \nRegistration is not required. Simply call 440-286-9516 in advance if you have questions. \nPsst…! If the Frohring lot fills and you’re redirected to the overflow parking at the Army National Guard armory (7600 Washington St.)\, there will be a shuttle available 5:30-9:30 p.m. But consider this: you could also HIKE to Fall Fest! The wooded trail is about 1.5 miles. A sign will be posted at the hike’s entrance\, just beyond the old baseball field at the armory. We hope some of you choose to enjoy the option! \nGeauga Park District is online\, Facebook\, Twitter and YouTube. \nYou can find more Geauga Park happenings by clicking here.
URL:https://geauganews.com/local-event/fall-fest/
LOCATION:Frohring Meadows
END:VEVENT
BEGIN:VEVENT
DTSTART;TZID=America/New_York:20140927T193000
DTEND;TZID=America/New_York:20140927T223000
DTSTAMP:20260425T092157
CREATED:20140919T153321Z
LAST-MODIFIED:20140919T153321Z
UID:10000541-1411846200-1411857000@geauganews.com
SUMMARY:Howling with Coyotes
DESCRIPTION:Use military-grade night vision goggles; use recordings to hear return calls\nLearn to use night vision goggles from the Ohio Army National Guard\, learn amazing facts about our resident coyote populations\, and hike out to a howling survey location at Frohring Meadows to broadcast real coyote recordings into the night with hopes of hearing return calls! \n \nWhat: Howling with Coyotes!\nWhen: Saturday\, September 27 – 7:30 to 10:30 p.m.\nWhere: Frohring Meadows\n16780 Savage Road\, Bainbridge Township \nTwo groups of 40 max will alternate between the night vision goggle and howling activities on site. Please note that we’ll all need to be exceedingly quiet during the use of night vision goggles to maximize the potential for wildlife appearances. \nGeauga Park District is grateful to the 135th Military Police Company\, part of the 437th Military Police Battalion in the Ohio Army National Guard\, for its support with this special offering! \nRegistration is required – and limited\, so act fast! – at the website or 440-286-9516. \nGeauga Park District is online\, Facebook\, Twitter and YouTube.
URL:https://geauganews.com/local-event/howling-with-coyotes/
LOCATION:Frohring Meadows
END:VEVENT
BEGIN:VEVENT
DTSTART;TZID=UTC:20130904T100000
DTEND;TZID=UTC:20130904T120000
DTSTAMP:20260425T092157
CREATED:20130716T174954Z
LAST-MODIFIED:20130805T151737Z
UID:10000077-1378288800-1378296000@geauganews.com
SUMMARY:EZ-GO Cart Tours
DESCRIPTION:Geauga Park District offers EZ Go Cart tours at 6 parks this summer \nIn keeping with its mission to connect all Geauga County residents with Nature\, Geauga Park District continues to offer its new trail vehicle\, introduced in 2012\, for park patrons with limited mobility and their friends and family. \nClick here for dates and locations of all of the tours.
URL:https://geauganews.com/local-event/ez-go-cart-tours1/
LOCATION:Frohring Meadows
END:VEVENT
END:VCALENDAR