BEGIN:VCALENDAR
VERSION:2.0
PRODID:-//Geauga News - ECPv6.15.20//NONSGML v1.0//EN
CALSCALE:GREGORIAN
METHOD:PUBLISH
X-WR-CALNAME:Geauga News
X-ORIGINAL-URL:https://geauganews.com
X-WR-CALDESC:Events for Geauga News
REFRESH-INTERVAL;VALUE=DURATION:PT1H
X-Robots-Tag:noindex
X-PUBLISHED-TTL:PT1H
BEGIN:VTIMEZONE
TZID:America/New_York
BEGIN:DAYLIGHT
TZOFFSETFROM:-0500
TZOFFSETTO:-0400
TZNAME:EDT
DTSTART:20180311T070000
END:DAYLIGHT
BEGIN:STANDARD
TZOFFSETFROM:-0400
TZOFFSETTO:-0500
TZNAME:EST
DTSTART:20181104T060000
END:STANDARD
BEGIN:DAYLIGHT
TZOFFSETFROM:-0500
TZOFFSETTO:-0400
TZNAME:EDT
DTSTART:20190310T070000
END:DAYLIGHT
BEGIN:STANDARD
TZOFFSETFROM:-0400
TZOFFSETTO:-0500
TZNAME:EST
DTSTART:20191103T060000
END:STANDARD
BEGIN:DAYLIGHT
TZOFFSETFROM:-0500
TZOFFSETTO:-0400
TZNAME:EDT
DTSTART:20200308T070000
END:DAYLIGHT
BEGIN:STANDARD
TZOFFSETFROM:-0400
TZOFFSETTO:-0500
TZNAME:EST
DTSTART:20201101T060000
END:STANDARD
END:VTIMEZONE
BEGIN:VTIMEZONE
TZID:UTC
BEGIN:STANDARD
TZOFFSETFROM:+0000
TZOFFSETTO:+0000
TZNAME:UTC
DTSTART:20120101T000000
END:STANDARD
END:VTIMEZONE
BEGIN:VEVENT
DTSTART;TZID=America/New_York:20191217T183000
DTEND;TZID=America/New_York:20191217T200000
DTSTAMP:20260422T193027
CREATED:20191212T144034Z
LAST-MODIFIED:20191217T042651Z
UID:10000873-1576607400-1576612800@geauganews.com
SUMMARY:Holiday Music with Geauga Area Musicians
DESCRIPTION:The Geauga Arts Network Group (GANG) will be presenting its annual free Holiday Caroling Concert with Geauga County musician Nicky Bucur and his friends. They will be hosting area musicians in a Pre-Holiday Jam Session with songs of the season. Audience participation is welcome. This program will be held at the Heinen’s Café\, 402 Center Street in Chardon\, on Tuesday December 17th from 6:30 p.m. to 8:00 p.m. \nNicky is a freelance musician and volunteer who has been bringing joyful music to area families and organizations for many years. Musicians of all ages are welcome to bring their instruments and join in the fun. Participants are also encouraged to bring along holiday memorabilia or stories to share. \nThis event is free and open to the general public; no reservations are necessary. The Geauga Arts Network Group is an ad hoc group whose mission is to promote communication\, collaboration\, and cooperation across all artistic disciplines\, for artists living and/or working in Geauga County and surrounding communities. For further information\, contact Nicky Bucur at 216-240-1501.
URL:https://geauganews.com/local-event/holiday-music-with-geauga-area-musicians/
LOCATION:Heinen’s Cafe\, 402 Center Street\, Chardon
END:VEVENT
BEGIN:VEVENT
DTSTART;TZID=UTC:20130820T183000
DTEND;TZID=UTC:20130820T200000
DTSTAMP:20260422T193027
CREATED:20130814T160552Z
LAST-MODIFIED:20130814T160552Z
UID:10000103-1377023400-1377028800@geauganews.com
SUMMARY:Tom Zubek Art: Railroad Spikes\, Leather\, Wood\, and Spider Webs
DESCRIPTION: Zubek’s art work includes sculptural pieces incorporating railroad spikes which have leather and wood pieces with forms and patterns burned into them using an electrically heated pencil; and works incorporating real spider webs. He is also an expert on the airplane nose art that was used to decorate and sometimes convey messages on World War II aircraft. An active pilot\, who has owned a number of airplanes over the years\, he is a flying enthusiast whose childhood interest in model airplanes generated a lifelong passion for aviation. \nClick here for more event information. \n 
URL:https://geauganews.com/local-event/tom-zubek-art-railroad-spikes-leather-wood-and-spider-webs/
LOCATION:Heinen’s Cafe\, 402 Center Street\, Chardon
END:VEVENT
END:VCALENDAR