BEGIN:VCALENDAR
VERSION:2.0
PRODID:-//Geauga News - ECPv6.15.20//NONSGML v1.0//EN
CALSCALE:GREGORIAN
METHOD:PUBLISH
X-ORIGINAL-URL:https://geauganews.com
X-WR-CALDESC:Events for Geauga News
REFRESH-INTERVAL;VALUE=DURATION:PT1H
X-Robots-Tag:noindex
X-PUBLISHED-TTL:PT1H
BEGIN:VTIMEZONE
TZID:America/New_York
BEGIN:DAYLIGHT
TZOFFSETFROM:-0500
TZOFFSETTO:-0400
TZNAME:EDT
DTSTART:20120311T070000
END:DAYLIGHT
BEGIN:STANDARD
TZOFFSETFROM:-0400
TZOFFSETTO:-0500
TZNAME:EST
DTSTART:20121104T060000
END:STANDARD
BEGIN:DAYLIGHT
TZOFFSETFROM:-0500
TZOFFSETTO:-0400
TZNAME:EDT
DTSTART:20130310T070000
END:DAYLIGHT
BEGIN:STANDARD
TZOFFSETFROM:-0400
TZOFFSETTO:-0500
TZNAME:EST
DTSTART:20131103T060000
END:STANDARD
BEGIN:DAYLIGHT
TZOFFSETFROM:-0500
TZOFFSETTO:-0400
TZNAME:EDT
DTSTART:20140309T070000
END:DAYLIGHT
BEGIN:STANDARD
TZOFFSETFROM:-0400
TZOFFSETTO:-0500
TZNAME:EST
DTSTART:20141102T060000
END:STANDARD
END:VTIMEZONE
BEGIN:VEVENT
DTSTART;TZID=America/New_York:20131120T120000
DTEND;TZID=America/New_York:20131120T180000
DTSTAMP:20260422T045619
CREATED:20131119T165806Z
LAST-MODIFIED:20131119T165806Z
UID:10000255-1384948800-1384970400@geauganews.com
SUMMARY:American Red Cross Blood Drive
DESCRIPTION:Come donate blood on 11/20 in the Kennedy Ballroom at Hiram College! Please help ensure that patients in local hospitals have the life saving treatments they need this holiday season. Please embrace the spirit of Thanksgiving and give what only you can give! Call 1-800-RED-CROSS or visit www.redcrossblood.org and use Sponsor Code: Hiram to schedule your appointment today! Walk-ins welcome! The Red Cross is thankful for the generosity of our donors and volunteers!
URL:https://geauganews.com/local-event/american-red-cross-blood-drive-2/
LOCATION:Hiram College\, Kennedy Ballroom\, St. Route 700 \, Hiram
ORGANIZER;CN="Skylar Blackwell":MAILTO:skylar.blackwell@redcross.org
END:VEVENT
END:VCALENDAR