BEGIN:VCALENDAR
VERSION:2.0
PRODID:-//Geauga News - ECPv6.15.20//NONSGML v1.0//EN
CALSCALE:GREGORIAN
METHOD:PUBLISH
X-WR-CALNAME:Geauga News
X-ORIGINAL-URL:https://geauganews.com
X-WR-CALDESC:Events for Geauga News
REFRESH-INTERVAL;VALUE=DURATION:PT1H
X-Robots-Tag:noindex
X-PUBLISHED-TTL:PT1H
BEGIN:VTIMEZONE
TZID:America/New_York
BEGIN:DAYLIGHT
TZOFFSETFROM:-0500
TZOFFSETTO:-0400
TZNAME:EDT
DTSTART:20120311T070000
END:DAYLIGHT
BEGIN:STANDARD
TZOFFSETFROM:-0400
TZOFFSETTO:-0500
TZNAME:EST
DTSTART:20121104T060000
END:STANDARD
BEGIN:DAYLIGHT
TZOFFSETFROM:-0500
TZOFFSETTO:-0400
TZNAME:EDT
DTSTART:20130310T070000
END:DAYLIGHT
BEGIN:STANDARD
TZOFFSETFROM:-0400
TZOFFSETTO:-0500
TZNAME:EST
DTSTART:20131103T060000
END:STANDARD
BEGIN:DAYLIGHT
TZOFFSETFROM:-0500
TZOFFSETTO:-0400
TZNAME:EDT
DTSTART:20140309T070000
END:DAYLIGHT
BEGIN:STANDARD
TZOFFSETFROM:-0400
TZOFFSETTO:-0500
TZNAME:EST
DTSTART:20141102T060000
END:STANDARD
BEGIN:DAYLIGHT
TZOFFSETFROM:-0500
TZOFFSETTO:-0400
TZNAME:EDT
DTSTART:20150308T070000
END:DAYLIGHT
BEGIN:STANDARD
TZOFFSETFROM:-0400
TZOFFSETTO:-0500
TZNAME:EST
DTSTART:20151101T060000
END:STANDARD
BEGIN:DAYLIGHT
TZOFFSETFROM:-0500
TZOFFSETTO:-0400
TZNAME:EDT
DTSTART:20160313T070000
END:DAYLIGHT
BEGIN:STANDARD
TZOFFSETFROM:-0400
TZOFFSETTO:-0500
TZNAME:EST
DTSTART:20161106T060000
END:STANDARD
BEGIN:DAYLIGHT
TZOFFSETFROM:-0500
TZOFFSETTO:-0400
TZNAME:EDT
DTSTART:20170312T070000
END:DAYLIGHT
BEGIN:STANDARD
TZOFFSETFROM:-0400
TZOFFSETTO:-0500
TZNAME:EST
DTSTART:20171105T060000
END:STANDARD
BEGIN:DAYLIGHT
TZOFFSETFROM:-0500
TZOFFSETTO:-0400
TZNAME:EDT
DTSTART:20180311T070000
END:DAYLIGHT
BEGIN:STANDARD
TZOFFSETFROM:-0400
TZOFFSETTO:-0500
TZNAME:EST
DTSTART:20181104T060000
END:STANDARD
BEGIN:DAYLIGHT
TZOFFSETFROM:-0500
TZOFFSETTO:-0400
TZNAME:EDT
DTSTART:20190310T070000
END:DAYLIGHT
BEGIN:STANDARD
TZOFFSETFROM:-0400
TZOFFSETTO:-0500
TZNAME:EST
DTSTART:20191103T060000
END:STANDARD
BEGIN:DAYLIGHT
TZOFFSETFROM:-0500
TZOFFSETTO:-0400
TZNAME:EDT
DTSTART:20200308T070000
END:DAYLIGHT
BEGIN:STANDARD
TZOFFSETFROM:-0400
TZOFFSETTO:-0500
TZNAME:EST
DTSTART:20201101T060000
END:STANDARD
END:VTIMEZONE
BEGIN:VEVENT
DTSTART;TZID=America/New_York:20190323T173000
DTEND;TZID=America/New_York:20190323T223000
DTSTAMP:20260425T162212
CREATED:20190121T184335Z
LAST-MODIFIED:20190121T184335Z
UID:10000801-1553362200-1553380200@geauganews.com
SUMMARY:Fabulous 50s & 60s Fundraiser Dinner to Benefit the United Methodist Church of Middlefield Land Fund
DESCRIPTION:The Fabulous 50’s + 60’s Fundraiser! 2019\, the UMC annual fundraiser will be held Saturday\, March 23rd from 5:30 p.m. to 10:30 p.m.\, at the Huntsburg Community Center. The event will feature live performances from the band Downtown; a silent and live auction as well as hors d’oeuvres\, dinner and dessert catered by Chow Down. \n“Fabulous 50’s + 60’s Fundraiser!” is the event of the year—a thoroughly fun and entertaining fundraiser that helps us keep our community outreach right here in eastern Geauga county. The dinner and auction begins at 5:30 p.m. with the Silent Auction\, where guests can bid on items donated by businesses and friends of the UMC. \nThere are over 30 Silent Auction items this year\, you don’t want to miss these unique items. Bidding on the Silent Auction closes at 7:15 p.m. followed by the LIVE Auction. The talented local band\, Downtown\, plays traditional and pop standards including songs from the 50’s\, 60’s and 70’s\, a little bit of country plus a polka or two.  They play for a variety of occasions from just dinner music to clambakes and dances.  Fronted by Garey Watson\, the band features Garey on trumpet\, flugelhorn and vocals; Dave Thomas on keyboard and vocals\, Andy Holloman on tenor sax and vocals\, Carol Holloman on vocals\, Katie Thomas on bass guitar\, and Andy Kenen on drums. \nUnited Methodist Church is impacting our local community in several ways each and every day. The church’s food pantry offers help to 25-35 families a week. The thrift store operated by the United Methodist Women raised over $6\,000 that was given back to the community for a variety of good causes. The Pastor’s Discretionary Fund gave over $4\,700 to help needy individuals with a wide variety of needs. Many community groups supported currently using our facilities including the Scouts\, AA\, NAMI\, Red Cross\, Geauga Immunization Clinic\, Project Hoffnung- Mennonite Mammovan. \nThe funds raised will be used to complete the purchase of the UMC land and make improvement to the property located on State Route 608 North of Middlefield. \nDinner tickets are $35 each\, for more information\, and to purchase tickets\, visit  Fabulous 50’s & 60″s Dinner or call 440-812-5892.
URL:https://geauganews.com/local-event/fabulous-50s-60s-fundraiser-dinner-to-benefit-the-united-methodist-church-of-middlefield-land-fund/
LOCATION:Huntsburg Community Center\, 12406 Madison Rd.\, Huntsburg
ATTACH;FMTTYPE=image/jpeg:https://geauganews.com/wp-content/uploads/2019/01/50s-60s-Fundraiser.jpg
END:VEVENT
BEGIN:VEVENT
DTSTART;TZID=America/New_York:20130921T100000
DTEND;TZID=America/New_York:20130921T160000
DTSTAMP:20260425T162212
CREATED:20130711T204132Z
LAST-MODIFIED:20130711T204132Z
UID:10000068-1379757600-1379779200@geauganews.com
SUMMARY:Penn-Ohio Wooden Money Collectors Annual Swap Meet
DESCRIPTION:The Penn-Ohio Wooden Money Collectors will be hosting their Annual Swap Meet at Huntsburg Community Center located at 12406 Madison Rd. (St. Rt. 528) in Huntsburg\, Ohio 44046 on September 21\, 2013 from 10:00 am to 4:00 pm. They are celebrating their 10 year anniversary. Admission is Free. There will be Free Refreshments & Door Prizes. Along with looking at the various types of wooden money\, you can also learn how the saying “Don’t take any wooden nickels” came about.
URL:https://geauganews.com/local-event/penn-ohio-wooden-money-collectors-annual-swap-meet/
LOCATION:Huntsburg Community Center\, 12406 Madison Rd.\, Huntsburg
END:VEVENT
END:VCALENDAR