BEGIN:VCALENDAR
VERSION:2.0
PRODID:-//Geauga News - ECPv6.15.20//NONSGML v1.0//EN
CALSCALE:GREGORIAN
METHOD:PUBLISH
X-WR-CALNAME:Geauga News
X-ORIGINAL-URL:https://geauganews.com
X-WR-CALDESC:Events for Geauga News
REFRESH-INTERVAL;VALUE=DURATION:PT1H
X-Robots-Tag:noindex
X-PUBLISHED-TTL:PT1H
BEGIN:VTIMEZONE
TZID:America/New_York
BEGIN:DAYLIGHT
TZOFFSETFROM:-0500
TZOFFSETTO:-0400
TZNAME:EDT
DTSTART:20120311T070000
END:DAYLIGHT
BEGIN:STANDARD
TZOFFSETFROM:-0400
TZOFFSETTO:-0500
TZNAME:EST
DTSTART:20121104T060000
END:STANDARD
BEGIN:DAYLIGHT
TZOFFSETFROM:-0500
TZOFFSETTO:-0400
TZNAME:EDT
DTSTART:20130310T070000
END:DAYLIGHT
BEGIN:STANDARD
TZOFFSETFROM:-0400
TZOFFSETTO:-0500
TZNAME:EST
DTSTART:20131103T060000
END:STANDARD
BEGIN:DAYLIGHT
TZOFFSETFROM:-0500
TZOFFSETTO:-0400
TZNAME:EDT
DTSTART:20140309T070000
END:DAYLIGHT
BEGIN:STANDARD
TZOFFSETFROM:-0400
TZOFFSETTO:-0500
TZNAME:EST
DTSTART:20141102T060000
END:STANDARD
END:VTIMEZONE
BEGIN:VEVENT
DTSTART;VALUE=DATE:20131116
DTEND;VALUE=DATE:20131118
DTSTAMP:20260422T205038
CREATED:20131023T154028Z
LAST-MODIFIED:20131023T154028Z
UID:10000216-1384560000-1384732799@geauganews.com
SUMMARY:The Christmas Extravaganza
DESCRIPTION:Saturday\, November 16\, from 10 am – 6 pm and Sunday\, November 17\, from noon – 6 pm \nYou will find handmade soaps\, scarves\, fudge\, knitted and crocheted products\, and much more! Look for Thirty-One\, Tastefully Simple\, Stampin’ Up\, Origami Owl\, Lakeshore Lovelies\, Rising Moon Ministries\, It Works\, A & M Moonlight Creations\, BK Signs and Designs\, and so many more! \nThere will be a 50/50 Raffle where proceeds will be benefiting Rainbow Babies. This event is one you do not want to miss! They will have a Free Basket Raffle along with Free Gift wrapping and Free refreshments! If you need more information on this event\, call 440-547-6860 or 440-321-9724.
URL:https://geauganews.com/local-event/the-christmas-extravaganza/
LOCATION:Huntsburg Community Center\, 12406 Madison Rd\, Huntsburg\, OH\, United States
END:VEVENT
END:VCALENDAR