BEGIN:VCALENDAR
VERSION:2.0
PRODID:-//Geauga News - ECPv6.15.20//NONSGML v1.0//EN
CALSCALE:GREGORIAN
METHOD:PUBLISH
X-ORIGINAL-URL:https://geauganews.com
X-WR-CALDESC:Events for Geauga News
REFRESH-INTERVAL;VALUE=DURATION:PT1H
X-Robots-Tag:noindex
X-PUBLISHED-TTL:PT1H
BEGIN:VTIMEZONE
TZID:America/New_York
BEGIN:DAYLIGHT
TZOFFSETFROM:-0500
TZOFFSETTO:-0400
TZNAME:EDT
DTSTART:20210314T070000
END:DAYLIGHT
BEGIN:STANDARD
TZOFFSETFROM:-0400
TZOFFSETTO:-0500
TZNAME:EST
DTSTART:20211107T060000
END:STANDARD
BEGIN:DAYLIGHT
TZOFFSETFROM:-0500
TZOFFSETTO:-0400
TZNAME:EDT
DTSTART:20220313T070000
END:DAYLIGHT
BEGIN:STANDARD
TZOFFSETFROM:-0400
TZOFFSETTO:-0500
TZNAME:EST
DTSTART:20221106T060000
END:STANDARD
BEGIN:DAYLIGHT
TZOFFSETFROM:-0500
TZOFFSETTO:-0400
TZNAME:EDT
DTSTART:20230312T070000
END:DAYLIGHT
BEGIN:STANDARD
TZOFFSETFROM:-0400
TZOFFSETTO:-0500
TZNAME:EST
DTSTART:20231105T060000
END:STANDARD
END:VTIMEZONE
BEGIN:VEVENT
DTSTART;TZID=America/New_York:20220814T100000
DTEND;TZID=America/New_York:20220814T170000
DTSTAMP:20260425T195237
CREATED:20220728T192128Z
LAST-MODIFIED:20220728T192156Z
UID:10001647-1660471200-1660496400@geauganews.com
SUMMARY:Sunflower Festival at Ianiro Farm
DESCRIPTION:Ianiro Farm\, is hosting their first Sunflower Festival on Saturday\, August 13th and Sunday\, the 14th\, from 10 a.m. to 5 p.m. in Auburn at 18266 Thorpe Rd\, Chagrin Falls\, OH 44023\, where guests will be able to pick their own sunflowers\, shop with local artisans and collectors\, pet donkeys and play yard games at the Ianiro’s farm of five generations.   \nVendor spaces approximately 10’ x 10’ will cost $10\, and guest admission is free.  \nFounders of IQ Male Syrup\, the Ianiros are excited to welcome the community to their spacious Ohio farm to pick sunflowers and celebrate local creatives and creators. When they’re not at their 9-to-5s\, the Ianiros work hard harvesting maple syrup and other produce\, tending to their animals and repurposing old materials to make functional works of art. \nAfter Jena saw the potential of this year’s sunflower harvest\, she was inspired to host a festival where the community could shop\, play games\, interact with the farm animals and take a little bit of sunshine home with them. \n“I love seeing people smile\,” Jena said. “You can’t help but smile when you’re in a field of sunflowers. My husband\, Walter\, and I enjoy everyone visiting the farm. Whether it’s to taste sweet maple syrup\, spending time with the donkeys or picking sunflowers\, we hope everyone leaves with a smile and a bright day ahead of them.”  \nWhen Jena told her idea to her son Nick\, who works at Cleveland Art and has been an essential member of the team hosting art festivals at Reithoffer’s Art Gallery and Event Space\, he was thrilled to help bring the concept to life.   \n“I’ve always wanted to welcome people to experience all the joys of our fifth-generation farm\, spent time with the animals and celebrate\,” Nick said. “Our farm has a lot to offer.”  \nNick is a jack of many trades\, but recently in his spare time he has mostly been working with wood\, carving bowls\, jewelry and candles he fills with his own candle wax. He will be one of many creators setting up a booth at the event.  \nFor more information on signing up to sell goods at the Sunflower Festival\, vendors may call or text Nick Ianiro at (440) 264-3161 or Jena Ianiro at (440) 567-7500\, and more information can be found at ianirofarm.com or IQ Maple Syrup’s Facebook page.  \n\n 
URL:https://geauganews.com/local-event/sunflower-festival-at-ianiro-farm/2022-08-14/
LOCATION:Ianiro Farm\, 18266 Thorpe Rd\, Chagrin Falls\, OH\, 44023\, United States
ATTACH;FMTTYPE=image/png:https://geauganews.com/wp-content/uploads/2022/07/Sunflower-Fest.png
END:VEVENT
BEGIN:VEVENT
DTSTART;TZID=America/New_York:20220813T100000
DTEND;TZID=America/New_York:20220813T170000
DTSTAMP:20260425T195237
CREATED:20220728T192128Z
LAST-MODIFIED:20220728T192156Z
UID:10001646-1660384800-1660410000@geauganews.com
SUMMARY:Sunflower Festival at Ianiro Farm
DESCRIPTION:Ianiro Farm\, is hosting their first Sunflower Festival on Saturday\, August 13th and Sunday\, the 14th\, from 10 a.m. to 5 p.m. in Auburn at 18266 Thorpe Rd\, Chagrin Falls\, OH 44023\, where guests will be able to pick their own sunflowers\, shop with local artisans and collectors\, pet donkeys and play yard games at the Ianiro’s farm of five generations.   \nVendor spaces approximately 10’ x 10’ will cost $10\, and guest admission is free.  \nFounders of IQ Male Syrup\, the Ianiros are excited to welcome the community to their spacious Ohio farm to pick sunflowers and celebrate local creatives and creators. When they’re not at their 9-to-5s\, the Ianiros work hard harvesting maple syrup and other produce\, tending to their animals and repurposing old materials to make functional works of art. \nAfter Jena saw the potential of this year’s sunflower harvest\, she was inspired to host a festival where the community could shop\, play games\, interact with the farm animals and take a little bit of sunshine home with them. \n“I love seeing people smile\,” Jena said. “You can’t help but smile when you’re in a field of sunflowers. My husband\, Walter\, and I enjoy everyone visiting the farm. Whether it’s to taste sweet maple syrup\, spending time with the donkeys or picking sunflowers\, we hope everyone leaves with a smile and a bright day ahead of them.”  \nWhen Jena told her idea to her son Nick\, who works at Cleveland Art and has been an essential member of the team hosting art festivals at Reithoffer’s Art Gallery and Event Space\, he was thrilled to help bring the concept to life.   \n“I’ve always wanted to welcome people to experience all the joys of our fifth-generation farm\, spent time with the animals and celebrate\,” Nick said. “Our farm has a lot to offer.”  \nNick is a jack of many trades\, but recently in his spare time he has mostly been working with wood\, carving bowls\, jewelry and candles he fills with his own candle wax. He will be one of many creators setting up a booth at the event.  \nFor more information on signing up to sell goods at the Sunflower Festival\, vendors may call or text Nick Ianiro at (440) 264-3161 or Jena Ianiro at (440) 567-7500\, and more information can be found at ianirofarm.com or IQ Maple Syrup’s Facebook page.  \n\n 
URL:https://geauganews.com/local-event/sunflower-festival-at-ianiro-farm/2022-08-13/
LOCATION:Ianiro Farm\, 18266 Thorpe Rd\, Chagrin Falls\, OH\, 44023\, United States
ATTACH;FMTTYPE=image/png:https://geauganews.com/wp-content/uploads/2022/07/Sunflower-Fest.png
END:VEVENT
END:VCALENDAR