BEGIN:VCALENDAR
VERSION:2.0
PRODID:-//Geauga News - ECPv6.15.20//NONSGML v1.0//EN
CALSCALE:GREGORIAN
METHOD:PUBLISH
X-ORIGINAL-URL:https://geauganews.com
X-WR-CALDESC:Events for Geauga News
REFRESH-INTERVAL;VALUE=DURATION:PT1H
X-Robots-Tag:noindex
X-PUBLISHED-TTL:PT1H
BEGIN:VTIMEZONE
TZID:America/New_York
BEGIN:DAYLIGHT
TZOFFSETFROM:-0500
TZOFFSETTO:-0400
TZNAME:EDT
DTSTART:20130310T070000
END:DAYLIGHT
BEGIN:STANDARD
TZOFFSETFROM:-0400
TZOFFSETTO:-0500
TZNAME:EST
DTSTART:20131103T060000
END:STANDARD
BEGIN:DAYLIGHT
TZOFFSETFROM:-0500
TZOFFSETTO:-0400
TZNAME:EDT
DTSTART:20140309T070000
END:DAYLIGHT
BEGIN:STANDARD
TZOFFSETFROM:-0400
TZOFFSETTO:-0500
TZNAME:EST
DTSTART:20141102T060000
END:STANDARD
BEGIN:DAYLIGHT
TZOFFSETFROM:-0500
TZOFFSETTO:-0400
TZNAME:EDT
DTSTART:20150308T070000
END:DAYLIGHT
BEGIN:STANDARD
TZOFFSETFROM:-0400
TZOFFSETTO:-0500
TZNAME:EST
DTSTART:20151101T060000
END:STANDARD
END:VTIMEZONE
BEGIN:VEVENT
DTSTART;TZID=America/New_York:20140425T113000
DTEND;TZID=America/New_York:20140425T140000
DTSTAMP:20260422T160618
CREATED:20140409T190247Z
LAST-MODIFIED:20140409T190247Z
UID:10000360-1398425400-1398434400@geauganews.com
SUMMARY:Administrative Professionals Week Luncheon
DESCRIPTION:Administrative Professionals Week is April 20-26 and Indian Trails Chapter IAAP invites you to join us in honoring and showing gratitude to those in our offices who get the job done. \nA luncheon will be held Friday\, April 25\, at the Kent State Hotel & Conference Center beginning at 11:30 am. Pat Perry\, President of Employers Resource Council (ERC) will speak on “Reasons Why Your Employees Aren’t Fully Engaged.” \nERC is NE Ohio’s leading and largest professional organization dedicated to HR practices\, programs and services\, and sponors the NorthCoast 99 program recognizing the top 99 employers in the NE Ohio area. \nFor more information or to register for the luncheon\, call Maureen at 330.297.1424\, Ext. 110. Additional information is also posted on our Facebook page IAAP Indian Trails Chapter Kent OH Please register by April 18\, 2014.
URL:https://geauganews.com/local-event/administrative-professionals-week-luncheon/
LOCATION:Kent State Hotel & Conference Center`\, South Depeyster Street \, Kent\, OH\, 44240\, United States
GEO:41.149382;-81.3564367
X-APPLE-STRUCTURED-LOCATION;VALUE=URI;X-ADDRESS=Kent State Hotel & Conference Center` South Depeyster Street  Kent OH 44240 United States;X-APPLE-RADIUS=500;X-TITLE=South Depeyster Street:geo:-81.3564367,41.149382
END:VEVENT
END:VCALENDAR