BEGIN:VCALENDAR
VERSION:2.0
PRODID:-//Geauga News - ECPv6.15.20//NONSGML v1.0//EN
CALSCALE:GREGORIAN
METHOD:PUBLISH
X-ORIGINAL-URL:https://geauganews.com
X-WR-CALDESC:Events for Geauga News
REFRESH-INTERVAL;VALUE=DURATION:PT1H
X-Robots-Tag:noindex
X-PUBLISHED-TTL:PT1H
BEGIN:VTIMEZONE
TZID:America/New_York
BEGIN:DAYLIGHT
TZOFFSETFROM:-0500
TZOFFSETTO:-0400
TZNAME:EDT
DTSTART:20120311T070000
END:DAYLIGHT
BEGIN:STANDARD
TZOFFSETFROM:-0400
TZOFFSETTO:-0500
TZNAME:EST
DTSTART:20121104T060000
END:STANDARD
BEGIN:DAYLIGHT
TZOFFSETFROM:-0500
TZOFFSETTO:-0400
TZNAME:EDT
DTSTART:20130310T070000
END:DAYLIGHT
BEGIN:STANDARD
TZOFFSETFROM:-0400
TZOFFSETTO:-0500
TZNAME:EST
DTSTART:20131103T060000
END:STANDARD
BEGIN:DAYLIGHT
TZOFFSETFROM:-0500
TZOFFSETTO:-0400
TZNAME:EDT
DTSTART:20140309T070000
END:DAYLIGHT
BEGIN:STANDARD
TZOFFSETFROM:-0400
TZOFFSETTO:-0500
TZNAME:EST
DTSTART:20141102T060000
END:STANDARD
END:VTIMEZONE
BEGIN:VEVENT
DTSTART;TZID=America/New_York:20131109T160000
DTEND;TZID=America/New_York:20131109T190000
DTSTAMP:20260422T091727
CREATED:20131106T200421Z
LAST-MODIFIED:20131106T200421Z
UID:10000224-1384012800-1384023600@geauganews.com
SUMMARY:Veteran's Dinner
DESCRIPTION:Roast Turkey Dinner \nServing:\nRoast Turkey\, Mashed Potatoes\, Gravy\, Stuffing\, Vegetables & assorted DESSERTS\, Beverage served (eat in only) \nAdults: $9.00 Youth: $5.00 preschool & under FREE \nIN APPRECIATION for ALL VETERANS\, Police Officers & Fire Fighters We invite you to be our guests. \ncarry outs available \nQuestions: call Pauline @ 440.632.1594 prior to Nov 9th \nQuestions & orders on Nov 9th: call the church @ 440.635.4744 \n 
URL:https://geauganews.com/local-event/veterans-dinner/
LOCATION:Lighthouse United Methodist Church\, 14780 Mayfield Rd \, East Claridon
ORGANIZER;CN="Pauline Burnett":MAILTO:pmrburnett@aol.com
END:VEVENT
END:VCALENDAR