BEGIN:VCALENDAR
VERSION:2.0
PRODID:-//Geauga News - ECPv6.15.20//NONSGML v1.0//EN
CALSCALE:GREGORIAN
METHOD:PUBLISH
X-WR-CALNAME:Geauga News
X-ORIGINAL-URL:https://geauganews.com
X-WR-CALDESC:Events for Geauga News
REFRESH-INTERVAL;VALUE=DURATION:PT1H
X-Robots-Tag:noindex
X-PUBLISHED-TTL:PT1H
BEGIN:VTIMEZONE
TZID:America/New_York
BEGIN:DAYLIGHT
TZOFFSETFROM:-0500
TZOFFSETTO:-0400
TZNAME:EDT
DTSTART:20130310T070000
END:DAYLIGHT
BEGIN:STANDARD
TZOFFSETFROM:-0400
TZOFFSETTO:-0500
TZNAME:EST
DTSTART:20131103T060000
END:STANDARD
BEGIN:DAYLIGHT
TZOFFSETFROM:-0500
TZOFFSETTO:-0400
TZNAME:EDT
DTSTART:20140309T070000
END:DAYLIGHT
BEGIN:STANDARD
TZOFFSETFROM:-0400
TZOFFSETTO:-0500
TZNAME:EST
DTSTART:20141102T060000
END:STANDARD
BEGIN:DAYLIGHT
TZOFFSETFROM:-0500
TZOFFSETTO:-0400
TZNAME:EDT
DTSTART:20150308T070000
END:DAYLIGHT
BEGIN:STANDARD
TZOFFSETFROM:-0400
TZOFFSETTO:-0500
TZNAME:EST
DTSTART:20151101T060000
END:STANDARD
END:VTIMEZONE
BEGIN:VEVENT
DTSTART;TZID=America/New_York:20140228T163000
DTEND;TZID=America/New_York:20140228T193000
DTSTAMP:20260421T202045
CREATED:20140224T165812Z
LAST-MODIFIED:20140224T170459Z
UID:10000343-1393605000-1393615800@geauganews.com
SUMMARY:Business Fair in the Tropics
DESCRIPTION:Meet the people behind the local businesses at the “Business Fair in the Tropics” at Lowe’s Greenhouses\, Florist & Gift on Friday\, February 28 from 4:30 – 7:30. Free food and beverages. A chance to win $100 Lowe’s Gift Card\, 20% Off one item coupon and Vendor Prizes. Come in out of the cold\, enjoy the warmth and tropical atmosphere in the greenhouse all while chatting with local vendors and their businesses. How can local businesses help you have a better life? Find out here!
URL:https://geauganews.com/local-event/business-fair-in-the-tropics/
LOCATION:Lowe’s Greenhouses\, Florist & Gift\, 16540 Chillicothe Road\, Chagrin Falls \, OH\, 44023\, United States
ORGANIZER;CN="Deby Lexow":MAILTO:debylexow@gmail.com
GEO:41.4186591;-81.3402852
X-APPLE-STRUCTURED-LOCATION;VALUE=URI;X-ADDRESS=Lowe’s Greenhouses Florist & Gift 16540 Chillicothe Road Chagrin Falls  OH 44023 United States;X-APPLE-RADIUS=500;X-TITLE=16540 Chillicothe Road:geo:-81.3402852,41.4186591
END:VEVENT
END:VCALENDAR