BEGIN:VCALENDAR
VERSION:2.0
PRODID:-//Geauga News - ECPv6.15.20//NONSGML v1.0//EN
CALSCALE:GREGORIAN
METHOD:PUBLISH
X-WR-CALNAME:Geauga News
X-ORIGINAL-URL:https://geauganews.com
X-WR-CALDESC:Events for Geauga News
REFRESH-INTERVAL;VALUE=DURATION:PT1H
X-Robots-Tag:noindex
X-PUBLISHED-TTL:PT1H
BEGIN:VTIMEZONE
TZID:America/New_York
BEGIN:DAYLIGHT
TZOFFSETFROM:-0500
TZOFFSETTO:-0400
TZNAME:EDT
DTSTART:20130310T070000
END:DAYLIGHT
BEGIN:STANDARD
TZOFFSETFROM:-0400
TZOFFSETTO:-0500
TZNAME:EST
DTSTART:20131103T060000
END:STANDARD
BEGIN:DAYLIGHT
TZOFFSETFROM:-0500
TZOFFSETTO:-0400
TZNAME:EDT
DTSTART:20140309T070000
END:DAYLIGHT
BEGIN:STANDARD
TZOFFSETFROM:-0400
TZOFFSETTO:-0500
TZNAME:EST
DTSTART:20141102T060000
END:STANDARD
BEGIN:DAYLIGHT
TZOFFSETFROM:-0500
TZOFFSETTO:-0400
TZNAME:EDT
DTSTART:20150308T070000
END:DAYLIGHT
BEGIN:STANDARD
TZOFFSETFROM:-0400
TZOFFSETTO:-0500
TZNAME:EST
DTSTART:20151101T060000
END:STANDARD
BEGIN:DAYLIGHT
TZOFFSETFROM:-0500
TZOFFSETTO:-0400
TZNAME:EDT
DTSTART:20160313T070000
END:DAYLIGHT
BEGIN:STANDARD
TZOFFSETFROM:-0400
TZOFFSETTO:-0500
TZNAME:EST
DTSTART:20161106T060000
END:STANDARD
BEGIN:DAYLIGHT
TZOFFSETFROM:-0500
TZOFFSETTO:-0400
TZNAME:EDT
DTSTART:20170312T070000
END:DAYLIGHT
BEGIN:STANDARD
TZOFFSETFROM:-0400
TZOFFSETTO:-0500
TZNAME:EST
DTSTART:20171105T060000
END:STANDARD
BEGIN:DAYLIGHT
TZOFFSETFROM:-0500
TZOFFSETTO:-0400
TZNAME:EDT
DTSTART:20180311T070000
END:DAYLIGHT
BEGIN:STANDARD
TZOFFSETFROM:-0400
TZOFFSETTO:-0500
TZNAME:EST
DTSTART:20181104T060000
END:STANDARD
BEGIN:DAYLIGHT
TZOFFSETFROM:-0500
TZOFFSETTO:-0400
TZNAME:EDT
DTSTART:20190310T070000
END:DAYLIGHT
BEGIN:STANDARD
TZOFFSETFROM:-0400
TZOFFSETTO:-0500
TZNAME:EST
DTSTART:20191103T060000
END:STANDARD
BEGIN:DAYLIGHT
TZOFFSETFROM:-0500
TZOFFSETTO:-0400
TZNAME:EDT
DTSTART:20200308T070000
END:DAYLIGHT
BEGIN:STANDARD
TZOFFSETFROM:-0400
TZOFFSETTO:-0500
TZNAME:EST
DTSTART:20201101T060000
END:STANDARD
BEGIN:DAYLIGHT
TZOFFSETFROM:-0500
TZOFFSETTO:-0400
TZNAME:EDT
DTSTART:20210314T070000
END:DAYLIGHT
BEGIN:STANDARD
TZOFFSETFROM:-0400
TZOFFSETTO:-0500
TZNAME:EST
DTSTART:20211107T060000
END:STANDARD
BEGIN:DAYLIGHT
TZOFFSETFROM:-0500
TZOFFSETTO:-0400
TZNAME:EDT
DTSTART:20220313T070000
END:DAYLIGHT
BEGIN:STANDARD
TZOFFSETFROM:-0400
TZOFFSETTO:-0500
TZNAME:EST
DTSTART:20221106T060000
END:STANDARD
BEGIN:DAYLIGHT
TZOFFSETFROM:-0500
TZOFFSETTO:-0400
TZNAME:EDT
DTSTART:20230312T070000
END:DAYLIGHT
BEGIN:STANDARD
TZOFFSETFROM:-0400
TZOFFSETTO:-0500
TZNAME:EST
DTSTART:20231105T060000
END:STANDARD
END:VTIMEZONE
BEGIN:VEVENT
DTSTART;TZID=America/New_York:20220922T180000
DTEND;TZID=America/New_York:20220922T193000
DTSTAMP:20260425T112806
CREATED:20220817T224629Z
LAST-MODIFIED:20220817T224629Z
UID:10001661-1663869600-1663875000@geauganews.com
SUMMARY:Get Septic Smart!
DESCRIPTION:Preventative maintenance of your septic not only extends the life of the system\, but also protects your investment\, our water resources\, and the public health. \n\n\n\nJoin the Geauga Soil and Water Conservation District\, Geauga Public Health\, and the Middlefield Library during national “SepticSmart” week for a free\, in-person SepticSmart program on Thursday\, September 22nd from 6:00 – 7:30 pm at the Middlefield Library. \n\n\n\nResource professionals with Geauga Public Health will discuss how a home septic system works\, how to maintain your home sewage treatment system\, and what to do when it appears to not be working properly.  This program is free\, but reservations are required due to limited seating. \n\n\nTo register visit https://geaugalibrary.libcal.com/event/9111862 or call 440-632-1961.  This program is part of the 2022 Safeguarding Our Streams: Stormwater\, Phase 2\, and You education series.
URL:https://geauganews.com/local-event/get-septic-smart-2/
LOCATION:Middlefield Library\, Middlefield
CATEGORIES:Geauga Soil & Water Conservation District
ATTACH;FMTTYPE=image/png:https://geauganews.com/wp-content/uploads/2022/08/Get-Septic-Smart.png
END:VEVENT
BEGIN:VEVENT
DTSTART;TZID=America/New_York:20160912T190000
DTEND;TZID=America/New_York:20160912T203000
DTSTAMP:20260425T112806
CREATED:20160908T143823Z
LAST-MODIFIED:20160908T143823Z
UID:10000607-1473706800-1473712200@geauganews.com
SUMMARY:Community Panel Discusses Opiate and Heroin Crisis
DESCRIPTION:Eight people die a day in Ohio from overdoses! The Let’s Talk Series will explore the topic Epidemic: The Opiate and Heroin Crisis facilitated by Terri McIntee\, Candidate for State Representative\, on Monday\, September 12\, 2016 at the Middlefield Public Library\, 16167 East High Street\, Middlefield\, OH 44062. Doors open at 6:30 pm and presentation at 7:00 pm. \nPanel members are: Judge Terri Stupica – member of Lake/Geauga Opiate Task Force; Craig Swenson – Geauga Jobs and Family Services; Matt Peterson – Lake/Geauga Recovery Center; and Ron Wiech – Middlefield Councilman and Candidate for County Commissioner. \nThe will share their expertise on this out of control epidemic impacting families and neighbors. Panelist will share their perspective of the impact within their own organizations\, and the short term and long term impact of families\, relatives and neighborhoods. This epidemic has no limits and the statistics are overwhelming. Time will be given at the end for Q & A and resource information. \nFor more information leave a message at 440-834-1089 or email mcinteeforohio@gmail.com
URL:https://geauganews.com/local-event/community-panel-discusses-opiate-and-heroin-crisis/
LOCATION:Middlefield Library\, Middlefield
ATTACH;FMTTYPE=image/jpeg:https://geauganews.com/wp-content/uploads/2016/09/640px-Heroin_needle_in_the_street.jpg
ORGANIZER;CN="Terri McIntee":MAILTO:mcinteeforohio@gmail.com
END:VEVENT
BEGIN:VEVENT
DTSTART;TZID=America/New_York:20140227T183000
DTEND;TZID=America/New_York:20140227T203000
DTSTAMP:20260425T112806
CREATED:20140103T185334Z
LAST-MODIFIED:20140103T185334Z
UID:10000294-1393525800-1393533000@geauganews.com
SUMMARY:In Stitches meeting
DESCRIPTION:Do you have any projects that are only half done? \nIn Stitches invites everyone to bring a project to any upcoming meeting in January and February. Look for the group January 9\, January 23\, February 13\, and February 27\, between 6:30 and 8:30 p.m. at the Middlefield Library. \nClick here for more information.
URL:https://geauganews.com/local-event/in-stitches-meeting/
LOCATION:Middlefield Library\, Middlefield
END:VEVENT
BEGIN:VEVENT
DTSTART;TZID=America/New_York:20140213T183000
DTEND;TZID=America/New_York:20140213T203000
DTSTAMP:20260425T112806
CREATED:20140103T185539Z
LAST-MODIFIED:20140103T185539Z
UID:10000296-1392316200-1392323400@geauganews.com
SUMMARY:In Stitches meeting
DESCRIPTION:Do you have any projects that are only half done? \nIn Stitches invites everyone to bring a project to any upcoming meeting in January and February. Look for the group January 9\, January 23\, February 13\, and February 27\, between 6:30 and 8:30 p.m. at the Middlefield Library. \nClick here for more information.
URL:https://geauganews.com/local-event/in-stitches-meeting-3/
LOCATION:Middlefield Library\, Middlefield
END:VEVENT
BEGIN:VEVENT
DTSTART;TZID=America/New_York:20140123T183000
DTEND;TZID=America/New_York:20140123T203000
DTSTAMP:20260425T112806
CREATED:20140103T185635Z
LAST-MODIFIED:20140103T185635Z
UID:10000297-1390501800-1390509000@geauganews.com
SUMMARY:In Stitches meeting
DESCRIPTION:Do you have any projects that are only half done? \nIn Stitches invites everyone to bring a project to any upcoming meeting in January and February. Look for the group January 9\, January 23\, February 13\, and February 27\, between 6:30 and 8:30 p.m. at the Middlefield Library. \nClick here for more information.
URL:https://geauganews.com/local-event/in-stitches-meeting-4/
LOCATION:Middlefield Library\, Middlefield
END:VEVENT
BEGIN:VEVENT
DTSTART;TZID=America/New_York:20140109T183000
DTEND;TZID=America/New_York:20140109T203000
DTSTAMP:20260425T112806
CREATED:20140103T185444Z
LAST-MODIFIED:20140103T185444Z
UID:10000295-1389292200-1389299400@geauganews.com
SUMMARY:In Stitches meeting
DESCRIPTION:Do you have any projects that are only half done? \nIn Stitches invites everyone to bring a project to any upcoming meeting in January and February. Look for the group January 9\, January 23\, February 13\, and February 27\, between 6:30 and 8:30 p.m. at the Middlefield Library. \nClick here for more information.
URL:https://geauganews.com/local-event/in-stitches-meeting-2/
LOCATION:Middlefield Library\, Middlefield
END:VEVENT
END:VCALENDAR