BEGIN:VCALENDAR
VERSION:2.0
PRODID:-//Geauga News - ECPv6.15.20//NONSGML v1.0//EN
CALSCALE:GREGORIAN
METHOD:PUBLISH
X-ORIGINAL-URL:https://geauganews.com
X-WR-CALDESC:Events for Geauga News
REFRESH-INTERVAL;VALUE=DURATION:PT1H
X-Robots-Tag:noindex
X-PUBLISHED-TTL:PT1H
BEGIN:VTIMEZONE
TZID:America/New_York
BEGIN:DAYLIGHT
TZOFFSETFROM:-0500
TZOFFSETTO:-0400
TZNAME:EDT
DTSTART:20120311T070000
END:DAYLIGHT
BEGIN:STANDARD
TZOFFSETFROM:-0400
TZOFFSETTO:-0500
TZNAME:EST
DTSTART:20121104T060000
END:STANDARD
BEGIN:DAYLIGHT
TZOFFSETFROM:-0500
TZOFFSETTO:-0400
TZNAME:EDT
DTSTART:20130310T070000
END:DAYLIGHT
BEGIN:STANDARD
TZOFFSETFROM:-0400
TZOFFSETTO:-0500
TZNAME:EST
DTSTART:20131103T060000
END:STANDARD
BEGIN:DAYLIGHT
TZOFFSETFROM:-0500
TZOFFSETTO:-0400
TZNAME:EDT
DTSTART:20140309T070000
END:DAYLIGHT
BEGIN:STANDARD
TZOFFSETFROM:-0400
TZOFFSETTO:-0500
TZNAME:EST
DTSTART:20141102T060000
END:STANDARD
END:VTIMEZONE
BEGIN:VEVENT
DTSTART;TZID=America/New_York:20130921T170000
DTEND;TZID=America/New_York:20130921T190000
DTSTAMP:20260422T060726
CREATED:20130903T234702Z
LAST-MODIFIED:20130903T234702Z
UID:10000121-1379782800-1379790000@geauganews.com
SUMMARY:Newbury American Legion Hosts Third Annual Pig Roast
DESCRIPTION:Newbury American Legion Post #663 is hosting its Third annual Pig roast dinner\, Saturday\, September 21\, from 5 to 7 p.m. at the post located at 11008 Kinsman Road\, Newbury\, Ohio. Advance tickets $12\,$15 at the door. Free Hot Dog Dinner for children 12 and under. For information call 440-635-6390 or 440-834-1159. \n  \n 
URL:https://geauganews.com/local-event/newbury-american-legion-hosts-third-annual-pig-roast/
LOCATION:Newbury American Legion Post #663\, 11008 Kinsman Road\, Newbury\, 44065
END:VEVENT
END:VCALENDAR