BEGIN:VCALENDAR
VERSION:2.0
PRODID:-//Geauga News - ECPv6.15.20//NONSGML v1.0//EN
CALSCALE:GREGORIAN
METHOD:PUBLISH
X-ORIGINAL-URL:https://geauganews.com
X-WR-CALDESC:Events for Geauga News
REFRESH-INTERVAL;VALUE=DURATION:PT1H
X-Robots-Tag:noindex
X-PUBLISHED-TTL:PT1H
BEGIN:VTIMEZONE
TZID:America/New_York
BEGIN:DAYLIGHT
TZOFFSETFROM:-0500
TZOFFSETTO:-0400
TZNAME:EDT
DTSTART:20120311T070000
END:DAYLIGHT
BEGIN:STANDARD
TZOFFSETFROM:-0400
TZOFFSETTO:-0500
TZNAME:EST
DTSTART:20121104T060000
END:STANDARD
BEGIN:DAYLIGHT
TZOFFSETFROM:-0500
TZOFFSETTO:-0400
TZNAME:EDT
DTSTART:20130310T070000
END:DAYLIGHT
BEGIN:STANDARD
TZOFFSETFROM:-0400
TZOFFSETTO:-0500
TZNAME:EST
DTSTART:20131103T060000
END:STANDARD
BEGIN:DAYLIGHT
TZOFFSETFROM:-0500
TZOFFSETTO:-0400
TZNAME:EDT
DTSTART:20140309T070000
END:DAYLIGHT
BEGIN:STANDARD
TZOFFSETFROM:-0400
TZOFFSETTO:-0500
TZNAME:EST
DTSTART:20141102T060000
END:STANDARD
END:VTIMEZONE
BEGIN:VEVENT
DTSTART;TZID=America/New_York:20130811T230000
DTEND;TZID=America/New_York:20130812T050000
DTSTAMP:20260422T003115
CREATED:20130807T141341Z
LAST-MODIFIED:20130807T141341Z
UID:10000099-1376262000-1376283600@geauganews.com
SUMMARY:Take in the Perseids
DESCRIPTION:Best viewing should be from 1 to 3 a.m.\, so get comfortable\, bring a reclining lawn chair and some blankets\, and lay back to enjoy the show at one of the country’s eight\, and Ohio’s only\, International Dark Sky Parks. \nThere will be no formal program\, but a naturalist and other astronomers will be on hand to answer any questions and point out other interesting objects in the summer sky. \nClick here for event information.
URL:https://geauganews.com/local-event/take-in-the-perseids/
LOCATION:Observatory Park\, Montville
END:VEVENT
END:VCALENDAR